BEGIN:VCALENDAR
VERSION:2.0
PRODID:-//LaFayette First - ECPv6.15.20//NONSGML v1.0//EN
CALSCALE:GREGORIAN
METHOD:PUBLISH
X-ORIGINAL-URL:https://lafayettefirst.life
X-WR-CALDESC:Events for LaFayette First
REFRESH-INTERVAL;VALUE=DURATION:PT1H
X-Robots-Tag:noindex
X-PUBLISHED-TTL:PT1H
BEGIN:VTIMEZONE
TZID:UTC
BEGIN:STANDARD
TZOFFSETFROM:+0000
TZOFFSETTO:+0000
TZNAME:UTC
DTSTART:20240101T000000
END:STANDARD
END:VTIMEZONE
BEGIN:VEVENT
DTSTART;TZID=UTC:20250702T080000
DTEND;TZID=UTC:20250702T170000
DTSTAMP:20260425T001401
CREATED:20250702T152952Z
LAST-MODIFIED:20250702T153029Z
UID:10000639-1751443200-1751475600@lafayettefirst.life
SUMMARY:Grief Share
DESCRIPTION:A grief support group designed to help and encourage anyone who has experienced the death of a spouse\, child\, family member\, or friend. \nIncludes encouraging\, information-packed videos featuring leading grief recovery experts\, small group discussion about video content\, a workbook to use for journaling and personal study exercises that reinforce the weekly session topics.  Topics include: Is This Normal?\, Challenges of Grief\, The Journey of Grief\, Grief and Relationships\, Why?\, Guilt and Anger\, Being Stuck\, Lessons of Grief\, Heaven\, What Do I Live For Now? \nNo cost.  Meets every Thursday night beginning August 7 from 6 to 8pm in LaFayette First Baptist Fellowship Hall.
URL:https://lafayettefirst.life/event/grief-share-4/
LOCATION:LaFayette First Baptist\, 201 N Main Street\, Lafayette\, GA\, 30728\, United States
ATTACH;FMTTYPE=image/jpeg:https://lafayettefirst.life/wp-content/uploads/2025/07/Grief-Share-August-2025.jpg
ORGANIZER;CN="LaFayette First":MAILTO:info@lafayettefirst.life
END:VEVENT
BEGIN:VEVENT
DTSTART;TZID=UTC:20250706T173000
DTEND;TZID=UTC:20250706T203000
DTSTAMP:20260425T001401
CREATED:20250604T143850Z
LAST-MODIFIED:20250604T143850Z
UID:10000633-1751823000-1751833800@lafayettefirst.life
SUMMARY:Airborne
DESCRIPTION:A fun camp for kids who have COMPLETED K-5th grade!  Children choose their track (one for whole week) for camp:  Baseball/Softball\, Soccer\, Pickleball\, Basketball\, cheerleading\, Golf\, Cooking\, Sewing\, Art\, Dance\, Outdoor adventure\, or Engineering.  Dinner served nightly.  Camp is Sunday\, July 6 to Wednesday\, July 9.  Register each child who will participate. \nIf you’d like to help with Camp\, register yourself as a Volunteer and choose which areas you might be interested in helping.  Our children’s director will contact you before camp to confirm where you’ll serve.
URL:https://lafayettefirst.life/event/airborne-2/2025-07-06/
LOCATION:LaFayette First Baptist\, 201 N Main Street\, Lafayette\, GA\, 30728\, United States
ATTACH;FMTTYPE=image/jpeg:https://lafayettefirst.life/wp-content/uploads/2025/06/Camp-Airborne-Reg-Open-scaled.jpg
ORGANIZER;CN="LaFayette First":MAILTO:info@lafayettefirst.life
END:VEVENT
BEGIN:VEVENT
DTSTART;TZID=UTC:20250707T173000
DTEND;TZID=UTC:20250707T203000
DTSTAMP:20260425T001401
CREATED:20250604T143850Z
LAST-MODIFIED:20250604T143850Z
UID:10000634-1751909400-1751920200@lafayettefirst.life
SUMMARY:Airborne
DESCRIPTION:A fun camp for kids who have COMPLETED K-5th grade!  Children choose their track (one for whole week) for camp:  Baseball/Softball\, Soccer\, Pickleball\, Basketball\, cheerleading\, Golf\, Cooking\, Sewing\, Art\, Dance\, Outdoor adventure\, or Engineering.  Dinner served nightly.  Camp is Sunday\, July 6 to Wednesday\, July 9.  Register each child who will participate. \nIf you’d like to help with Camp\, register yourself as a Volunteer and choose which areas you might be interested in helping.  Our children’s director will contact you before camp to confirm where you’ll serve.
URL:https://lafayettefirst.life/event/airborne-2/2025-07-07/
LOCATION:LaFayette First Baptist\, 201 N Main Street\, Lafayette\, GA\, 30728\, United States
ATTACH;FMTTYPE=image/jpeg:https://lafayettefirst.life/wp-content/uploads/2025/06/Camp-Airborne-Reg-Open-scaled.jpg
ORGANIZER;CN="LaFayette First":MAILTO:info@lafayettefirst.life
END:VEVENT
BEGIN:VEVENT
DTSTART;TZID=UTC:20250708T173000
DTEND;TZID=UTC:20250708T203000
DTSTAMP:20260425T001401
CREATED:20250604T143850Z
LAST-MODIFIED:20250604T143850Z
UID:10000635-1751995800-1752006600@lafayettefirst.life
SUMMARY:Airborne
DESCRIPTION:A fun camp for kids who have COMPLETED K-5th grade!  Children choose their track (one for whole week) for camp:  Baseball/Softball\, Soccer\, Pickleball\, Basketball\, cheerleading\, Golf\, Cooking\, Sewing\, Art\, Dance\, Outdoor adventure\, or Engineering.  Dinner served nightly.  Camp is Sunday\, July 6 to Wednesday\, July 9.  Register each child who will participate. \nIf you’d like to help with Camp\, register yourself as a Volunteer and choose which areas you might be interested in helping.  Our children’s director will contact you before camp to confirm where you’ll serve.
URL:https://lafayettefirst.life/event/airborne-2/2025-07-08/
LOCATION:LaFayette First Baptist\, 201 N Main Street\, Lafayette\, GA\, 30728\, United States
ATTACH;FMTTYPE=image/jpeg:https://lafayettefirst.life/wp-content/uploads/2025/06/Camp-Airborne-Reg-Open-scaled.jpg
ORGANIZER;CN="LaFayette First":MAILTO:info@lafayettefirst.life
END:VEVENT
BEGIN:VEVENT
DTSTART;TZID=UTC:20250709T173000
DTEND;TZID=UTC:20250709T203000
DTSTAMP:20260425T001401
CREATED:20250604T143850Z
LAST-MODIFIED:20250604T143850Z
UID:10000636-1752082200-1752093000@lafayettefirst.life
SUMMARY:Airborne
DESCRIPTION:A fun camp for kids who have COMPLETED K-5th grade!  Children choose their track (one for whole week) for camp:  Baseball/Softball\, Soccer\, Pickleball\, Basketball\, cheerleading\, Golf\, Cooking\, Sewing\, Art\, Dance\, Outdoor adventure\, or Engineering.  Dinner served nightly.  Camp is Sunday\, July 6 to Wednesday\, July 9.  Register each child who will participate. \nIf you’d like to help with Camp\, register yourself as a Volunteer and choose which areas you might be interested in helping.  Our children’s director will contact you before camp to confirm where you’ll serve.
URL:https://lafayettefirst.life/event/airborne-2/2025-07-09/
LOCATION:LaFayette First Baptist\, 201 N Main Street\, Lafayette\, GA\, 30728\, United States
ATTACH;FMTTYPE=image/jpeg:https://lafayettefirst.life/wp-content/uploads/2025/06/Camp-Airborne-Reg-Open-scaled.jpg
ORGANIZER;CN="LaFayette First":MAILTO:info@lafayettefirst.life
END:VEVENT
BEGIN:VEVENT
DTSTART;TZID=UTC:20250715T090000
DTEND;TZID=UTC:20250715T140000
DTSTAMP:20260425T001401
CREATED:20250702T145457Z
LAST-MODIFIED:20250702T150411Z
UID:10000637-1752570000-1752588000@lafayettefirst.life
SUMMARY:Trippin' Tuesdays: Cave Spring\, GA
DESCRIPTION:A fun day trip for children and their parents! Meet at the church at 9am. \nWe’ll play in the water and go inside the cave so come prepared for that.  Bring a sack lunch. We might get ice cream there. \nSign up if you plan to go!
URL:https://lafayettefirst.life/event/trippin-tuesdays-cave-spring-ga/
LOCATION:LaFayette First Baptist\, 201 N Main Street\, Lafayette\, GA\, 30728\, United States
ATTACH;FMTTYPE=image/jpeg:https://lafayettefirst.life/wp-content/uploads/2025/07/Trippin-Tuesday-Cave-Spring-scaled.jpg
ORGANIZER;CN="LaFayette First":MAILTO:info@lafayettefirst.life
END:VEVENT
BEGIN:VEVENT
DTSTART;TZID=UTC:20250716T181500
DTEND;TZID=UTC:20250716T191500
DTSTAMP:20260425T001401
CREATED:20250604T141615Z
LAST-MODIFIED:20250604T141824Z
UID:10000624-1752689700-1752693300@lafayettefirst.life
SUMMARY:The Attributes of God
DESCRIPTION:
URL:https://lafayettefirst.life/event/the-attributes-of-god/2025-07-16/
LOCATION:LaFayette First Baptist\, 201 N Main Street\, Lafayette\, GA\, 30728\, United States
ATTACH;FMTTYPE=image/jpeg:https://lafayettefirst.life/wp-content/uploads/2025/06/Attributes-of-God-study-.jpg
ORGANIZER;CN="LaFayette First":MAILTO:info@lafayettefirst.life
END:VEVENT
BEGIN:VEVENT
DTSTART;TZID=UTC:20250720T173000
DTEND;TZID=UTC:20250720T183000
DTSTAMP:20260425T001401
CREATED:20250604T142634Z
LAST-MODIFIED:20250604T180600Z
UID:10000631-1753032600-1753036200@lafayettefirst.life
SUMMARY:Almost a Youth Party
DESCRIPTION:
URL:https://lafayettefirst.life/event/almost-a-youth-party-3/
LOCATION:LaFayette First Baptist\, 201 N Main Street\, Lafayette\, GA\, 30728\, United States
ATTACH;FMTTYPE=image/jpeg:https://lafayettefirst.life/wp-content/uploads/2025/06/Almost-a-Youth-2025-1.jpg
ORGANIZER;CN="LaFayette First":MAILTO:info@lafayettefirst.life
END:VEVENT
BEGIN:VEVENT
DTSTART;TZID=UTC:20250723T181500
DTEND;TZID=UTC:20250723T191500
DTSTAMP:20260425T001401
CREATED:20250604T141615Z
LAST-MODIFIED:20250604T141824Z
UID:10000625-1753294500-1753298100@lafayettefirst.life
SUMMARY:The Attributes of God
DESCRIPTION:
URL:https://lafayettefirst.life/event/the-attributes-of-god/2025-07-23/
LOCATION:LaFayette First Baptist\, 201 N Main Street\, Lafayette\, GA\, 30728\, United States
ATTACH;FMTTYPE=image/jpeg:https://lafayettefirst.life/wp-content/uploads/2025/06/Attributes-of-God-study-.jpg
ORGANIZER;CN="LaFayette First":MAILTO:info@lafayettefirst.life
END:VEVENT
BEGIN:VEVENT
DTSTART;TZID=UTC:20250723T181600
DTEND;TZID=UTC:20250723T190000
DTSTAMP:20260425T001401
CREATED:20250702T151537Z
LAST-MODIFIED:20250702T151537Z
UID:10000638-1753294560-1753297200@lafayettefirst.life
SUMMARY:Church Conference
DESCRIPTION:
URL:https://lafayettefirst.life/event/church-conference-4/
LOCATION:LaFayette First Baptist\, 201 N Main Street\, Lafayette\, GA\, 30728\, United States
ATTACH;FMTTYPE=image/jpeg:https://lafayettefirst.life/wp-content/uploads/2025/07/Church-Conference-July.jpg
ORGANIZER;CN="LaFayette First":MAILTO:info@lafayettefirst.life
END:VEVENT
BEGIN:VEVENT
DTSTART;VALUE=DATE:20250727
DTEND;VALUE=DATE:20250728
DTSTAMP:20260425T001401
CREATED:20250604T143207Z
LAST-MODIFIED:20250604T143324Z
UID:10000632-1753574400-1753660799@lafayettefirst.life
SUMMARY:Promotion Sunday
DESCRIPTION:
URL:https://lafayettefirst.life/event/promotion-sunday-2/
LOCATION:LaFayette First Baptist\, 201 N Main Street\, Lafayette\, GA\, 30728\, United States
ATTACH;FMTTYPE=image/jpeg:https://lafayettefirst.life/wp-content/uploads/2025/06/Promotion-2025.jpg
ORGANIZER;CN="LaFayette First":MAILTO:info@lafayettefirst.life
END:VEVENT
BEGIN:VEVENT
DTSTART;TZID=UTC:20250729T080000
DTEND;TZID=UTC:20250729T170000
DTSTAMP:20260425T001401
CREATED:20250702T155814Z
LAST-MODIFIED:20250702T155814Z
UID:10000640-1753776000-1753808400@lafayettefirst.life
SUMMARY:Trippin' Tuesday: The Lost Sea
DESCRIPTION:A fun day trip for children and their parents! Meet at the church at 9am.\nTake a boat ride on America’s largest underground sea! Cost is $29/adults and $17/kids over age of 3.\nSign up if you plan to go!
URL:https://lafayettefirst.life/event/trippin-tuesday-the-lost-sea/
LOCATION:LaFayette First Baptist\, 201 N Main Street\, Lafayette\, GA\, 30728\, United States
ATTACH;FMTTYPE=image/jpeg:https://lafayettefirst.life/wp-content/uploads/2025/07/Trippin-Tuesday-Lost-Sea-scaled.jpg
ORGANIZER;CN="LaFayette First":MAILTO:info@lafayettefirst.life
END:VEVENT
BEGIN:VEVENT
DTSTART;TZID=UTC:20250730T181500
DTEND;TZID=UTC:20250730T191500
DTSTAMP:20260425T001401
CREATED:20250604T141615Z
LAST-MODIFIED:20250604T141824Z
UID:10000626-1753899300-1753902900@lafayettefirst.life
SUMMARY:The Attributes of God
DESCRIPTION:
URL:https://lafayettefirst.life/event/the-attributes-of-god/2025-07-30/
LOCATION:LaFayette First Baptist\, 201 N Main Street\, Lafayette\, GA\, 30728\, United States
ATTACH;FMTTYPE=image/jpeg:https://lafayettefirst.life/wp-content/uploads/2025/06/Attributes-of-God-study-.jpg
ORGANIZER;CN="LaFayette First":MAILTO:info@lafayettefirst.life
END:VEVENT
END:VCALENDAR