BEGIN:VCALENDAR
VERSION:2.0
PRODID:-//LaFayette First - ECPv6.15.20//NONSGML v1.0//EN
CALSCALE:GREGORIAN
METHOD:PUBLISH
X-WR-CALNAME:LaFayette First
X-ORIGINAL-URL:https://lafayettefirst.life
X-WR-CALDESC:Events for LaFayette First
REFRESH-INTERVAL;VALUE=DURATION:PT1H
X-Robots-Tag:noindex
X-PUBLISHED-TTL:PT1H
BEGIN:VTIMEZONE
TZID:UTC
BEGIN:STANDARD
TZOFFSETFROM:+0000
TZOFFSETTO:+0000
TZNAME:UTC
DTSTART:20230101T000000
END:STANDARD
END:VTIMEZONE
BEGIN:VEVENT
DTSTART;TZID=UTC:20240301T170000
DTEND;TZID=UTC:20240301T190000
DTSTAMP:20260426T013516
CREATED:20240216T143816Z
LAST-MODIFIED:20240216T143848Z
UID:10000288-1709312400-1709319600@lafayettefirst.life
SUMMARY:Father Daughter Date Night
DESCRIPTION:Once Upon a Time…\nAll generations of fathers & daughters are invited to a fun date night with dinner (kid friendly) and fun activities dressed in your best royal attire.  Free event.  Sign up by Friday\, March 1.
URL:https://lafayettefirst.life/event/father-daughter-date-night/
LOCATION:LaFayette First Baptist\, 201 N Main Street\, Lafayette\, GA\, 30728\, United States
ATTACH;FMTTYPE=image/jpeg:https://lafayettefirst.life/wp-content/uploads/2024/02/Daddy-Daughter-Date-Night-2024-scaled.jpg
ORGANIZER;CN="LaFayette First":MAILTO:info@lafayettefirst.life
END:VEVENT
BEGIN:VEVENT
DTSTART;TZID=UTC:20240306T171500
DTEND;TZID=UTC:20240306T180000
DTSTAMP:20260426T013516
CREATED:20240304T170819Z
LAST-MODIFIED:20240304T170836Z
UID:10000296-1709745300-1709748000@lafayettefirst.life
SUMMARY:Family Dinner
DESCRIPTION:Main Menu:  Los Guerreros Mexican Fiesta Night! Includes option of beef or chicken. \nPRICES\nAdults\, Youth\, and Children ages 5 and up are $5.00.  Children 4yrs and under are free.  Family maximum is $20.00. \nRESERVATIONS are required! 
URL:https://lafayettefirst.life/event/family-dinner-5/
LOCATION:LaFayette First Baptist\, 201 N Main Street\, Lafayette\, GA\, 30728\, United States
ATTACH;FMTTYPE=image/jpeg:https://lafayettefirst.life/wp-content/uploads/2024/01/Family-Night-Dinner-copy.jpg
ORGANIZER;CN="LaFayette First":MAILTO:info@lafayettefirst.life
END:VEVENT
BEGIN:VEVENT
DTSTART;TZID=UTC:20240310T100000
DTEND;TZID=UTC:20240310T104500
DTSTAMP:20260426T013516
CREATED:20240220T145453Z
LAST-MODIFIED:20240220T145716Z
UID:10000294-1710064800-1710067500@lafayettefirst.life
SUMMARY:Belong Class
DESCRIPTION:Are you a new member of LaFayette First or you’ve been visiting for awhile and would like to learn more about becoming a member?  This class is for you! \nFor 3 weeks during the Connect Group hour at 10 AM\, you’ll learn about the life of the church and how you can find your place here.  Class will meet in the Choir Room\, near the men’s restroom on the sanctuary floor and across from the Church Office. \nPlease sign up if you plan to attend or let the church office know @ 706-638-3727. \nLooking forward to seeing you!
URL:https://lafayettefirst.life/event/belong-class-2/
LOCATION:LaFayette First Baptist\, 201 N Main Street\, Lafayette\, GA\, 30728\, United States
ATTACH;FMTTYPE=image/jpeg:https://lafayettefirst.life/wp-content/uploads/2024/02/Belong-March-24-updated-scaled.jpg
ORGANIZER;CN="LaFayette First":MAILTO:info@lafayettefirst.life
END:VEVENT
BEGIN:VEVENT
DTSTART;TZID=UTC:20240310T170000
DTEND;TZID=UTC:20240310T180000
DTSTAMP:20260426T013516
CREATED:20240216T151013Z
LAST-MODIFIED:20240216T151038Z
UID:10000289-1710090000-1710093600@lafayettefirst.life
SUMMARY:Ann-X Games
DESCRIPTION:AnnX Games will be a fun night of fellowship with our church family while watching and competing in different tournaments.  Tournaments are open to 6th graders to 100  year olds!  Choose from Ping Pong\, Pool\, Air Hockey\, and Foosball….compete in one\, or all four!  Register now and choose which tournaments you’d like to enter\, or sign up the night of. \nDon’t play?  No worries!  Come hang out with the fam and watch the fun!
URL:https://lafayettefirst.life/event/ann-x-games/
LOCATION:LaFayette First Baptist\, 201 N Main Street\, Lafayette\, GA\, 30728\, United States
ATTACH;FMTTYPE=image/jpeg:https://lafayettefirst.life/wp-content/uploads/2024/02/Annex-Games-scaled.jpg
ORGANIZER;CN="LaFayette First":MAILTO:info@lafayettefirst.life
END:VEVENT
BEGIN:VEVENT
DTSTART;TZID=UTC:20240313T171500
DTEND;TZID=UTC:20240313T180000
DTSTAMP:20260426T013516
CREATED:20240301T142855Z
LAST-MODIFIED:20240301T142855Z
UID:10000297-1710350100-1710352800@lafayettefirst.life
SUMMARY:Family Dinner
DESCRIPTION:Main Menu:  Spaghetti\, Cheesy Bread\, Salad Bar\, Dessert\n   \nChildren’s Line and/or Any Age: Spaghetti\, Bread Sticks\, Carrot Sticks\, Cookies \nPRICES\nAdults\, Youth\, and Children ages 5 and up are $5.00.  Children 4yrs and under are free.  Family maximum is $20.00. \nRESERVATIONS are required! 
URL:https://lafayettefirst.life/event/family-dinner-2/
LOCATION:LaFayette First Baptist\, 201 N Main Street\, Lafayette\, GA\, 30728\, United States
ATTACH;FMTTYPE=image/jpeg:https://lafayettefirst.life/wp-content/uploads/2024/01/Family-Night-Dinner-copy.jpg
ORGANIZER;CN="LaFayette First":MAILTO:info@lafayettefirst.life
END:VEVENT
BEGIN:VEVENT
DTSTART;TZID=UTC:20240316T110000
DTEND;TZID=UTC:20240316T130000
DTSTAMP:20260426T013516
CREATED:20240219T172932Z
LAST-MODIFIED:20240219T172957Z
UID:10000290-1710586800-1710594000@lafayettefirst.life
SUMMARY:Women's Ministry Luncheon
DESCRIPTION:Women’s Ministry “Renew Me” Luncheon is for women of all ages.  Alisha Reagan will be our guest speaker and Heather Baker will bless us through song. \nCost is $15/person until March 10\, $20 after that so don’t delay in signing up!  Bring a friend with you!
URL:https://lafayettefirst.life/event/womens-ministry-luncheon-2/
LOCATION:LaFayette First Baptist\, 201 N Main Street\, Lafayette\, GA\, 30728\, United States
ATTACH;FMTTYPE=image/jpeg:https://lafayettefirst.life/wp-content/uploads/2024/02/Womens-Min-Luncheon-1-scaled.jpg
ORGANIZER;CN="LaFayette First":MAILTO:info@lafayettefirst.life
END:VEVENT
BEGIN:VEVENT
DTSTART;TZID=UTC:20240320T171500
DTEND;TZID=UTC:20240320T180000
DTSTAMP:20260426T013516
CREATED:20240301T153923Z
LAST-MODIFIED:20240301T153953Z
UID:10000300-1710954900-1710957600@lafayettefirst.life
SUMMARY:Family Dinner
DESCRIPTION:Main Menu:  Country Style Steak & Gravy\, Mashed Potatoes\, Green Beans\, Rolls\, Salad Bar\, Dessert\n   \nChildren’s Line and/or Any Age: Chicken Tenders\, Fries\, Carrot Sticks\, Cookies \nPRICES\nAdults\, Youth\, and Children ages 5 and up are $5.00.  Children 4yrs and under are free.  Family maximum is $20.00. \nRESERVATIONS are required! 
URL:https://lafayettefirst.life/event/family-dinner-3/
LOCATION:LaFayette First Baptist\, 201 N Main Street\, Lafayette\, GA\, 30728\, United States
ATTACH;FMTTYPE=image/jpeg:https://lafayettefirst.life/wp-content/uploads/2024/01/Family-Night-Dinner-copy.jpg
ORGANIZER;CN="LaFayette First":MAILTO:info@lafayettefirst.life
END:VEVENT
BEGIN:VEVENT
DTSTART;TZID=UTC:20240323T080000
DTEND;TZID=UTC:20240323T130000
DTSTAMP:20260426T013516
CREATED:20240301T145646Z
LAST-MODIFIED:20240301T145711Z
UID:10000298-1711180800-1711198800@lafayettefirst.life
SUMMARY:Volunteers Needed @ Community Egg Hop
DESCRIPTION:Sign up here to help at the Community Egg Hop on Saturday\, March 23. \nYou can sign up for Set Up\, The Hub\, Church Table\, Inflatables or Clean Up.  Sign ups are in 30 minute increments and you can sign up for as many things and times you want until the times have been filled. \nIt just doesn’t work without you!  Thank you for volunteering!
URL:https://lafayettefirst.life/event/volunteers-needed-community-egg-hop/
LOCATION:LaFayette First Baptist\, 201 N Main Street\, Lafayette\, GA\, 30728\, United States
ATTACH;FMTTYPE=image/jpeg:https://lafayettefirst.life/wp-content/uploads/2024/03/Egg-Hop-scaled.jpg
ORGANIZER;CN="LaFayette First":MAILTO:info@lafayettefirst.life
END:VEVENT
BEGIN:VEVENT
DTSTART;TZID=UTC:20240324T110000
DTEND;TZID=UTC:20240324T120000
DTSTAMP:20260426T013516
CREATED:20240216T161137Z
LAST-MODIFIED:20240216T162741Z
UID:10000293-1711278000-1711281600@lafayettefirst.life
SUMMARY:Palm Sunday
DESCRIPTION:Palm Sunday commemorates when Jesus rode into Jerusalem on a donkey right before his death. The people cried\, “Hosanna to the Son of David!” and greeted Him with expectation.   He would die for the sins of the world (our sins) just three days later. \nCome and join us as we celebrate His coming as our Lord and Savior!
URL:https://lafayettefirst.life/event/palm-sunday/
LOCATION:LaFayette First Baptist\, 201 N Main Street\, Lafayette\, GA\, 30728\, United States
ATTACH;FMTTYPE=image/jpeg:https://lafayettefirst.life/wp-content/uploads/2024/02/Palm-Sunday-scaled.jpg
ORGANIZER;CN="LaFayette First":MAILTO:info@lafayettefirst.life
END:VEVENT
BEGIN:VEVENT
DTSTART;TZID=UTC:20240327T171500
DTEND;TZID=UTC:20240327T180000
DTSTAMP:20260426T013516
CREATED:20240301T154509Z
LAST-MODIFIED:20240301T154509Z
UID:10000301-1711559700-1711562400@lafayettefirst.life
SUMMARY:Family Dinner
DESCRIPTION:Main Menu:  Baked Ham\, Fried Okra\, Pinto Beans\, Mac & Cheese\, Side Salad\, Rolls\, Dessert\n   \nChildren’s Line and/or Any Age: Mac & Cheese\, Fruit\, Rolls\, Cookies \nPRICES\nAdults\, Youth\, and Children ages 5 and up are $5.00.  Children 4yrs and under are free.  Family maximum is $20.00. \nRESERVATIONS are required! 
URL:https://lafayettefirst.life/event/family-dinner-4/
LOCATION:LaFayette First Baptist\, 201 N Main Street\, Lafayette\, GA\, 30728\, United States
ATTACH;FMTTYPE=image/jpeg:https://lafayettefirst.life/wp-content/uploads/2024/01/Family-Night-Dinner-copy.jpg
ORGANIZER;CN="LaFayette First":MAILTO:info@lafayettefirst.life
END:VEVENT
BEGIN:VEVENT
DTSTART;TZID=UTC:20240329T183000
DTEND;TZID=UTC:20240329T193000
DTSTAMP:20260426T013516
CREATED:20240216T154616Z
LAST-MODIFIED:20240216T154709Z
UID:10000291-1711737000-1711740600@lafayettefirst.life
SUMMARY:Good Friday Service
DESCRIPTION:
URL:https://lafayettefirst.life/event/good-friday-service/
LOCATION:LaFayette First Baptist\, 201 N Main Street\, Lafayette\, GA\, 30728\, United States
ATTACH;FMTTYPE=image/jpeg:https://lafayettefirst.life/wp-content/uploads/2024/02/Good-Friday-Service-2024-scaled.jpg
ORGANIZER;CN="LaFayette First":MAILTO:info@lafayettefirst.life
END:VEVENT
END:VCALENDAR