BEGIN:VCALENDAR
VERSION:2.0
PRODID:-//LaFayette First - ECPv6.15.20//NONSGML v1.0//EN
CALSCALE:GREGORIAN
METHOD:PUBLISH
X-ORIGINAL-URL:https://lafayettefirst.life
X-WR-CALDESC:Events for LaFayette First
REFRESH-INTERVAL;VALUE=DURATION:PT1H
X-Robots-Tag:noindex
X-PUBLISHED-TTL:PT1H
BEGIN:VTIMEZONE
TZID:UTC
BEGIN:STANDARD
TZOFFSETFROM:+0000
TZOFFSETTO:+0000
TZNAME:UTC
DTSTART:20230101T000000
END:STANDARD
END:VTIMEZONE
BEGIN:VEVENT
DTSTART;TZID=UTC:20240104T180000
DTEND;TZID=UTC:20240104T200000
DTSTAMP:20260426T043821
CREATED:20231213T173518Z
LAST-MODIFIED:20231213T173518Z
UID:10000265-1704391200-1704398400@lafayettefirst.life
SUMMARY:Grief Share
DESCRIPTION:
URL:https://lafayettefirst.life/event/grief-share/
LOCATION:LaFayette First Baptist\, 201 N Main Street\, Lafayette\, GA\, 30728\, United States
ATTACH;FMTTYPE=image/jpeg:https://lafayettefirst.life/wp-content/uploads/2023/12/Grief-Share-Jan.jpg
ORGANIZER;CN="LaFayette First":MAILTO:info@lafayettefirst.life
END:VEVENT
BEGIN:VEVENT
DTSTART;TZID=UTC:20240107T170000
DTEND;TZID=UTC:20240107T183000
DTSTAMP:20260426T043821
CREATED:20231213T170719Z
LAST-MODIFIED:20231213T170800Z
UID:10000263-1704646800-1704652200@lafayettefirst.life
SUMMARY:2024-2025 VISION NIGHT
DESCRIPTION:All ages are invited to join us for a fun night of food and activities as we cast our vision for our church for 2024 and 2025!
URL:https://lafayettefirst.life/event/2024-2025-vision-night/
LOCATION:LaFayette First Baptist\, 201 N Main Street\, Lafayette\, GA\, 30728\, United States
ATTACH;FMTTYPE=image/jpeg:https://lafayettefirst.life/wp-content/uploads/2023/12/vision-night-2024-scaled.jpg
ORGANIZER;CN="LaFayette First":MAILTO:info@lafayettefirst.life
END:VEVENT
BEGIN:VEVENT
DTSTART;TZID=UTC:20240110T180000
DTEND;TZID=UTC:20240110T181500
DTSTAMP:20260426T043821
CREATED:20240108T154102Z
LAST-MODIFIED:20240108T154106Z
UID:10000271-1704909600-1704910500@lafayettefirst.life
SUMMARY:Kids Worship: K-5th Graders
DESCRIPTION:
URL:https://lafayettefirst.life/event/kids-worship-2/
LOCATION:GA
ATTACH;FMTTYPE=image/jpeg:https://lafayettefirst.life/wp-content/uploads/2024/01/Kids-Worship-1.jpg
END:VEVENT
BEGIN:VEVENT
DTSTART;TZID=UTC:20240111T100000
DTEND;TZID=UTC:20240111T120000
DTSTAMP:20260426T043821
CREATED:20231213T171358Z
LAST-MODIFIED:20231213T172202Z
UID:10000264-1704967200-1704974400@lafayettefirst.life
SUMMARY:Jesus & Women: Ladies Bible Study
DESCRIPTION:
URL:https://lafayettefirst.life/event/jesus-women-ladies-bible-study/
LOCATION:LaFayette First Baptist\, 201 N Main Street\, Lafayette\, GA\, 30728\, United States
ATTACH;FMTTYPE=image/jpeg:https://lafayettefirst.life/wp-content/uploads/2023/12/Thurs-Ladies-BS-scaled.jpg
ORGANIZER;CN="LaFayette First":MAILTO:info@lafayettefirst.life
END:VEVENT
BEGIN:VEVENT
DTSTART;TZID=UTC:20240113T100000
DTEND;TZID=UTC:20240113T120000
DTSTAMP:20260426T043821
CREATED:20231213T174257Z
LAST-MODIFIED:20231221T163755Z
UID:10000266-1705140000-1705147200@lafayettefirst.life
SUMMARY:Women of the Word
DESCRIPTION:
URL:https://lafayettefirst.life/event/women-of-the-word/
LOCATION:LaFayette First Baptist\, 201 N Main Street\, Lafayette\, GA\, 30728\, United States
ATTACH;FMTTYPE=image/jpeg:https://lafayettefirst.life/wp-content/uploads/2023/12/Women-of-Word-scaled.jpg
ORGANIZER;CN="LaFayette First":MAILTO:info@lafayettefirst.life
END:VEVENT
BEGIN:VEVENT
DTSTART;TZID=UTC:20240114T143000
DTEND;TZID=UTC:20240114T170000
DTSTAMP:20260426T043821
CREATED:20240104T172347Z
LAST-MODIFIED:20240104T172349Z
UID:10000272-1705242600-1705251600@lafayettefirst.life
SUMMARY:Gl-ice Skating for Youth & Parents
DESCRIPTION:Cost: $10 \nLet our Next Gen Pastor\, Roger Stansell\, know as soon as possible since a reservation is required.
URL:https://lafayettefirst.life/event/gl-icing-for-youth-parents-2/
LOCATION:LaFayette First Baptist\, 201 N Main Street\, Lafayette\, GA\, 30728\, United States
ATTACH;FMTTYPE=image/jpeg:https://lafayettefirst.life/wp-content/uploads/2024/01/Ice-Skating-scaled.jpg
ORGANIZER;CN="LaFayette First":MAILTO:info@lafayettefirst.life
END:VEVENT
BEGIN:VEVENT
DTSTART;TZID=UTC:20240124T171500
DTEND;TZID=UTC:20240124T180000
DTSTAMP:20260426T043821
CREATED:20240117T183031Z
LAST-MODIFIED:20240126T145003Z
UID:10000273-1706116500-1706119200@lafayettefirst.life
SUMMARY:Family Dinner Night
DESCRIPTION:Main Line:  Spaghetti\, garlic toast\, salad bar\, dessert.\n   \nChildren’s Line and/or Any Age: Spaghetti\, breadsticks\, fruit\, and cookies \nPRICES\nAdults\, Youth\, and Children ages 5 and up are $5.00.  Children 4yrs and under are free.  Family maximum is $20.00. \nRESERVATIONS are required! 
URL:https://lafayettefirst.life/event/family-dinner-night-9/
LOCATION:LaFayette First Baptist\, 201 N Main Street\, Lafayette\, GA\, 30728\, United States
CATEGORIES:Wednesday Nights
ATTACH;FMTTYPE=image/jpeg:https://lafayettefirst.life/wp-content/uploads/2023/09/Family-Night-Dinner.jpg
ORGANIZER;CN="LaFayette First":MAILTO:info@lafayettefirst.life
END:VEVENT
BEGIN:VEVENT
DTSTART;TZID=UTC:20240127T180000
DTEND;TZID=UTC:20240127T200000
DTSTAMP:20260426T043821
CREATED:20240117T184545Z
LAST-MODIFIED:20240117T184548Z
UID:10000268-1706378400-1706385600@lafayettefirst.life
SUMMARY:Men's Night
DESCRIPTION:Deadline to register is Thursday\, January 25.
URL:https://lafayettefirst.life/event/mens-night-2-2/
LOCATION:LaFayette First Baptist\, 201 N Main Street\, Lafayette\, GA\, 30728\, United States
ATTACH;FMTTYPE=image/jpeg:https://lafayettefirst.life/wp-content/uploads/2024/01/Mens-Night-scaled.jpg
ORGANIZER;CN="LaFayette First":MAILTO:info@lafayettefirst.life
END:VEVENT
BEGIN:VEVENT
DTSTART;TZID=UTC:20240128T163000
DTEND;TZID=UTC:20240128T173000
DTSTAMP:20260426T043821
CREATED:20231213T174640Z
LAST-MODIFIED:20231213T174640Z
UID:10000267-1706459400-1706463000@lafayettefirst.life
SUMMARY:Sunday Supper
DESCRIPTION:
URL:https://lafayettefirst.life/event/sunday-supper-2/
LOCATION:LaFayette Housing Authority\, 300 Oak St\, LaFayette\, GA\, 30728\, United States
ATTACH;FMTTYPE=image/jpeg:https://lafayettefirst.life/wp-content/uploads/2023/12/Sunday-Supper-scaled.jpg
ORGANIZER;CN="LaFayette First":MAILTO:info@lafayettefirst.life
END:VEVENT
BEGIN:VEVENT
DTSTART;TZID=UTC:20240130T120000
DTEND;TZID=UTC:20240130T140000
DTSTAMP:20260426T043821
CREATED:20240108T161811Z
LAST-MODIFIED:20240108T161815Z
UID:10000269-1706616000-1706623200@lafayettefirst.life
SUMMARY:J.O.Y. Lunch & a Movie
DESCRIPTION:Enjoy a catered soup/sandwich lunch in the fellowship hall and then move to the Annex for a movie.  “Breakthrough”\, a movie based on an incredible true story\, is an enthralling reminder that faith and love can create a mountain of hope\, and sometimes even a miracle. \nCost: $12 per person.  Deadline to sign-up is January 23rd.
URL:https://lafayettefirst.life/event/j-o-y-lunch-a-movie-2-2/
LOCATION:LaFayette First Baptist\, 201 N Main Street\, Lafayette\, GA\, 30728\, United States
ATTACH;FMTTYPE=image/jpeg:https://lafayettefirst.life/wp-content/uploads/2023/12/JOY-Lunch-and-Movie-1-scaled.jpg
ORGANIZER;CN="LaFayette First":MAILTO:info@lafayettefirst.life
END:VEVENT
BEGIN:VEVENT
DTSTART;TZID=UTC:20240131T171500
DTEND;TZID=UTC:20240131T180000
DTSTAMP:20260426T043821
CREATED:20240117T184015Z
LAST-MODIFIED:20240126T145103Z
UID:10000274-1706721300-1706724000@lafayettefirst.life
SUMMARY:Family Dinner Night
DESCRIPTION:Main Menu:  Soup (2 kinds)\, sandwiches\, fruit\, salad bar\, dessert\n   \nChildren’s Line and/or Any Age: Mac and Cheese\, carrot sticks\, fruit\, and cookies. \nPRICES\nAdults\, Youth\, and Children ages 5 and up are $5.00.  Children 4yrs and under are free.  Family maximum is $20.00. \nRESERVATIONS are required! 
URL:https://lafayettefirst.life/event/family-dinner-night-10/
LOCATION:LaFayette First Baptist\, 201 N Main Street\, Lafayette\, GA\, 30728\, United States
CATEGORIES:Wednesday Nights
ATTACH;FMTTYPE=image/jpeg:https://lafayettefirst.life/wp-content/uploads/2023/09/Family-Night-Dinner.jpg
ORGANIZER;CN="LaFayette First":MAILTO:info@lafayettefirst.life
END:VEVENT
END:VCALENDAR