BEGIN:VCALENDAR
VERSION:2.0
PRODID:-//LaFayette First - ECPv6.15.20//NONSGML v1.0//EN
CALSCALE:GREGORIAN
METHOD:PUBLISH
X-ORIGINAL-URL:https://lafayettefirst.life
X-WR-CALDESC:Events for LaFayette First
REFRESH-INTERVAL;VALUE=DURATION:PT1H
X-Robots-Tag:noindex
X-PUBLISHED-TTL:PT1H
BEGIN:VTIMEZONE
TZID:UTC
BEGIN:STANDARD
TZOFFSETFROM:+0000
TZOFFSETTO:+0000
TZNAME:UTC
DTSTART:20240101T000000
END:STANDARD
END:VTIMEZONE
BEGIN:VEVENT
DTSTART;TZID=UTC:20251218T120000
DTEND;TZID=UTC:20251218T180000
DTSTAMP:20260425T141501
CREATED:20251124T185953Z
LAST-MODIFIED:20251124T185953Z
UID:10000705-1766059200-1766080800@lafayettefirst.life
SUMMARY:Share Your Blessings
DESCRIPTION:
URL:https://lafayettefirst.life/event/share-your-blessings-2/
LOCATION:LaFayette First Baptist\, 201 N Main Street\, Lafayette\, GA\, 30728\, United States
ATTACH;FMTTYPE=image/jpeg:https://lafayettefirst.life/wp-content/uploads/2025/11/Share-Your-Blessings-December-scaled.jpg
ORGANIZER;CN="LaFayette First":MAILTO:info@lafayettefirst.life
END:VEVENT
BEGIN:VEVENT
DTSTART;TZID=UTC:20251221T170000
DTEND;TZID=UTC:20251221T190000
DTSTAMP:20260425T141501
CREATED:20251124T192037Z
LAST-MODIFIED:20251124T192037Z
UID:10000708-1766336400-1766343600@lafayettefirst.life
SUMMARY:Christmas Caroling
DESCRIPTION:
URL:https://lafayettefirst.life/event/christmas-caroling-2/
LOCATION:LaFayette First Baptist\, 201 N Main Street\, Lafayette\, GA\, 30728\, United States
ATTACH;FMTTYPE=image/jpeg:https://lafayettefirst.life/wp-content/uploads/2025/11/Christmas-Caroling-2025.jpg
ORGANIZER;CN="LaFayette First":MAILTO:info@lafayettefirst.life
END:VEVENT
BEGIN:VEVENT
DTSTART;TZID=UTC:20251224T170000
DTEND;TZID=UTC:20251224T180000
DTSTAMP:20260425T141501
CREATED:20251124T192150Z
LAST-MODIFIED:20251124T192150Z
UID:10000709-1766595600-1766599200@lafayettefirst.life
SUMMARY:Christmas Eve Communion Service
DESCRIPTION:
URL:https://lafayettefirst.life/event/christmas-eve-communion-service-2/
LOCATION:LaFayette First Baptist\, 201 N Main Street\, Lafayette\, GA\, 30728\, United States
ATTACH;FMTTYPE=image/jpeg:https://lafayettefirst.life/wp-content/uploads/2025/11/Christmas-Communion-2025-scaled.jpg
ORGANIZER;CN="LaFayette First":MAILTO:info@lafayettefirst.life
END:VEVENT
BEGIN:VEVENT
DTSTART;TZID=UTC:20260108T180000
DTEND;TZID=UTC:20260108T200000
DTSTAMP:20260425T141501
CREATED:20260108T175653Z
LAST-MODIFIED:20260108T175948Z
UID:10000714-1767895200-1767902400@lafayettefirst.life
SUMMARY:Grief Share
DESCRIPTION:A grief support group designed to help and encourage anyone who has experienced the death of a spouse\, child\, family member\, or friend. \nIncludes encouraging\, information-packed videos featuring leading grief recovery experts\, small group discussion about video content\, a workbook to use for journaling and personal study exercises that reinforce the weekly session topics.  Topics include: Is This Normal?\, Challenges of Grief\, The Journey of Grief\, Grief and Relationships\, Why?\, Guilt and Anger\, Being Stuck\, Lessons of Grief\, Heaven\, What Do I Live For Now? \nMeets every Thursday night beginning January 8 and running into April from 6 to 8pm in LaFayette First Baptist Fellowship Hall.
URL:https://lafayettefirst.life/event/grief-share-6/
LOCATION:LaFayette First Baptist\, 201 N Main Street\, Lafayette\, GA\, 30728\, United States
ATTACH;FMTTYPE=image/jpeg:https://lafayettefirst.life/wp-content/uploads/2026/01/Grief-Share.jpg
ORGANIZER;CN="LaFayette First":MAILTO:info@lafayettefirst.life
END:VEVENT
BEGIN:VEVENT
DTSTART;VALUE=DATE:20260111
DTEND;VALUE=DATE:20260112
DTSTAMP:20260425T141501
CREATED:20260108T180715Z
LAST-MODIFIED:20260108T181137Z
UID:10000716-1768089600-1768175999@lafayettefirst.life
SUMMARY:Read Through the Bible?
DESCRIPTION:
URL:https://lafayettefirst.life/event/did-you-read-through-the-bible-in-2025/
LOCATION:LaFayette First Baptist\, 201 N Main Street\, Lafayette\, GA\, 30728\, United States
ATTACH;FMTTYPE=image/jpeg:https://lafayettefirst.life/wp-content/uploads/2026/01/Read-Thru-the-Bible-1-scaled.jpg
ORGANIZER;CN="LaFayette First":MAILTO:info@lafayettefirst.life
END:VEVENT
BEGIN:VEVENT
DTSTART;TZID=UTC:20260111T100000
DTEND;TZID=UTC:20260111T104500
DTSTAMP:20260425T141501
CREATED:20260108T180231Z
LAST-MODIFIED:20260108T180300Z
UID:10000715-1768125600-1768128300@lafayettefirst.life
SUMMARY:Belong Class
DESCRIPTION:Are you a new member of LaFayette First or you’ve been visiting for awhile and would like to learn more about becoming a member?  This class is for you! \nFor 3 weeks during the Connect Group hour at 10am\, you’ll learn about the life of the church and how you can find your place here.  Class will meet in the Choir Room\, near the men’s restroom on the sanctuary floor and across from the Church Office. \nPlease sign up if you plan to attend so we know how many to prepare for. \nLooking forward to seeing you!
URL:https://lafayettefirst.life/event/belong-class-3/
LOCATION:LaFayette First Baptist\, 201 N Main Street\, Lafayette\, GA\, 30728\, United States
ATTACH;FMTTYPE=image/jpeg:https://lafayettefirst.life/wp-content/uploads/2026/01/belong-class-with-dates-scaled.jpg
ORGANIZER;CN="LaFayette First":MAILTO:info@lafayettefirst.life
END:VEVENT
BEGIN:VEVENT
DTSTART;TZID=UTC:20260111T170000
DTEND;TZID=UTC:20260111T180000
DTSTAMP:20260425T141501
CREATED:20260108T181531Z
LAST-MODIFIED:20260108T181531Z
UID:10000717-1768150800-1768154400@lafayettefirst.life
SUMMARY:PRAY FIRST!
DESCRIPTION:We will be joining together at LaFayette Church of God for corporate prayer.
URL:https://lafayettefirst.life/event/pray-first/
LOCATION:LaFayette First Baptist\, 201 N Main Street\, Lafayette\, GA\, 30728\, United States
ATTACH;FMTTYPE=image/jpeg:https://lafayettefirst.life/wp-content/uploads/2026/01/PRAYFIRST-2026-DATES-16x9-NORTH-GA-scaled.jpg
ORGANIZER;CN="LaFayette First":MAILTO:info@lafayettefirst.life
END:VEVENT
BEGIN:VEVENT
DTSTART;TZID=UTC:20260114T171500
DTEND;TZID=UTC:20260114T180000
DTSTAMP:20260425T141501
CREATED:20260108T175025Z
LAST-MODIFIED:20260108T175025Z
UID:10000712-1768410900-1768413600@lafayettefirst.life
SUMMARY:Family Dinner
DESCRIPTION:Menu:  Chicken Breast\, Rice w/Gravy\, Sweet Potatoes\, Green Beans\, Rolls Dessert\nPRICES:  Adults\, Youth\, and Children ages 5 and up are $7.00.  Children 4yrs and under are free.  Family maximum is $28.00. \nRESERVATIONS are required! 
URL:https://lafayettefirst.life/event/family-dinner-52/
LOCATION:LaFayette First Baptist\, 201 N Main Street\, Lafayette\, GA\, 30728\, United States
ATTACH;FMTTYPE=image/jpeg:https://lafayettefirst.life/wp-content/uploads/2026/01/Family-Dinner-Aug2025-UNDATED.jpg
ORGANIZER;CN="LaFayette First":MAILTO:info@lafayettefirst.life
END:VEVENT
BEGIN:VEVENT
DTSTART;TZID=UTC:20260128T171500
DTEND;TZID=UTC:20260128T180000
DTSTAMP:20260425T141501
CREATED:20260126T192122Z
LAST-MODIFIED:20260126T192159Z
UID:10000722-1769620500-1769623200@lafayettefirst.life
SUMMARY:Family Dinner
DESCRIPTION:Menu:  Country Fried Steak\, Mashed Potatoes\, Okra\, Tomatoes\, Biscuits\, Gravy\, Dessert\nChildren’s Menu:  Chicken Tenders\, Fries\nPRICES\nAdults\, Youth\, and Children ages 5 and up are $7.00.  Children 4yrs and under are free.  Family maximum is $28.00. \nRESERVATIONS are required! 
URL:https://lafayettefirst.life/event/family-dinner-53/
LOCATION:LaFayette First Baptist\, 201 N Main Street\, Lafayette\, GA\, 30728\, United States
ATTACH;FMTTYPE=image/jpeg:https://lafayettefirst.life/wp-content/uploads/2026/01/Family-Dinner-Aug2025-UNDATED.jpg
ORGANIZER;CN="LaFayette First":MAILTO:info@lafayettefirst.life
END:VEVENT
BEGIN:VEVENT
DTSTART;VALUE=DATE:20260130
DTEND;VALUE=DATE:20260131
DTSTAMP:20260425T141501
CREATED:20260108T181914Z
LAST-MODIFIED:20260108T181914Z
UID:10000718-1769731200-1769817599@lafayettefirst.life
SUMMARY:Deadline for CentriKid Registrations
DESCRIPTION:
URL:https://lafayettefirst.life/event/deadline-for-centrikid-registrations/
LOCATION:LaFayette First Baptist\, 201 N Main Street\, Lafayette\, GA\, 30728\, United States
ATTACH;FMTTYPE=image/jpeg:https://lafayettefirst.life/wp-content/uploads/2025/10/Centrikid-2026-scaled.jpg
ORGANIZER;CN="LaFayette First":MAILTO:info@lafayettefirst.life
END:VEVENT
BEGIN:VEVENT
DTSTART;TZID=UTC:20260201T093000
DTEND;TZID=UTC:20260201T104500
DTSTAMP:20260425T141501
CREATED:20260126T183750Z
LAST-MODIFIED:20260126T183750Z
UID:10000720-1769938200-1769942700@lafayettefirst.life
SUMMARY:Institute Workshop
DESCRIPTION:All adults and youth are invited to attend.  For those attending breakfast will be served @ 9:30am in the Fellowship Hall
URL:https://lafayettefirst.life/event/institute-workshop-5/
LOCATION:LaFayette First Baptist\, 201 N Main Street\, Lafayette\, GA\, 30728\, United States
ATTACH;FMTTYPE=image/jpeg:https://lafayettefirst.life/wp-content/uploads/2026/01/Institute-Workshop-FEB-2026-scaled.jpg
ORGANIZER;CN="LaFayette First":MAILTO:info@lafayettefirst.life
END:VEVENT
BEGIN:VEVENT
DTSTART;TZID=UTC:20260201T110000
DTEND;TZID=UTC:20260201T120000
DTSTAMP:20260425T141501
CREATED:20260129T194515Z
LAST-MODIFIED:20260129T194515Z
UID:10000734-1769943600-1769947200@lafayettefirst.life
SUMMARY:Who's Your One
DESCRIPTION:Launches today! Be sure to join us for morning worship to find out what this is all about!
URL:https://lafayettefirst.life/event/whos-your-one/
LOCATION:LaFayette First Baptist\, 201 N Main Street\, Lafayette\, GA\, 30728\, United States
ATTACH;FMTTYPE=image/jpeg:https://lafayettefirst.life/wp-content/uploads/2026/01/Whos-Your-One-nodate-scaled.jpg
ORGANIZER;CN="LaFayette First":MAILTO:info@lafayettefirst.life
END:VEVENT
BEGIN:VEVENT
DTSTART;TZID=UTC:20260202T103000
DTEND;TZID=UTC:20260202T113000
DTSTAMP:20260425T141501
CREATED:20260127T155737Z
LAST-MODIFIED:20260127T155737Z
UID:10000724-1770028200-1770031800@lafayettefirst.life
SUMMARY:Women on Mission
DESCRIPTION:All ladies of the church are invited to attend.
URL:https://lafayettefirst.life/event/women-on-mission-17/
LOCATION:LaFayette First Baptist\, 201 N Main Street\, Lafayette\, GA\, 30728\, United States
ATTACH;FMTTYPE=image/jpeg:https://lafayettefirst.life/wp-content/uploads/2026/01/WOM-Argentina-Presentation-scaled.jpg
ORGANIZER;CN="LaFayette First":MAILTO:info@lafayettefirst.life
END:VEVENT
BEGIN:VEVENT
DTSTART;TZID=UTC:20260204T171500
DTEND;TZID=UTC:20260204T180000
DTSTAMP:20260425T141501
CREATED:20260129T192853Z
LAST-MODIFIED:20260129T192853Z
UID:10000731-1770225300-1770228000@lafayettefirst.life
SUMMARY:Family Dinner
DESCRIPTION:Menu: Breakfast
URL:https://lafayettefirst.life/event/family-dinner-55/
LOCATION:LaFayette First Baptist\, 201 N Main Street\, Lafayette\, GA\, 30728\, United States
ATTACH;FMTTYPE=image/jpeg:https://lafayettefirst.life/wp-content/uploads/2026/01/Family-Dinner-Aug2025-UNDATED.jpg
ORGANIZER;CN="LaFayette First":MAILTO:info@lafayettefirst.life
END:VEVENT
BEGIN:VEVENT
DTSTART;TZID=UTC:20260204T181500
DTEND;TZID=UTC:20260204T190000
DTSTAMP:20260425T141501
CREATED:20260127T155250Z
LAST-MODIFIED:20260127T155250Z
UID:10000723-1770228900-1770231600@lafayettefirst.life
SUMMARY:Institute Courses
DESCRIPTION:Wednesdays @ 6:15pm beginning February 4th.
URL:https://lafayettefirst.life/event/institute-courses/
LOCATION:LaFayette First Baptist\, 201 N Main Street\, Lafayette\, GA\, 30728\, United States
ATTACH;FMTTYPE=image/jpeg:https://lafayettefirst.life/wp-content/uploads/2026/01/institute-courses-2026-scaled.jpg
ORGANIZER;CN="LaFayette First":MAILTO:info@lafayettefirst.life
END:VEVENT
BEGIN:VEVENT
DTSTART;TZID=UTC:20260205T120000
DTEND;TZID=UTC:20260205T133000
DTSTAMP:20260425T141501
CREATED:20260108T175403Z
LAST-MODIFIED:20260108T175403Z
UID:10000713-1770292800-1770298200@lafayettefirst.life
SUMMARY:JOY Luncheon
DESCRIPTION:All senior adults are invited to join us for our JOY lunch on Thursday\, February 5 at noon. There is no cost. DEADLINE: Sign up by January 26.
URL:https://lafayettefirst.life/event/joy-luncheon/
LOCATION:LaFayette First Baptist\, 201 N Main Street\, Lafayette\, GA\, 30728\, United States
ATTACH;FMTTYPE=image/jpeg:https://lafayettefirst.life/wp-content/uploads/2026/01/JOY-Luncheon-Bill-Race-scaled.jpg
ORGANIZER;CN="LaFayette First":MAILTO:info@lafayettefirst.life
END:VEVENT
BEGIN:VEVENT
DTSTART;TZID=UTC:20260206T180000
DTEND;TZID=UTC:20260206T200000
DTSTAMP:20260425T141501
CREATED:20260127T155915Z
LAST-MODIFIED:20260127T155915Z
UID:10000725-1770400800-1770408000@lafayettefirst.life
SUMMARY:Gal'entines Game Night
DESCRIPTION:Hosted by the Women’s Ministry Team.
URL:https://lafayettefirst.life/event/galentines-game-night/
LOCATION:LaFayette First Baptist\, 201 N Main Street\, Lafayette\, GA\, 30728\, United States
ATTACH;FMTTYPE=image/png:https://lafayettefirst.life/wp-content/uploads/2026/01/Women-Galentine.png
ORGANIZER;CN="LaFayette First":MAILTO:info@lafayettefirst.life
END:VEVENT
BEGIN:VEVENT
DTSTART;TZID=UTC:20260209T190000
DTEND;TZID=UTC:20260209T203000
DTSTAMP:20260425T141501
CREATED:20260127T160105Z
LAST-MODIFIED:20260127T160105Z
UID:10000727-1770663600-1770669000@lafayettefirst.life
SUMMARY:Book Club
DESCRIPTION:
URL:https://lafayettefirst.life/event/book-club-3/
LOCATION:LaFayette First Baptist\, 201 N Main Street\, Lafayette\, GA\, 30728\, United States
ATTACH;FMTTYPE=image/jpeg:https://lafayettefirst.life/wp-content/uploads/2026/01/Book-Club-Feb-scaled.jpg
ORGANIZER;CN="LaFayette First":MAILTO:info@lafayettefirst.life
END:VEVENT
BEGIN:VEVENT
DTSTART;TZID=UTC:20260211T171500
DTEND;TZID=UTC:20260211T180000
DTSTAMP:20260425T141501
CREATED:20260129T192206Z
LAST-MODIFIED:20260129T194047Z
UID:10000730-1770830100-1770832800@lafayettefirst.life
SUMMARY:Family Dinner
DESCRIPTION:Menu: Meatloaf\, Pinto Beans\, Mashed Potatoes\, Slaw\, Cornbread\, Dessert\nChildren’s Menu: Chicken Tenders\, Fries\, Fruit\, Cookies.
URL:https://lafayettefirst.life/event/family-dinner-54/
LOCATION:LaFayette First Baptist\, 201 N Main Street\, Lafayette\, GA\, 30728\, United States
ATTACH;FMTTYPE=image/jpeg:https://lafayettefirst.life/wp-content/uploads/2026/01/Family-Dinner-Aug2025-UNDATED.jpg
ORGANIZER;CN="LaFayette First":MAILTO:info@lafayettefirst.life
END:VEVENT
BEGIN:VEVENT
DTSTART;TZID=UTC:20260215T170000
DTEND;TZID=UTC:20260215T180000
DTSTAMP:20260425T141501
CREATED:20260127T160321Z
LAST-MODIFIED:20260127T160321Z
UID:10000728-1771174800-1771178400@lafayettefirst.life
SUMMARY:Cohort: Next Level
DESCRIPTION:
URL:https://lafayettefirst.life/event/cohort-next-level/
LOCATION:LaFayette First Baptist\, 201 N Main Street\, Lafayette\, GA\, 30728\, United States
ATTACH;FMTTYPE=image/jpeg:https://lafayettefirst.life/wp-content/uploads/2026/01/Cohort-Updated-scaled.jpg
ORGANIZER;CN="LaFayette First":MAILTO:info@lafayettefirst.life
END:VEVENT
BEGIN:VEVENT
DTSTART;TZID=UTC:20260218T171500
DTEND;TZID=UTC:20260218T180000
DTSTAMP:20260425T141501
CREATED:20260129T193834Z
LAST-MODIFIED:20260129T193834Z
UID:10000732-1771434900-1771437600@lafayettefirst.life
SUMMARY:Family Dinner
DESCRIPTION:Menu: Soup\, Chili\, Sandwiches\, Fixings\, Dessert
URL:https://lafayettefirst.life/event/family-dinner-56/
LOCATION:LaFayette First Baptist\, 201 N Main Street\, Lafayette\, GA\, 30728\, United States
ATTACH;FMTTYPE=image/jpeg:https://lafayettefirst.life/wp-content/uploads/2026/01/Family-Dinner-Aug2025-UNDATED.jpg
ORGANIZER;CN="LaFayette First":MAILTO:info@lafayettefirst.life
END:VEVENT
BEGIN:VEVENT
DTSTART;VALUE=DATE:20260219
DTEND;VALUE=DATE:20260222
DTSTAMP:20260425T141501
CREATED:20260224T164331Z
LAST-MODIFIED:20260224T164331Z
UID:10000738-1771459200-1771718399@lafayettefirst.life
SUMMARY:Serve Tour: Birmingham
DESCRIPTION:
URL:https://lafayettefirst.life/event/serve-tour-birmingham/
LOCATION:LaFayette First Baptist\, 201 N Main Street\, Lafayette\, GA\, 30728\, United States
ATTACH;FMTTYPE=image/jpeg:https://lafayettefirst.life/wp-content/uploads/2026/02/Serve-Birmingham-scaled.jpg
ORGANIZER;CN="LaFayette First":MAILTO:info@lafayettefirst.life
END:VEVENT
BEGIN:VEVENT
DTSTART;TZID=UTC:20260225T171500
DTEND;TZID=UTC:20260225T180000
DTSTAMP:20260425T141501
CREATED:20260129T194024Z
LAST-MODIFIED:20260129T194024Z
UID:10000733-1772039700-1772042400@lafayettefirst.life
SUMMARY:Family Dinner
DESCRIPTION:Menu: Baked Ham\, Sweet Potatoes\, Green Beans\, Slaw\, Rolls\, Dessert\nChildren’s Menu: Mac & Cheese
URL:https://lafayettefirst.life/event/family-dinner-57/
LOCATION:LaFayette First Baptist\, 201 N Main Street\, Lafayette\, GA\, 30728\, United States
ATTACH;FMTTYPE=image/jpeg:https://lafayettefirst.life/wp-content/uploads/2026/01/Family-Dinner-Aug2025-UNDATED.jpg
ORGANIZER;CN="LaFayette First":MAILTO:info@lafayettefirst.life
END:VEVENT
BEGIN:VEVENT
DTSTART;TZID=UTC:20260303T180000
DTEND;TZID=UTC:20260303T190000
DTSTAMP:20260425T141501
CREATED:20260224T160049Z
LAST-MODIFIED:20260224T160049Z
UID:10000736-1772560800-1772564400@lafayettefirst.life
SUMMARY:Women on Mission
DESCRIPTION:All ladies of the church and your friends are invited to attend!
URL:https://lafayettefirst.life/event/women-on-mission-18/
LOCATION:LaFayette First Baptist\, 201 N Main Street\, Lafayette\, GA\, 30728\, United States
ATTACH;FMTTYPE=image/jpeg:https://lafayettefirst.life/wp-content/uploads/2026/02/WOM-March26-scaled.jpg
ORGANIZER;CN="LaFayette First":MAILTO:info@lafayettefirst.life
END:VEVENT
BEGIN:VEVENT
DTSTART;TZID=UTC:20260304T171500
DTEND;TZID=UTC:20260304T180000
DTSTAMP:20260425T141501
CREATED:20260224T194439Z
LAST-MODIFIED:20260303T141533Z
UID:10000750-1772644500-1772647200@lafayettefirst.life
SUMMARY:Family Dinner
DESCRIPTION:Menu: Spaghetti\, Salad Bar\, Bread\, Dessert
URL:https://lafayettefirst.life/event/family-dinner-58/
LOCATION:LaFayette First Baptist\, 201 N Main Street\, Lafayette\, GA\, 30728\, United States
CATEGORIES:Wednesday Nights
ATTACH;FMTTYPE=image/jpeg:https://lafayettefirst.life/wp-content/uploads/2026/01/Family-Dinner-Aug2025-UNDATED.jpg
ORGANIZER;CN="LaFayette First":MAILTO:info@lafayettefirst.life
END:VEVENT
BEGIN:VEVENT
DTSTART;TZID=UTC:20260308T110000
DTEND;TZID=UTC:20260308T120000
DTSTAMP:20260425T141501
CREATED:20260224T160411Z
LAST-MODIFIED:20260224T160411Z
UID:10000737-1772967600-1772971200@lafayettefirst.life
SUMMARY:Deacon Selection
DESCRIPTION:For Members Only:  We will be voting for new deacons sometime during our Morning Worship service. Please be praying about who you will vote for.
URL:https://lafayettefirst.life/event/deacon-selection/
LOCATION:LaFayette First Baptist\, 201 N Main Street\, Lafayette\, GA\, 30728\, United States
ATTACH;FMTTYPE=image/jpeg:https://lafayettefirst.life/wp-content/uploads/2026/02/Deacon-Selection.jpg
ORGANIZER;CN="LaFayette First":MAILTO:info@lafayettefirst.life
END:VEVENT
BEGIN:VEVENT
DTSTART;VALUE=DATE:20260309
DTEND;VALUE=DATE:20260310
DTSTAMP:20260425T141501
CREATED:20260224T181124Z
LAST-MODIFIED:20260303T141437Z
UID:10000749-1773014400-1773100799@lafayettefirst.life
SUMMARY:Love Your Church
DESCRIPTION:You are welcome to choose a card until they are all gone. If you select a card for a task at the church\, please schedule a time to complete it that is convenient for you.
URL:https://lafayettefirst.life/event/love-your-church/
LOCATION:LaFayette First Baptist\, 201 N Main Street\, Lafayette\, GA\, 30728\, United States
CATEGORIES:Serve
ATTACH;FMTTYPE=image/jpeg:https://lafayettefirst.life/wp-content/uploads/2026/02/Love-Our-Church.jpg
ORGANIZER;CN="LaFayette First":MAILTO:info@lafayettefirst.life
END:VEVENT
BEGIN:VEVENT
DTSTART;TZID=UTC:20260311T171500
DTEND;TZID=UTC:20260311T180000
DTSTAMP:20260425T141502
CREATED:20260224T194609Z
LAST-MODIFIED:20260224T194623Z
UID:10000751-1773249300-1773252000@lafayettefirst.life
SUMMARY:Family Dinner
DESCRIPTION:Menu: Chicken\, Rice\, Gravy\, Sweet Potatoes\, Green Beans\, Rolls\, Dessert
URL:https://lafayettefirst.life/event/family-dinner-59/
LOCATION:LaFayette First Baptist\, 201 N Main Street\, Lafayette\, GA\, 30728\, United States
ATTACH;FMTTYPE=image/jpeg:https://lafayettefirst.life/wp-content/uploads/2026/01/Family-Dinner-Aug2025-UNDATED.jpg
ORGANIZER;CN="LaFayette First":MAILTO:info@lafayettefirst.life
END:VEVENT
BEGIN:VEVENT
DTSTART;TZID=UTC:20260315T170000
DTEND;TZID=UTC:20260315T180000
DTSTAMP:20260425T141502
CREATED:20260224T165401Z
LAST-MODIFIED:20260224T182937Z
UID:10000740-1773594000-1773597600@lafayettefirst.life
SUMMARY:Next Level Cohort
DESCRIPTION:
URL:https://lafayettefirst.life/event/next-level-cohort/
LOCATION:LaFayette First Baptist\, 201 N Main Street\, Lafayette\, GA\, 30728\, United States
CATEGORIES:Sunday Nights
ATTACH;FMTTYPE=image/jpeg:https://lafayettefirst.life/wp-content/uploads/2026/02/Cohort-March-scaled.jpg
ORGANIZER;CN="LaFayette First":MAILTO:info@lafayettefirst.life
END:VEVENT
BEGIN:VEVENT
DTSTART;TZID=UTC:20260316T190000
DTEND;TZID=UTC:20260316T200000
DTSTAMP:20260425T141502
CREATED:20260224T164958Z
LAST-MODIFIED:20260224T164958Z
UID:10000739-1773687600-1773691200@lafayettefirst.life
SUMMARY:Book Club
DESCRIPTION:
URL:https://lafayettefirst.life/event/book-club-4/
LOCATION:LaFayette First Baptist\, 201 N Main Street\, Lafayette\, GA\, 30728\, United States
ATTACH;FMTTYPE=image/jpeg:https://lafayettefirst.life/wp-content/uploads/2026/02/Book-Club-March-scaled.jpg
ORGANIZER;CN="LaFayette First":MAILTO:info@lafayettefirst.life
END:VEVENT
END:VCALENDAR