BEGIN:VCALENDAR
VERSION:2.0
PRODID:-//LaFayette First - ECPv6.15.20//NONSGML v1.0//EN
CALSCALE:GREGORIAN
METHOD:PUBLISH
X-WR-CALNAME:LaFayette First
X-ORIGINAL-URL:https://lafayettefirst.life
X-WR-CALDESC:Events for LaFayette First
REFRESH-INTERVAL;VALUE=DURATION:PT1H
X-Robots-Tag:noindex
X-PUBLISHED-TTL:PT1H
BEGIN:VTIMEZONE
TZID:UTC
BEGIN:STANDARD
TZOFFSETFROM:+0000
TZOFFSETTO:+0000
TZNAME:UTC
DTSTART:20230101T000000
END:STANDARD
END:VTIMEZONE
BEGIN:VEVENT
DTSTART;TZID=UTC:20241024T180000
DTEND;TZID=UTC:20241024T200000
DTSTAMP:20260425T160520
CREATED:20240710T165752Z
LAST-MODIFIED:20240908T025157Z
UID:10000385-1729792800-1729800000@lafayettefirst.life
SUMMARY:Grief Share
DESCRIPTION:A grief support group designed to help and encourage anyone who has experienced the death of a spouse\, child\, family member\, or friend. \nIncludes encouraging\, information-packed videos featuring leading grief recovery experts\, small group discussion about video content\, a workbook to use for journaling and personal study exercises that reinforce the weekly session topics.  Topics include: Is This Normal?\, Challenges of Grief\, The Journey of Grief\, Grief and Relationships\, Why?\, Guilt and Anger\, Being Stuck\, Lessons of Grief\, Heaven\, What Do I Live For Now? \nCost is $10 for materials.  Meets every Thursday night from August 1 – November 7 @ 6 to 8pm in LaFayette First Baptist Fellowship Hall. \nWill meet on November 14 to do “Surviving the Holidays”.
URL:https://lafayettefirst.life/event/grief-share-2/2024-10-24/
LOCATION:LaFayette First Baptist\, 201 N Main Street\, Lafayette\, GA\, 30728\, United States
ATTACH;FMTTYPE=image/jpeg:https://lafayettefirst.life/wp-content/uploads/2024/07/Grief-Share-Ad-for-Fall-2024-scaled.jpg
ORGANIZER;CN="LaFayette First":MAILTO:info@lafayettefirst.life
END:VEVENT
BEGIN:VEVENT
DTSTART;TZID=UTC:20241023T180000
DTEND;TZID=UTC:20241023T190000
DTSTAMP:20260425T160520
CREATED:20240723T150459Z
LAST-MODIFIED:20240910T152259Z
UID:10000449-1729706400-1729710000@lafayettefirst.life
SUMMARY:Institute Course: True Worshipers
DESCRIPTION:The question is not “Are you a worshiper?” but rather “What kind of a worshiper are you?” \nIn True Worshipers\, Bob Kauflin\, a seasoned pastor and musician\, opens our eyes to the massive significance of being the type of worshiper God is seeking. Rooted in the gospel of grace and filled with practical application\, this book aims to connect Sunday morning to the rest of your life – helping you fulfill your calling to be a true worshiper each and every day. \nA book is not required for this class\, but if you would like to order “True Worshipers” by Bob Kaulfin please check add on option as you sign up.  Cost for book is $9.
URL:https://lafayettefirst.life/event/institute-course-true-worshippers/2024-10-23/
LOCATION:LaFayette First Baptist\, 201 N Main Street\, Lafayette\, GA\, 30728\, United States
ATTACH;FMTTYPE=image/jpeg:https://lafayettefirst.life/wp-content/uploads/2024/07/Institute-Course-August-scaled.jpg
ORGANIZER;CN="LaFayette First":MAILTO:info@lafayettefirst.life
END:VEVENT
BEGIN:VEVENT
DTSTART;TZID=UTC:20241023T171500
DTEND;TZID=UTC:20241023T180000
DTSTAMP:20260425T160520
CREATED:20240924T151203Z
LAST-MODIFIED:20241023T161712Z
UID:10000460-1729703700-1729706400@lafayettefirst.life
SUMMARY:Family Dinner
DESCRIPTION:Main Menu: BBQ\, Baked Beans\, Slaw\, Potato Salad\, Chips\, Pickles\, Dessert\nChildren:  Chicken Strips\, Fries\, Fruit \nPRICES: Adults\, Youth\, and Children ages 5 and up are $6.00.  Children 4yrs and under are free.  Family maximum is $24.00. \nRESERVATIONS are required! 
URL:https://lafayettefirst.life/event/4520/
LOCATION:LaFayette First Baptist\, 201 N Main Street\, Lafayette\, GA\, 30728\, United States
ATTACH;FMTTYPE=image/jpeg:https://lafayettefirst.life/wp-content/uploads/2024/08/Family-Dinner-continual-scaled.jpg
ORGANIZER;CN="LaFayette First":MAILTO:info@lafayettefirst.life
END:VEVENT
BEGIN:VEVENT
DTSTART;TZID=UTC:20241020T120000
DTEND;TZID=UTC:20241020T150000
DTSTAMP:20260425T160520
CREATED:20240924T154142Z
LAST-MODIFIED:20240924T154250Z
UID:10000463-1729425600-1729436400@lafayettefirst.life
SUMMARY:Pumpkin Farm
DESCRIPTION:
URL:https://lafayettefirst.life/event/pumpkin-farm-2/
LOCATION:Loughridge Pumpkin Farm\, 13530 Hwy 151\, Trion\, GA\, 30753\, United States
ATTACH;FMTTYPE=image/jpeg:https://lafayettefirst.life/wp-content/uploads/2024/09/Pumpkin-Farm-2024-scaled.jpg
ORGANIZER;CN="LaFayette First":MAILTO:info@lafayettefirst.life
END:VEVENT
BEGIN:VEVENT
DTSTART;TZID=UTC:20241017T180000
DTEND;TZID=UTC:20241017T200000
DTSTAMP:20260425T160520
CREATED:20240710T165752Z
LAST-MODIFIED:20240908T025157Z
UID:10000384-1729188000-1729195200@lafayettefirst.life
SUMMARY:Grief Share
DESCRIPTION:A grief support group designed to help and encourage anyone who has experienced the death of a spouse\, child\, family member\, or friend. \nIncludes encouraging\, information-packed videos featuring leading grief recovery experts\, small group discussion about video content\, a workbook to use for journaling and personal study exercises that reinforce the weekly session topics.  Topics include: Is This Normal?\, Challenges of Grief\, The Journey of Grief\, Grief and Relationships\, Why?\, Guilt and Anger\, Being Stuck\, Lessons of Grief\, Heaven\, What Do I Live For Now? \nCost is $10 for materials.  Meets every Thursday night from August 1 – November 7 @ 6 to 8pm in LaFayette First Baptist Fellowship Hall. \nWill meet on November 14 to do “Surviving the Holidays”.
URL:https://lafayettefirst.life/event/grief-share-2/2024-10-17/
LOCATION:LaFayette First Baptist\, 201 N Main Street\, Lafayette\, GA\, 30728\, United States
ATTACH;FMTTYPE=image/jpeg:https://lafayettefirst.life/wp-content/uploads/2024/07/Grief-Share-Ad-for-Fall-2024-scaled.jpg
ORGANIZER;CN="LaFayette First":MAILTO:info@lafayettefirst.life
END:VEVENT
BEGIN:VEVENT
DTSTART;TZID=UTC:20241016T180000
DTEND;TZID=UTC:20241016T190000
DTSTAMP:20260425T160520
CREATED:20240723T150459Z
LAST-MODIFIED:20240910T152259Z
UID:10000448-1729101600-1729105200@lafayettefirst.life
SUMMARY:Institute Course: True Worshipers
DESCRIPTION:The question is not “Are you a worshiper?” but rather “What kind of a worshiper are you?” \nIn True Worshipers\, Bob Kauflin\, a seasoned pastor and musician\, opens our eyes to the massive significance of being the type of worshiper God is seeking. Rooted in the gospel of grace and filled with practical application\, this book aims to connect Sunday morning to the rest of your life – helping you fulfill your calling to be a true worshiper each and every day. \nA book is not required for this class\, but if you would like to order “True Worshipers” by Bob Kaulfin please check add on option as you sign up.  Cost for book is $9.
URL:https://lafayettefirst.life/event/institute-course-true-worshippers/2024-10-16/
LOCATION:LaFayette First Baptist\, 201 N Main Street\, Lafayette\, GA\, 30728\, United States
ATTACH;FMTTYPE=image/jpeg:https://lafayettefirst.life/wp-content/uploads/2024/07/Institute-Course-August-scaled.jpg
ORGANIZER;CN="LaFayette First":MAILTO:info@lafayettefirst.life
END:VEVENT
BEGIN:VEVENT
DTSTART;VALUE=DATE:20241013
DTEND;VALUE=DATE:20241018
DTSTAMP:20260425T160520
CREATED:20240402T151051Z
LAST-MODIFIED:20240402T151051Z
UID:10000306-1728777600-1729209599@lafayettefirst.life
SUMMARY:Kentucky Mission Trip
DESCRIPTION:Go with us to Stearns\, KY to minister to the low income residents in that area.  Prepare meals and serve in the Lord’s Cafe\, continue construction in the tiny home community being built for the residents\, serve in the Laundry Ministry\, etc.  There’s something for people of all abilities to do! \nAs of now\, cost will include lodging\, which is $10/night at the Baptist Association’s bunkhouse\, and your daily meals\, which may be eaten at the Lord’s Cafe for $2.50 each. \nSign up by Sunday\, September 8.
URL:https://lafayettefirst.life/event/kentucky-mission-trip-2/
LOCATION:Stearns\, KY
ATTACH;FMTTYPE=image/jpeg:https://lafayettefirst.life/wp-content/uploads/2024/04/Kentucky-Mission-Trip-2024-scaled.jpg
END:VEVENT
BEGIN:VEVENT
DTSTART;TZID=UTC:20241010T180000
DTEND;TZID=UTC:20241010T200000
DTSTAMP:20260425T160520
CREATED:20240710T165752Z
LAST-MODIFIED:20240908T025157Z
UID:10000383-1728583200-1728590400@lafayettefirst.life
SUMMARY:Grief Share
DESCRIPTION:A grief support group designed to help and encourage anyone who has experienced the death of a spouse\, child\, family member\, or friend. \nIncludes encouraging\, information-packed videos featuring leading grief recovery experts\, small group discussion about video content\, a workbook to use for journaling and personal study exercises that reinforce the weekly session topics.  Topics include: Is This Normal?\, Challenges of Grief\, The Journey of Grief\, Grief and Relationships\, Why?\, Guilt and Anger\, Being Stuck\, Lessons of Grief\, Heaven\, What Do I Live For Now? \nCost is $10 for materials.  Meets every Thursday night from August 1 – November 7 @ 6 to 8pm in LaFayette First Baptist Fellowship Hall. \nWill meet on November 14 to do “Surviving the Holidays”.
URL:https://lafayettefirst.life/event/grief-share-2/2024-10-10/
LOCATION:LaFayette First Baptist\, 201 N Main Street\, Lafayette\, GA\, 30728\, United States
ATTACH;FMTTYPE=image/jpeg:https://lafayettefirst.life/wp-content/uploads/2024/07/Grief-Share-Ad-for-Fall-2024-scaled.jpg
ORGANIZER;CN="LaFayette First":MAILTO:info@lafayettefirst.life
END:VEVENT
BEGIN:VEVENT
DTSTART;TZID=UTC:20241009T180000
DTEND;TZID=UTC:20241009T190000
DTSTAMP:20260425T160520
CREATED:20240723T150459Z
LAST-MODIFIED:20240910T152259Z
UID:10000447-1728496800-1728500400@lafayettefirst.life
SUMMARY:Institute Course: True Worshipers
DESCRIPTION:The question is not “Are you a worshiper?” but rather “What kind of a worshiper are you?” \nIn True Worshipers\, Bob Kauflin\, a seasoned pastor and musician\, opens our eyes to the massive significance of being the type of worshiper God is seeking. Rooted in the gospel of grace and filled with practical application\, this book aims to connect Sunday morning to the rest of your life – helping you fulfill your calling to be a true worshiper each and every day. \nA book is not required for this class\, but if you would like to order “True Worshipers” by Bob Kaulfin please check add on option as you sign up.  Cost for book is $9.
URL:https://lafayettefirst.life/event/institute-course-true-worshippers/2024-10-09/
LOCATION:LaFayette First Baptist\, 201 N Main Street\, Lafayette\, GA\, 30728\, United States
ATTACH;FMTTYPE=image/jpeg:https://lafayettefirst.life/wp-content/uploads/2024/07/Institute-Course-August-scaled.jpg
ORGANIZER;CN="LaFayette First":MAILTO:info@lafayettefirst.life
END:VEVENT
BEGIN:VEVENT
DTSTART;TZID=UTC:20241009T171500
DTEND;TZID=UTC:20241009T180000
DTSTAMP:20260425T160520
CREATED:20240924T151001Z
LAST-MODIFIED:20240924T151817Z
UID:10000459-1728494100-1728496800@lafayettefirst.life
SUMMARY:Family Dinner
DESCRIPTION:Main Menu: Grilled Chicken\, Baked Potatoes\, Salad Bar\, Rolls\, Dessert   Children:  Pizza \nPRICES: Adults\, Youth\, and Children ages 5 and up are $6.00.  Children 4yrs and under are free.  Family maximum is $24.00. \nRESERVATIONS are required! 
URL:https://lafayettefirst.life/event/family-dinner-18/
LOCATION:LaFayette First Baptist\, 201 N Main Street\, Lafayette\, GA\, 30728\, United States
ATTACH;FMTTYPE=image/jpeg:https://lafayettefirst.life/wp-content/uploads/2024/08/Family-Dinner-continual-scaled.jpg
ORGANIZER;CN="LaFayette First":MAILTO:info@lafayettefirst.life
END:VEVENT
BEGIN:VEVENT
DTSTART;TZID=UTC:20241008T180000
DTEND;TZID=UTC:20241008T193000
DTSTAMP:20260425T160520
CREATED:20240919T151809Z
LAST-MODIFIED:20240919T151809Z
UID:10000454-1728410400-1728415800@lafayettefirst.life
SUMMARY:Women On Mission
DESCRIPTION:
URL:https://lafayettefirst.life/event/women-on-mission-13/
LOCATION:LaFayette First Baptist\, 201 N Main Street\, Lafayette\, GA\, 30728\, United States
ORGANIZER;CN="LaFayette First":MAILTO:info@lafayettefirst.life
END:VEVENT
BEGIN:VEVENT
DTSTART;TZID=UTC:20241006T163000
DTEND;TZID=UTC:20241006T193000
DTSTAMP:20260425T160520
CREATED:20240822T133856Z
LAST-MODIFIED:20240822T134000Z
UID:10000367-1728232200-1728243000@lafayettefirst.life
SUMMARY:Church Picnic
DESCRIPTION:
URL:https://lafayettefirst.life/event/church-picnic-2/
LOCATION:Stansell Farm\, 684 Cooper Rd\, La Fayette\, GA\, 30728\, United States
ORGANIZER;CN="LaFayette First":MAILTO:info@lafayettefirst.life
END:VEVENT
BEGIN:VEVENT
DTSTART;TZID=UTC:20241003T180000
DTEND;TZID=UTC:20241003T200000
DTSTAMP:20260425T160520
CREATED:20240710T165752Z
LAST-MODIFIED:20240908T025157Z
UID:10000382-1727978400-1727985600@lafayettefirst.life
SUMMARY:Grief Share
DESCRIPTION:A grief support group designed to help and encourage anyone who has experienced the death of a spouse\, child\, family member\, or friend. \nIncludes encouraging\, information-packed videos featuring leading grief recovery experts\, small group discussion about video content\, a workbook to use for journaling and personal study exercises that reinforce the weekly session topics.  Topics include: Is This Normal?\, Challenges of Grief\, The Journey of Grief\, Grief and Relationships\, Why?\, Guilt and Anger\, Being Stuck\, Lessons of Grief\, Heaven\, What Do I Live For Now? \nCost is $10 for materials.  Meets every Thursday night from August 1 – November 7 @ 6 to 8pm in LaFayette First Baptist Fellowship Hall. \nWill meet on November 14 to do “Surviving the Holidays”.
URL:https://lafayettefirst.life/event/grief-share-2/2024-10-03/
LOCATION:LaFayette First Baptist\, 201 N Main Street\, Lafayette\, GA\, 30728\, United States
ATTACH;FMTTYPE=image/jpeg:https://lafayettefirst.life/wp-content/uploads/2024/07/Grief-Share-Ad-for-Fall-2024-scaled.jpg
ORGANIZER;CN="LaFayette First":MAILTO:info@lafayettefirst.life
END:VEVENT
BEGIN:VEVENT
DTSTART;TZID=UTC:20241002T180000
DTEND;TZID=UTC:20241002T190000
DTSTAMP:20260425T160520
CREATED:20240723T150459Z
LAST-MODIFIED:20240910T152259Z
UID:10000446-1727892000-1727895600@lafayettefirst.life
SUMMARY:Institute Course: True Worshipers
DESCRIPTION:The question is not “Are you a worshiper?” but rather “What kind of a worshiper are you?” \nIn True Worshipers\, Bob Kauflin\, a seasoned pastor and musician\, opens our eyes to the massive significance of being the type of worshiper God is seeking. Rooted in the gospel of grace and filled with practical application\, this book aims to connect Sunday morning to the rest of your life – helping you fulfill your calling to be a true worshiper each and every day. \nA book is not required for this class\, but if you would like to order “True Worshipers” by Bob Kaulfin please check add on option as you sign up.  Cost for book is $9.
URL:https://lafayettefirst.life/event/institute-course-true-worshippers/2024-10-02/
LOCATION:LaFayette First Baptist\, 201 N Main Street\, Lafayette\, GA\, 30728\, United States
ATTACH;FMTTYPE=image/jpeg:https://lafayettefirst.life/wp-content/uploads/2024/07/Institute-Course-August-scaled.jpg
ORGANIZER;CN="LaFayette First":MAILTO:info@lafayettefirst.life
END:VEVENT
BEGIN:VEVENT
DTSTART;TZID=UTC:20241002T171500
DTEND;TZID=UTC:20241002T180000
DTSTAMP:20260425T160520
CREATED:20240924T150709Z
LAST-MODIFIED:20240924T150758Z
UID:10000458-1727889300-1727892000@lafayettefirst.life
SUMMARY:Family Dinner
DESCRIPTION:Main Menu: Baked Ham\, Sweet Potato Casserole\, Green Beans\, Rolls\, Slaw\, Dessert\nChildren:  Chicken Nuggets and Fries \nPRICES: Adults\, Youth\, and Children ages 5 and up are $6.00.  Children 4yrs and under are free.  Family maximum is $24.00. \nRESERVATIONS are required! 
URL:https://lafayettefirst.life/event/family-dinner-17/
LOCATION:LaFayette First Baptist\, 201 N Main Street\, Lafayette\, GA\, 30728\, United States
CATEGORIES:Wednesday Nights
ATTACH;FMTTYPE=image/jpeg:https://lafayettefirst.life/wp-content/uploads/2024/08/Family-Dinner-continual-scaled.jpg
ORGANIZER;CN="LaFayette First":MAILTO:info@lafayettefirst.life
END:VEVENT
BEGIN:VEVENT
DTSTART;TZID=UTC:20241001T180000
DTEND;TZID=UTC:20241001T190000
DTSTAMP:20260425T160520
CREATED:20240723T153921Z
LAST-MODIFIED:20240908T025532Z
UID:10000391-1727805600-1727809200@lafayettefirst.life
SUMMARY:Ladies Bible Study: Alive
DESCRIPTION:
URL:https://lafayettefirst.life/event/ladies-bible-study-alive/2024-10-01/
LOCATION:LaFayette First Baptist\, 201 N Main Street\, Lafayette\, GA\, 30728\, United States
ATTACH;FMTTYPE=image/jpeg:https://lafayettefirst.life/wp-content/uploads/2024/07/Ladies-Bible-Study-Alive-scaled.jpg
ORGANIZER;CN="LaFayette First":MAILTO:info@lafayettefirst.life
END:VEVENT
BEGIN:VEVENT
DTSTART;VALUE=DATE:20241001
DTEND;VALUE=DATE:20241101
DTSTAMP:20260425T160520
CREATED:20240924T154443Z
LAST-MODIFIED:20240924T154443Z
UID:10000464-1727740800-1730419199@lafayettefirst.life
SUMMARY:Pastor Appreciation
DESCRIPTION:October is Pastor Appreciation Month.  Be sure to let our pastors know how much they are appreciated!
URL:https://lafayettefirst.life/event/pastor-appreciation/
LOCATION:LaFayette First Baptist\, 201 N Main Street\, Lafayette\, GA\, 30728\, United States
ATTACH;FMTTYPE=image/jpeg:https://lafayettefirst.life/wp-content/uploads/2024/09/pastor_appreciation.jpg
ORGANIZER;CN="LaFayette First":MAILTO:info@lafayettefirst.life
END:VEVENT
BEGIN:VEVENT
DTSTART;VALUE=DATE:20241001
DTEND;VALUE=DATE:20241002
DTSTAMP:20260425T160520
CREATED:20240820T175113Z
LAST-MODIFIED:20240820T175354Z
UID:10000364-1727740800-1727827199@lafayettefirst.life
SUMMARY:JOY Trip to Ellijay
DESCRIPTION:
URL:https://lafayettefirst.life/event/joy-trip-to-ellijay/
LOCATION:LaFayette First Baptist\, 201 N Main Street\, Lafayette\, GA\, 30728\, United States
ATTACH;FMTTYPE=image/jpeg:https://lafayettefirst.life/wp-content/uploads/2024/08/JOY-Ellijay-2024-scaled.jpg
ORGANIZER;CN="LaFayette First":MAILTO:info@lafayettefirst.life
END:VEVENT
BEGIN:VEVENT
DTSTART;TZID=UTC:20240928T080000
DTEND;TZID=UTC:20240928T093000
DTSTAMP:20260425T160520
CREATED:20240924T155101Z
LAST-MODIFIED:20240924T155123Z
UID:10000465-1727510400-1727515800@lafayettefirst.life
SUMMARY:Men's Breakfast
DESCRIPTION:
URL:https://lafayettefirst.life/event/mens-breakfast-6/
LOCATION:LaFayette First Baptist\, 201 N Main Street\, Lafayette\, GA\, 30728\, United States
ATTACH;FMTTYPE=image/jpeg:https://lafayettefirst.life/wp-content/uploads/2024/09/Mens-Pancake-Breakfast-Sept-2024-scaled.jpg
ORGANIZER;CN="LaFayette First":MAILTO:info@lafayettefirst.life
END:VEVENT
BEGIN:VEVENT
DTSTART;TZID=UTC:20240926T180000
DTEND;TZID=UTC:20240926T200000
DTSTAMP:20260425T160520
CREATED:20240710T165752Z
LAST-MODIFIED:20240908T025157Z
UID:10000381-1727373600-1727380800@lafayettefirst.life
SUMMARY:Grief Share
DESCRIPTION:A grief support group designed to help and encourage anyone who has experienced the death of a spouse\, child\, family member\, or friend. \nIncludes encouraging\, information-packed videos featuring leading grief recovery experts\, small group discussion about video content\, a workbook to use for journaling and personal study exercises that reinforce the weekly session topics.  Topics include: Is This Normal?\, Challenges of Grief\, The Journey of Grief\, Grief and Relationships\, Why?\, Guilt and Anger\, Being Stuck\, Lessons of Grief\, Heaven\, What Do I Live For Now? \nCost is $10 for materials.  Meets every Thursday night from August 1 – November 7 @ 6 to 8pm in LaFayette First Baptist Fellowship Hall. \nWill meet on November 14 to do “Surviving the Holidays”.
URL:https://lafayettefirst.life/event/grief-share-2/2024-09-26/
LOCATION:LaFayette First Baptist\, 201 N Main Street\, Lafayette\, GA\, 30728\, United States
ATTACH;FMTTYPE=image/jpeg:https://lafayettefirst.life/wp-content/uploads/2024/07/Grief-Share-Ad-for-Fall-2024-scaled.jpg
ORGANIZER;CN="LaFayette First":MAILTO:info@lafayettefirst.life
END:VEVENT
BEGIN:VEVENT
DTSTART;TZID=UTC:20240925T180000
DTEND;TZID=UTC:20240925T190000
DTSTAMP:20260425T160520
CREATED:20240723T150459Z
LAST-MODIFIED:20240910T152259Z
UID:10000445-1727287200-1727290800@lafayettefirst.life
SUMMARY:Institute Course: True Worshipers
DESCRIPTION:The question is not “Are you a worshiper?” but rather “What kind of a worshiper are you?” \nIn True Worshipers\, Bob Kauflin\, a seasoned pastor and musician\, opens our eyes to the massive significance of being the type of worshiper God is seeking. Rooted in the gospel of grace and filled with practical application\, this book aims to connect Sunday morning to the rest of your life – helping you fulfill your calling to be a true worshiper each and every day. \nA book is not required for this class\, but if you would like to order “True Worshipers” by Bob Kaulfin please check add on option as you sign up.  Cost for book is $9.
URL:https://lafayettefirst.life/event/institute-course-true-worshippers/2024-09-25/
LOCATION:LaFayette First Baptist\, 201 N Main Street\, Lafayette\, GA\, 30728\, United States
ATTACH;FMTTYPE=image/jpeg:https://lafayettefirst.life/wp-content/uploads/2024/07/Institute-Course-August-scaled.jpg
ORGANIZER;CN="LaFayette First":MAILTO:info@lafayettefirst.life
END:VEVENT
BEGIN:VEVENT
DTSTART;TZID=UTC:20240925T171500
DTEND;TZID=UTC:20240925T180000
DTSTAMP:20260425T160520
CREATED:20240924T145953Z
LAST-MODIFIED:20240924T150039Z
UID:10000457-1727284500-1727287200@lafayettefirst.life
SUMMARY:Family Dinner
DESCRIPTION:Main Menu: Soup\, sandwiches\, salad bar\, fruit\, dessert\nPRICES: Adults\, Youth\, and Children ages 5 and up are $6.00.  Children 4yrs and under are free.  Family maximum is $24.00. \nRESERVATIONS are required! 
URL:https://lafayettefirst.life/event/family-dinner-16/
LOCATION:LaFayette First Baptist\, 201 N Main Street\, Lafayette\, GA\, 30728\, United States
ATTACH;FMTTYPE=image/jpeg:https://lafayettefirst.life/wp-content/uploads/2024/08/Family-Dinner-continual-scaled.jpg
ORGANIZER;CN="LaFayette First":MAILTO:info@lafayettefirst.life
END:VEVENT
BEGIN:VEVENT
DTSTART;TZID=UTC:20240925T073000
DTEND;TZID=UTC:20240925T080000
DTSTAMP:20260425T160520
CREATED:20240822T133502Z
LAST-MODIFIED:20240822T133502Z
UID:10000366-1727249400-1727251200@lafayettefirst.life
SUMMARY:See You At The Pole
DESCRIPTION:
URL:https://lafayettefirst.life/event/see-you-at-the-pole-2/
LOCATION:LaFayette First Baptist\, 201 N Main Street\, Lafayette\, GA\, 30728\, United States
ATTACH;FMTTYPE=image/jpeg:https://lafayettefirst.life/wp-content/uploads/2024/08/SYATP.jpg
ORGANIZER;CN="LaFayette First":MAILTO:info@lafayettefirst.life
END:VEVENT
BEGIN:VEVENT
DTSTART;TZID=UTC:20240924T180000
DTEND;TZID=UTC:20240924T190000
DTSTAMP:20260425T160520
CREATED:20240723T153921Z
LAST-MODIFIED:20240908T025532Z
UID:10000390-1727200800-1727204400@lafayettefirst.life
SUMMARY:Ladies Bible Study: Alive
DESCRIPTION:
URL:https://lafayettefirst.life/event/ladies-bible-study-alive/2024-09-24/
LOCATION:LaFayette First Baptist\, 201 N Main Street\, Lafayette\, GA\, 30728\, United States
ATTACH;FMTTYPE=image/jpeg:https://lafayettefirst.life/wp-content/uploads/2024/07/Ladies-Bible-Study-Alive-scaled.jpg
ORGANIZER;CN="LaFayette First":MAILTO:info@lafayettefirst.life
END:VEVENT
BEGIN:VEVENT
DTSTART;TZID=UTC:20240922T153000
DTEND;TZID=UTC:20240922T203000
DTSTAMP:20260425T160520
CREATED:20240820T171205Z
LAST-MODIFIED:20240820T171501Z
UID:10000361-1727019000-1727037000@lafayettefirst.life
SUMMARY:Spark Conference
DESCRIPTION:
URL:https://lafayettefirst.life/event/spark-conference/
LOCATION:West Rome Baptist Church\, 914 Shorter Ave NW\, Rome\, GA\, 30165
ORGANIZER;CN="LaFayette First":MAILTO:info@lafayettefirst.life
END:VEVENT
BEGIN:VEVENT
DTSTART;TZID=UTC:20240919T180000
DTEND;TZID=UTC:20240919T200000
DTSTAMP:20260425T160520
CREATED:20240710T165752Z
LAST-MODIFIED:20240908T025157Z
UID:10000380-1726768800-1726776000@lafayettefirst.life
SUMMARY:Grief Share
DESCRIPTION:A grief support group designed to help and encourage anyone who has experienced the death of a spouse\, child\, family member\, or friend. \nIncludes encouraging\, information-packed videos featuring leading grief recovery experts\, small group discussion about video content\, a workbook to use for journaling and personal study exercises that reinforce the weekly session topics.  Topics include: Is This Normal?\, Challenges of Grief\, The Journey of Grief\, Grief and Relationships\, Why?\, Guilt and Anger\, Being Stuck\, Lessons of Grief\, Heaven\, What Do I Live For Now? \nCost is $10 for materials.  Meets every Thursday night from August 1 – November 7 @ 6 to 8pm in LaFayette First Baptist Fellowship Hall. \nWill meet on November 14 to do “Surviving the Holidays”.
URL:https://lafayettefirst.life/event/grief-share-2/2024-09-19/
LOCATION:LaFayette First Baptist\, 201 N Main Street\, Lafayette\, GA\, 30728\, United States
ATTACH;FMTTYPE=image/jpeg:https://lafayettefirst.life/wp-content/uploads/2024/07/Grief-Share-Ad-for-Fall-2024-scaled.jpg
ORGANIZER;CN="LaFayette First":MAILTO:info@lafayettefirst.life
END:VEVENT
BEGIN:VEVENT
DTSTART;TZID=UTC:20240918T180000
DTEND;TZID=UTC:20240918T190000
DTSTAMP:20260425T160520
CREATED:20240723T150459Z
LAST-MODIFIED:20240910T152259Z
UID:10000444-1726682400-1726686000@lafayettefirst.life
SUMMARY:Institute Course: True Worshipers
DESCRIPTION:The question is not “Are you a worshiper?” but rather “What kind of a worshiper are you?” \nIn True Worshipers\, Bob Kauflin\, a seasoned pastor and musician\, opens our eyes to the massive significance of being the type of worshiper God is seeking. Rooted in the gospel of grace and filled with practical application\, this book aims to connect Sunday morning to the rest of your life – helping you fulfill your calling to be a true worshiper each and every day. \nA book is not required for this class\, but if you would like to order “True Worshipers” by Bob Kaulfin please check add on option as you sign up.  Cost for book is $9.
URL:https://lafayettefirst.life/event/institute-course-true-worshippers/2024-09-18/
LOCATION:LaFayette First Baptist\, 201 N Main Street\, Lafayette\, GA\, 30728\, United States
ATTACH;FMTTYPE=image/jpeg:https://lafayettefirst.life/wp-content/uploads/2024/07/Institute-Course-August-scaled.jpg
ORGANIZER;CN="LaFayette First":MAILTO:info@lafayettefirst.life
END:VEVENT
BEGIN:VEVENT
DTSTART;TZID=UTC:20240918T171500
DTEND;TZID=UTC:20240918T180000
DTSTAMP:20260425T160520
CREATED:20240910T191231Z
LAST-MODIFIED:20240910T191231Z
UID:10000451-1726679700-1726682400@lafayettefirst.life
SUMMARY:Family Dinner
DESCRIPTION:Main Menu: Spaghetti\, salad bar\, fruit\, bread\, dessert.\nPRICES:  Adults\, Youth\, and Children ages 5 and up are $6.00.  Children 4yrs and under are free.  Family maximum is $24.00.\nRESERVATIONS are required!
URL:https://lafayettefirst.life/event/family-dinner-15/
LOCATION:LaFayette First Baptist\, 201 N Main Street\, Lafayette\, GA\, 30728\, United States
ATTACH;FMTTYPE=image/jpeg:https://lafayettefirst.life/wp-content/uploads/2024/08/Family-Dinner-continual-scaled.jpg
ORGANIZER;CN="LaFayette First":MAILTO:info@lafayettefirst.life
END:VEVENT
BEGIN:VEVENT
DTSTART;TZID=UTC:20240917T180000
DTEND;TZID=UTC:20240917T190000
DTSTAMP:20260425T160520
CREATED:20240723T153921Z
LAST-MODIFIED:20240908T025532Z
UID:10000389-1726596000-1726599600@lafayettefirst.life
SUMMARY:Ladies Bible Study: Alive
DESCRIPTION:
URL:https://lafayettefirst.life/event/ladies-bible-study-alive/2024-09-17/
LOCATION:LaFayette First Baptist\, 201 N Main Street\, Lafayette\, GA\, 30728\, United States
ATTACH;FMTTYPE=image/jpeg:https://lafayettefirst.life/wp-content/uploads/2024/07/Ladies-Bible-Study-Alive-scaled.jpg
ORGANIZER;CN="LaFayette First":MAILTO:info@lafayettefirst.life
END:VEVENT
BEGIN:VEVENT
DTSTART;TZID=UTC:20240915T160000
DTEND;TZID=UTC:20240915T180000
DTSTAMP:20260425T160520
CREATED:20240822T132506Z
LAST-MODIFIED:20240822T132506Z
UID:10000365-1726416000-1726423200@lafayettefirst.life
SUMMARY:Grill Walk
DESCRIPTION:
URL:https://lafayettefirst.life/event/grill-walk-2/
LOCATION:LaFayette First Baptist\, 201 N Main Street\, Lafayette\, GA\, 30728\, United States
ORGANIZER;CN="LaFayette First":MAILTO:info@lafayettefirst.life
END:VEVENT
END:VCALENDAR