BEGIN:VCALENDAR
VERSION:2.0
PRODID:-//LaFayette First - ECPv6.15.20//NONSGML v1.0//EN
CALSCALE:GREGORIAN
METHOD:PUBLISH
X-ORIGINAL-URL:https://lafayettefirst.life
X-WR-CALDESC:Events for LaFayette First
REFRESH-INTERVAL;VALUE=DURATION:PT1H
X-Robots-Tag:noindex
X-PUBLISHED-TTL:PT1H
BEGIN:VTIMEZONE
TZID:UTC
BEGIN:STANDARD
TZOFFSETFROM:+0000
TZOFFSETTO:+0000
TZNAME:UTC
DTSTART:20240101T000000
END:STANDARD
END:VTIMEZONE
BEGIN:VEVENT
DTSTART;TZID=UTC:20251017T183000
DTEND;TZID=UTC:20251017T213000
DTSTAMP:20260425T115414
CREATED:20251010T162038Z
LAST-MODIFIED:20251010T173706Z
UID:10000670-1760725800-1760736600@lafayettefirst.life
SUMMARY:LHS Concessions
DESCRIPTION:
URL:https://lafayettefirst.life/event/lhs-concessions-4/
LOCATION:LaFayette First Baptist\, 201 N Main Street\, Lafayette\, GA\, 30728\, United States
ATTACH;FMTTYPE=image/jpeg:https://lafayettefirst.life/wp-content/uploads/2025/10/Concessions-2025.jpg
ORGANIZER;CN="LaFayette First":MAILTO:info@lafayettefirst.life
END:VEVENT
BEGIN:VEVENT
DTSTART;TZID=UTC:20251018T180000
DTEND;TZID=UTC:20251018T200000
DTSTAMP:20260425T115414
CREATED:20251010T165059Z
LAST-MODIFIED:20251010T165225Z
UID:10000673-1760810400-1760817600@lafayettefirst.life
SUMMARY:The Spark
DESCRIPTION:
URL:https://lafayettefirst.life/event/the-spak/
LOCATION:LaFayette First Baptist\, 201 N Main Street\, Lafayette\, GA\, 30728\, United States
ATTACH;FMTTYPE=image/jpeg:https://lafayettefirst.life/wp-content/uploads/2025/10/The-Spark.jpg
ORGANIZER;CN="LaFayette First":MAILTO:info@lafayettefirst.life
END:VEVENT
BEGIN:VEVENT
DTSTART;TZID=UTC:20251020T190000
DTEND;TZID=UTC:20251020T200000
DTSTAMP:20260425T115414
CREATED:20251010T165554Z
LAST-MODIFIED:20251010T165554Z
UID:10000674-1760986800-1760990400@lafayettefirst.life
SUMMARY:Book Club
DESCRIPTION:
URL:https://lafayettefirst.life/event/book-club/
LOCATION:LaFayette First Baptist\, 201 N Main Street\, Lafayette\, GA\, 30728\, United States
ATTACH;FMTTYPE=image/jpeg:https://lafayettefirst.life/wp-content/uploads/2025/10/Book-Club-scaled.jpg
ORGANIZER;CN="LaFayette First":MAILTO:info@lafayettefirst.life
END:VEVENT
BEGIN:VEVENT
DTSTART;TZID=UTC:20251022T171500
DTEND;TZID=UTC:20251022T180000
DTSTAMP:20260425T115414
CREATED:20251013T144400Z
LAST-MODIFIED:20251013T171654Z
UID:10000681-1761153300-1761156000@lafayettefirst.life
SUMMARY:Family Dinner
DESCRIPTION:Main Menu: Meatloaf\, Mashed Potatoes\, Pinto Beans\, Slaw\, Cornbread\, Dessert\nChildren’s Menu: Chicken Tenders\, Fries\, Fruit\, Cookies
URL:https://lafayettefirst.life/event/family-dinner-45/
LOCATION:LaFayette First Baptist\, 201 N Main Street\, Lafayette\, GA\, 30728\, United States
ATTACH;FMTTYPE=image/jpeg:https://lafayettefirst.life/wp-content/uploads/2025/08/Family-Dinner-Aug2025-UNDATED.jpg
ORGANIZER;CN="LaFayette First":MAILTO:info@lafayettefirst.life
END:VEVENT
BEGIN:VEVENT
DTSTART;TZID=UTC:20251029T171500
DTEND;TZID=UTC:20251029T180000
DTSTAMP:20260425T115414
CREATED:20251013T170541Z
LAST-MODIFIED:20251013T170541Z
UID:10000682-1761758100-1761760800@lafayettefirst.life
SUMMARY:Family Dinner
DESCRIPTION:Menu: Soup/Chili\, Sandwiches\, Fixings\, Dessert
URL:https://lafayettefirst.life/event/family-dinner-46/
LOCATION:LaFayette First Baptist\, 201 N Main Street\, Lafayette\, GA\, 30728\, United States
ATTACH;FMTTYPE=image/jpeg:https://lafayettefirst.life/wp-content/uploads/2025/08/Family-Dinner-Aug2025-UNDATED.jpg
ORGANIZER;CN="LaFayette First":MAILTO:info@lafayettefirst.life
END:VEVENT
BEGIN:VEVENT
DTSTART;VALUE=DATE:20251031
DTEND;VALUE=DATE:20251101
DTSTAMP:20260425T115414
CREATED:20251010T165849Z
LAST-MODIFIED:20251010T165849Z
UID:10000675-1761868800-1761955199@lafayettefirst.life
SUMMARY:Candy Needed!
DESCRIPTION:
URL:https://lafayettefirst.life/event/candy-needed/
LOCATION:LaFayette First Baptist\, 201 N Main Street\, Lafayette\, GA\, 30728\, United States
ATTACH;FMTTYPE=image/jpeg:https://lafayettefirst.life/wp-content/uploads/2025/10/Candy-Donations.jpg
ORGANIZER;CN="LaFayette First":MAILTO:info@lafayettefirst.life
END:VEVENT
BEGIN:VEVENT
DTSTART;TZID=UTC:20251031T170000
DTEND;TZID=UTC:20251031T190000
DTSTAMP:20260425T115414
CREATED:20251010T163329Z
LAST-MODIFIED:20251010T163329Z
UID:10000671-1761930000-1761937200@lafayettefirst.life
SUMMARY:TRUNKS NEEDED!
DESCRIPTION:
URL:https://lafayettefirst.life/event/trunks-needed/
LOCATION:LaFayette First Baptist\, 201 N Main Street\, Lafayette\, GA\, 30728\, United States
ATTACH;FMTTYPE=image/jpeg:https://lafayettefirst.life/wp-content/uploads/2025/10/Trunk-or-Treat-we-need-trunks-scaled.jpg
ORGANIZER;CN="LaFayette First":MAILTO:info@lafayettefirst.life
END:VEVENT
BEGIN:VEVENT
DTSTART;TZID=UTC:20251101T110000
DTEND;TZID=UTC:20251101T120000
DTSTAMP:20260425T115414
CREATED:20251010T170435Z
LAST-MODIFIED:20251030T135738Z
UID:10000676-1761994800-1761998400@lafayettefirst.life
SUMMARY:A Ladies Par-Tea!
DESCRIPTION:No registration needed!
URL:https://lafayettefirst.life/event/a-ladies-par-tea/
LOCATION:LaFayette First Baptist\, 201 N Main Street\, Lafayette\, GA\, 30728\, United States
ATTACH;FMTTYPE=image/png:https://lafayettefirst.life/wp-content/uploads/2025/10/Ladies-Par-Tea.png
ORGANIZER;CN="LaFayette First":MAILTO:info@lafayettefirst.life
END:VEVENT
BEGIN:VEVENT
DTSTART;TZID=UTC:20251102T170000
DTEND;TZID=UTC:20251102T190000
DTSTAMP:20260425T115414
CREATED:20251010T171410Z
LAST-MODIFIED:20251030T135619Z
UID:10000677-1762102800-1762110000@lafayettefirst.life
SUMMARY:Community Night of Praise
DESCRIPTION:
URL:https://lafayettefirst.life/event/community-night-of-praise/
LOCATION:LaFayette First Baptist\, 201 N Main Street\, Lafayette\, GA\, 30728\, United States
ATTACH;FMTTYPE=image/jpeg:https://lafayettefirst.life/wp-content/uploads/2025/10/Community-Faith-Night-scaled.jpg
ORGANIZER;CN="LaFayette First":MAILTO:info@lafayettefirst.life
END:VEVENT
BEGIN:VEVENT
DTSTART;TZID=UTC:20251104T180000
DTEND;TZID=UTC:20251104T190000
DTSTAMP:20260425T115414
CREATED:20251030T135925Z
LAST-MODIFIED:20251030T135925Z
UID:10000686-1762279200-1762282800@lafayettefirst.life
SUMMARY:Women on Mission
DESCRIPTION:All ladies of the church are invited to attend.
URL:https://lafayettefirst.life/event/women-on-mission-16/
LOCATION:LaFayette First Baptist\, 201 N Main Street\, Lafayette\, GA\, 30728\, United States
ATTACH;FMTTYPE=image/jpeg:https://lafayettefirst.life/wp-content/uploads/2025/10/WOM-Nov-2025.jpg
ORGANIZER;CN="LaFayette First":MAILTO:info@lafayettefirst.life
END:VEVENT
BEGIN:VEVENT
DTSTART;TZID=UTC:20251105T171500
DTEND;TZID=UTC:20251105T180000
DTSTAMP:20260425T115414
CREATED:20251013T170814Z
LAST-MODIFIED:20251013T170814Z
UID:10000683-1762362900-1762365600@lafayettefirst.life
SUMMARY:Family Dinner
DESCRIPTION:Menu: BBQ\, Chicken Tenders\, Baked Beans\, Slaw\, Chips\, Pickles and Dessert
URL:https://lafayettefirst.life/event/family-dinner-47/
LOCATION:LaFayette First Baptist\, 201 N Main Street\, Lafayette\, GA\, 30728\, United States
ATTACH;FMTTYPE=image/jpeg:https://lafayettefirst.life/wp-content/uploads/2025/08/Family-Dinner-Aug2025-UNDATED.jpg
ORGANIZER;CN="LaFayette First":MAILTO:info@lafayettefirst.life
END:VEVENT
BEGIN:VEVENT
DTSTART;TZID=UTC:20251108T170000
DTEND;TZID=UTC:20251108T190000
DTSTAMP:20260425T115414
CREATED:20251030T141210Z
LAST-MODIFIED:20251030T141210Z
UID:10000687-1762621200-1762628400@lafayettefirst.life
SUMMARY:The Spark: Friendsgiving
DESCRIPTION:See Randi or Caleb Mariakis for more info.
URL:https://lafayettefirst.life/event/the-spark-friendsgiving/
LOCATION:LaFayette First Baptist\, 201 N Main Street\, Lafayette\, GA\, 30728\, United States
ATTACH;FMTTYPE=image/jpeg:https://lafayettefirst.life/wp-content/uploads/2025/10/Spark-Friendsgiving-scaled.jpg
ORGANIZER;CN="LaFayette First":MAILTO:info@lafayettefirst.life
END:VEVENT
BEGIN:VEVENT
DTSTART;TZID=UTC:20251109T120000
DTEND;TZID=UTC:20251109T140000
DTSTAMP:20260425T115414
CREATED:20251010T163514Z
LAST-MODIFIED:20251010T163743Z
UID:10000672-1762689600-1762696800@lafayettefirst.life
SUMMARY:Veteran's Luncheon
DESCRIPTION:
URL:https://lafayettefirst.life/event/veterans-lunch/
LOCATION:LaFayette First Baptist\, 201 N Main Street\, Lafayette\, GA\, 30728\, United States
ATTACH;FMTTYPE=image/jpeg:https://lafayettefirst.life/wp-content/uploads/2025/10/vet-lunch-2025-scaled.jpg
ORGANIZER;CN="LaFayette First":MAILTO:info@lafayettefirst.life
END:VEVENT
BEGIN:VEVENT
DTSTART;TZID=UTC:20251112T171500
DTEND;TZID=UTC:20251112T180000
DTSTAMP:20260425T115414
CREATED:20251013T171035Z
LAST-MODIFIED:20251013T171035Z
UID:10000684-1762967700-1762970400@lafayettefirst.life
SUMMARY:Family Dinner
DESCRIPTION:Menu: Party Chicken\, Rice\, Sweet Potatoes\, Green Beans\, Rolls\, Dessert
URL:https://lafayettefirst.life/event/family-dinner-48/
LOCATION:LaFayette First Baptist\, 201 N Main Street\, Lafayette\, GA\, 30728\, United States
ATTACH;FMTTYPE=image/jpeg:https://lafayettefirst.life/wp-content/uploads/2025/08/Family-Dinner-Aug2025-UNDATED.jpg
ORGANIZER;CN="LaFayette First":MAILTO:info@lafayettefirst.life
END:VEVENT
BEGIN:VEVENT
DTSTART;TZID=UTC:20251113T180000
DTEND;TZID=UTC:20251113T200000
DTSTAMP:20260425T115414
CREATED:20251030T142957Z
LAST-MODIFIED:20251030T142957Z
UID:10000688-1763056800-1763064000@lafayettefirst.life
SUMMARY:Surviving the Holidays
DESCRIPTION:
URL:https://lafayettefirst.life/event/surviving-the-holidays-3/
LOCATION:LaFayette First Baptist\, 201 N Main Street\, Lafayette\, GA\, 30728\, United States
ATTACH;FMTTYPE=image/jpeg:https://lafayettefirst.life/wp-content/uploads/2025/10/Grief-Share-Holiday.jpg
ORGANIZER;CN="LaFayette First":MAILTO:info@lafayettefirst.life
END:VEVENT
BEGIN:VEVENT
DTSTART;TZID=UTC:20251116T170000
DTEND;TZID=UTC:20251116T180000
DTSTAMP:20260425T115414
CREATED:20251030T143520Z
LAST-MODIFIED:20251106T161538Z
UID:10000689-1763312400-1763316000@lafayettefirst.life
SUMMARY:Throwback Sunday
DESCRIPTION:
URL:https://lafayettefirst.life/event/throwback-sunday/
LOCATION:LaFayette First Baptist\, 201 N Main Street\, Lafayette\, GA\, 30728\, United States
ATTACH;FMTTYPE=image/jpeg:https://lafayettefirst.life/wp-content/uploads/2025/10/Throwback-Sunday-2025-1-scaled.jpg
ORGANIZER;CN="LaFayette First":MAILTO:info@lafayettefirst.life
END:VEVENT
BEGIN:VEVENT
DTSTART;TZID=UTC:20251118T193000
DTEND;TZID=UTC:20251118T203000
DTSTAMP:20260425T115414
CREATED:20251030T143719Z
LAST-MODIFIED:20251030T143719Z
UID:10000690-1763494200-1763497800@lafayettefirst.life
SUMMARY:The Spark: Weeknight Devo
DESCRIPTION:
URL:https://lafayettefirst.life/event/the-spark-weeknight-devo/
LOCATION:LaFayette First Baptist\, 201 N Main Street\, Lafayette\, GA\, 30728\, United States
ATTACH;FMTTYPE=image/jpeg:https://lafayettefirst.life/wp-content/uploads/2025/10/Spark-Devo-Nov-scaled.jpg
ORGANIZER;CN="LaFayette First":MAILTO:info@lafayettefirst.life
END:VEVENT
BEGIN:VEVENT
DTSTART;TZID=UTC:20251119T171500
DTEND;TZID=UTC:20251119T180000
DTSTAMP:20260425T115414
CREATED:20251013T171214Z
LAST-MODIFIED:20251030T152118Z
UID:10000685-1763572500-1763575200@lafayettefirst.life
SUMMARY:Thanksgiving Family Dinner
DESCRIPTION:Main Menu: Thanksgiving Meal
URL:https://lafayettefirst.life/event/family-dinner-49/
LOCATION:LaFayette First Baptist\, 201 N Main Street\, Lafayette\, GA\, 30728\, United States
ATTACH;FMTTYPE=image/jpeg:https://lafayettefirst.life/wp-content/uploads/2025/10/Thanksgiving-Dinner-2025-scaled.jpg
ORGANIZER;CN="LaFayette First":MAILTO:info@lafayettefirst.life
END:VEVENT
BEGIN:VEVENT
DTSTART;TZID=UTC:20251119T181500
DTEND;TZID=UTC:20251119T190000
DTSTAMP:20260425T115414
CREATED:20251030T144044Z
LAST-MODIFIED:20251030T144044Z
UID:10000691-1763576100-1763578800@lafayettefirst.life
SUMMARY:BLASTGiving
DESCRIPTION:
URL:https://lafayettefirst.life/event/blastgiving/
LOCATION:LaFayette First Baptist\, 201 N Main Street\, Lafayette\, GA\, 30728\, United States
ATTACH;FMTTYPE=image/jpeg:https://lafayettefirst.life/wp-content/uploads/2025/10/Blastgiving.jpg
ORGANIZER;CN="LaFayette First":MAILTO:info@lafayettefirst.life
END:VEVENT
BEGIN:VEVENT
DTSTART;TZID=UTC:20251120T120000
DTEND;TZID=UTC:20251120T180000
DTSTAMP:20260425T115414
CREATED:20251106T162122Z
LAST-MODIFIED:20251106T162122Z
UID:10000697-1763640000-1763661600@lafayettefirst.life
SUMMARY:Share Your Blessings
DESCRIPTION:
URL:https://lafayettefirst.life/event/share-your-blessings/
LOCATION:LaFayette First Baptist\, 201 N Main Street\, Lafayette\, GA\, 30728\, United States
ATTACH;FMTTYPE=image/jpeg:https://lafayettefirst.life/wp-content/uploads/2025/11/Share-your-blessings-Care-Mission-scaled.jpg
ORGANIZER;CN="LaFayette First":MAILTO:info@lafayettefirst.life
END:VEVENT
BEGIN:VEVENT
DTSTART;TZID=UTC:20251127T110000
DTEND;TZID=UTC:20251127T130000
DTSTAMP:20260425T115414
CREATED:20251030T144311Z
LAST-MODIFIED:20251030T144311Z
UID:10000692-1764241200-1764248400@lafayettefirst.life
SUMMARY:Community Wide Thanksgiving
DESCRIPTION:
URL:https://lafayettefirst.life/event/community-wide-thanksgiving-2/
LOCATION:LaFayette First Baptist\, 201 N Main Street\, Lafayette\, GA\, 30728\, United States
ATTACH;FMTTYPE=image/jpeg:https://lafayettefirst.life/wp-content/uploads/2025/10/Thanksgiving-Community.jpg
ORGANIZER;CN="LaFayette First":MAILTO:info@lafayettefirst.life
END:VEVENT
BEGIN:VEVENT
DTSTART;TZID=UTC:20251130T110000
DTEND;TZID=UTC:20251130T120000
DTSTAMP:20260425T115414
CREATED:20251030T144543Z
LAST-MODIFIED:20251030T144543Z
UID:10000693-1764500400-1764504000@lafayettefirst.life
SUMMARY:Family Worship Service
DESCRIPTION:
URL:https://lafayettefirst.life/event/family-worship-service/
LOCATION:LaFayette First Baptist\, 201 N Main Street\, Lafayette\, GA\, 30728\, United States
ATTACH;FMTTYPE=image/jpeg:https://lafayettefirst.life/wp-content/uploads/2025/10/Family-Worship-Nov25.jpg
ORGANIZER;CN="LaFayette First":MAILTO:info@lafayettefirst.life
END:VEVENT
BEGIN:VEVENT
DTSTART;TZID=UTC:20251130T173000
DTEND;TZID=UTC:20251130T183000
DTSTAMP:20260425T115414
CREATED:20251030T144816Z
LAST-MODIFIED:20251030T144816Z
UID:10000694-1764523800-1764527400@lafayettefirst.life
SUMMARY:Advent Walk
DESCRIPTION:
URL:https://lafayettefirst.life/event/advent-walk-2/
LOCATION:LaFayette First Baptist\, 201 N Main Street\, Lafayette\, GA\, 30728\, United States
ATTACH;FMTTYPE=image/jpeg:https://lafayettefirst.life/wp-content/uploads/2025/10/Advent-Walk-2025-scaled.jpg
END:VEVENT
BEGIN:VEVENT
DTSTART;VALUE=DATE:20251201
DTEND;VALUE=DATE:20251202
DTSTAMP:20260425T115414
CREATED:20251010T171848Z
LAST-MODIFIED:20251010T171910Z
UID:10000678-1764547200-1764633599@lafayettefirst.life
SUMMARY:Argentina Mission Trip
DESCRIPTION:Please be praying for our mission team as they serve in Argentina December 1-12.
URL:https://lafayettefirst.life/event/argentina-mission-trip/
LOCATION:LaFayette First Baptist\, 201 N Main Street\, Lafayette\, GA\, 30728\, United States
ATTACH;FMTTYPE=image/jpeg:https://lafayettefirst.life/wp-content/uploads/2025/10/Argentina-Mission-Trip-2025-scaled.jpg
ORGANIZER;CN="LaFayette First":MAILTO:info@lafayettefirst.life
END:VEVENT
BEGIN:VEVENT
DTSTART;VALUE=DATE:20251201
DTEND;VALUE=DATE:20251202
DTSTAMP:20260425T115414
CREATED:20251010T172533Z
LAST-MODIFIED:20251124T183714Z
UID:10000680-1764547200-1764633599@lafayettefirst.life
SUMMARY:CentriKid 2026 Sign Ups!
DESCRIPTION:
URL:https://lafayettefirst.life/event/centrikid-2026-sign-ups/
LOCATION:LaFayette First Baptist\, 201 N Main Street\, Lafayette\, GA\, 30728\, United States
ATTACH;FMTTYPE=image/jpeg:https://lafayettefirst.life/wp-content/uploads/2025/10/Centrikid-2026-scaled.jpg
ORGANIZER;CN="LaFayette First":MAILTO:info@lafayettefirst.life
END:VEVENT
BEGIN:VEVENT
DTSTART;TZID=UTC:20251201T180000
DTEND;TZID=UTC:20251201T193000
DTSTAMP:20260425T115414
CREATED:20251124T184041Z
LAST-MODIFIED:20251124T184041Z
UID:10000702-1764612000-1764617400@lafayettefirst.life
SUMMARY:WOM Christmas Dinner
DESCRIPTION:All ladies of the church are welcome to attend.
URL:https://lafayettefirst.life/event/wom-christmas-dinner-2/
LOCATION:LaFayette First Baptist\, 201 N Main Street\, Lafayette\, GA\, 30728\, United States
ATTACH;FMTTYPE=image/jpeg:https://lafayettefirst.life/wp-content/uploads/2025/11/WOM-Christmas-Dinner.jpg
ORGANIZER;CN="LaFayette First":MAILTO:info@lafayettefirst.life
END:VEVENT
BEGIN:VEVENT
DTSTART;TZID=UTC:20251202T193000
DTEND;TZID=UTC:20251202T203000
DTSTAMP:20260425T115415
CREATED:20251120T182915Z
LAST-MODIFIED:20251120T192833Z
UID:10000698-1764703800-1764707400@lafayettefirst.life
SUMMARY:The Sparks Weeknight Devo
DESCRIPTION:THE SPARK is a gathering for dating\, engaged\, and married couples in their 20’s and 30’s. \nSee Randi or Caleb Mariakis for more info.
URL:https://lafayettefirst.life/event/the-sparks-weeknight-devo/
LOCATION:LaFayette First Baptist\, 201 N Main Street\, Lafayette\, GA\, 30728\, United States
ATTACH;FMTTYPE=image/jpeg:https://lafayettefirst.life/wp-content/uploads/2025/11/Spark-Devo-Dec25.jpg
ORGANIZER;CN="LaFayette First":MAILTO:info@lafayettefirst.life
END:VEVENT
BEGIN:VEVENT
DTSTART;TZID=UTC:20251203T171500
DTEND;TZID=UTC:20251203T180000
DTSTAMP:20260425T115415
CREATED:20251124T174334Z
LAST-MODIFIED:20251124T174334Z
UID:10000699-1764782100-1764784800@lafayettefirst.life
SUMMARY:Family Dinner
DESCRIPTION:Main Menu:  Chicken Alfredo & Salad Bar \nPRICES: Adults\, Youth\, and Children ages 5 and up are $7.00.  Children 4yrs and under are free.  Family maximum is $28.00. \nRESERVATIONS are required! 
URL:https://lafayettefirst.life/event/family-dinner-50/
LOCATION:LaFayette First Baptist\, 201 N Main Street\, Lafayette\, GA\, 30728\, United States
ATTACH;FMTTYPE=image/jpeg:https://lafayettefirst.life/wp-content/uploads/2025/08/Family-Dinner-Aug2025-UNDATED.jpg
ORGANIZER;CN="LaFayette First":MAILTO:info@lafayettefirst.life
END:VEVENT
BEGIN:VEVENT
DTSTART;TZID=UTC:20251210T171500
DTEND;TZID=UTC:20251210T180000
DTSTAMP:20260425T115415
CREATED:20251124T174856Z
LAST-MODIFIED:20251124T174946Z
UID:10000700-1765386900-1765389600@lafayettefirst.life
SUMMARY:Christmas Dinner
DESCRIPTION:Main Menu:  Christmas Dinner \nPRICES: Adults\, Youth\, and Children ages 5 and up are $7.00.  Children 4yrs and under are free.  Family maximum is $28.00. \nRESERVATIONS are required! 
URL:https://lafayettefirst.life/event/christmas-dinner-3/
LOCATION:LaFayette First Baptist\, 201 N Main Street\, Lafayette\, GA\, 30728\, United States
ATTACH;FMTTYPE=image/jpeg:https://lafayettefirst.life/wp-content/uploads/2025/11/christmas-dinner-25-scaled.jpg
ORGANIZER;CN="LaFayette First":MAILTO:info@lafayettefirst.life
END:VEVENT
BEGIN:VEVENT
DTSTART;TZID=UTC:20251210T181500
DTEND;TZID=UTC:20251210T193000
DTSTAMP:20260425T115415
CREATED:20251124T190216Z
LAST-MODIFIED:20251124T191014Z
UID:10000706-1765390500-1765395000@lafayettefirst.life
SUMMARY:Youth Christmas Party
DESCRIPTION:
URL:https://lafayettefirst.life/event/youth-christmas-party-2/
LOCATION:LaFayette First Baptist\, 201 N Main Street\, Lafayette\, GA\, 30728\, United States
ATTACH;FMTTYPE=image/jpeg:https://lafayettefirst.life/wp-content/uploads/2025/11/Christmas-YouthParty-scaled.jpg
ORGANIZER;CN="LaFayette First":MAILTO:info@lafayettefirst.life
END:VEVENT
END:VCALENDAR