BEGIN:VCALENDAR
VERSION:2.0
PRODID:-//LaFayette First - ECPv6.15.20//NONSGML v1.0//EN
CALSCALE:GREGORIAN
METHOD:PUBLISH
X-ORIGINAL-URL:https://lafayettefirst.life
X-WR-CALDESC:Events for LaFayette First
REFRESH-INTERVAL;VALUE=DURATION:PT1H
X-Robots-Tag:noindex
X-PUBLISHED-TTL:PT1H
BEGIN:VTIMEZONE
TZID:UTC
BEGIN:STANDARD
TZOFFSETFROM:+0000
TZOFFSETTO:+0000
TZNAME:UTC
DTSTART:20240101T000000
END:STANDARD
END:VTIMEZONE
BEGIN:VEVENT
DTSTART;TZID=UTC:20250803T110000
DTEND;TZID=UTC:20250803T120000
DTSTAMP:20260425T120548
CREATED:20250702T163100Z
LAST-MODIFIED:20250702T163100Z
UID:10000642-1754218800-1754222400@lafayettefirst.life
SUMMARY:First Grade Recognition
DESCRIPTION:
URL:https://lafayettefirst.life/event/first-grade-recognition/
LOCATION:LaFayette First Baptist\, 201 N Main Street\, Lafayette\, GA\, 30728\, United States
ATTACH;FMTTYPE=image/jpeg:https://lafayettefirst.life/wp-content/uploads/2025/07/1st-Grade-Bible-Rec-2025-scaled.jpg
ORGANIZER;CN="LaFayette First":MAILTO:info@lafayettefirst.life
END:VEVENT
BEGIN:VEVENT
DTSTART;TZID=UTC:20250805T090000
DTEND;TZID=UTC:20250805T220000
DTSTAMP:20260425T120548
CREATED:20250804T171034Z
LAST-MODIFIED:20250804T171034Z
UID:10000644-1754384400-1754431200@lafayettefirst.life
SUMMARY:Rambler Nation Prayer Train
DESCRIPTION:
URL:https://lafayettefirst.life/event/rambler-nation-prayer-train/
LOCATION:LaFayette First Baptist\, 201 N Main Street\, Lafayette\, GA\, 30728\, United States
ATTACH;FMTTYPE=image/jpeg:https://lafayettefirst.life/wp-content/uploads/2025/08/Rambler-Prayer-Chain.jpg
ORGANIZER;CN="LaFayette First":MAILTO:info@lafayettefirst.life
END:VEVENT
BEGIN:VEVENT
DTSTART;TZID=UTC:20250806T181500
DTEND;TZID=UTC:20250806T191500
DTSTAMP:20260425T120548
CREATED:20250604T141615Z
LAST-MODIFIED:20250604T141824Z
UID:10000627-1754504100-1754507700@lafayettefirst.life
SUMMARY:The Attributes of God
DESCRIPTION:
URL:https://lafayettefirst.life/event/the-attributes-of-god/2025-08-06/
LOCATION:LaFayette First Baptist\, 201 N Main Street\, Lafayette\, GA\, 30728\, United States
ATTACH;FMTTYPE=image/jpeg:https://lafayettefirst.life/wp-content/uploads/2025/06/Attributes-of-God-study-.jpg
ORGANIZER;CN="LaFayette First":MAILTO:info@lafayettefirst.life
END:VEVENT
BEGIN:VEVENT
DTSTART;TZID=UTC:20250806T181500
DTEND;TZID=UTC:20250806T191500
DTSTAMP:20260425T120548
CREATED:20250804T171416Z
LAST-MODIFIED:20250804T171416Z
UID:10000645-1754504100-1754507700@lafayettefirst.life
SUMMARY:Church Conference
DESCRIPTION:Childcare will be provided!
URL:https://lafayettefirst.life/event/church-conference-5/
LOCATION:LaFayette First Baptist\, 201 N Main Street\, Lafayette\, GA\, 30728\, United States
ATTACH;FMTTYPE=image/jpeg:https://lafayettefirst.life/wp-content/uploads/2025/08/Church-Conference-Updated-scaled.jpg
ORGANIZER;CN="LaFayette First":MAILTO:info@lafayettefirst.life
END:VEVENT
BEGIN:VEVENT
DTSTART;TZID=UTC:20250807T180000
DTEND;TZID=UTC:20250807T200000
DTSTAMP:20260425T120548
CREATED:20250804T184413Z
LAST-MODIFIED:20250804T184413Z
UID:10000654-1754589600-1754596800@lafayettefirst.life
SUMMARY:Grief Share
DESCRIPTION:A grief support group designed to help and encourage anyone who has experienced the death of a spouse\, child\, family member\, or friend. \nIncludes encouraging\, information-packed videos featuring leading grief recovery experts\, small group discussion about video content\, a workbook to use for journaling and personal study exercises that reinforce the weekly session topics.  Topics include: Is This Normal?\, Challenges of Grief\, The Journey of Grief\, Grief and Relationships\, Why?\, Guilt and Anger\, Being Stuck\, Lessons of Grief\, Heaven\, What Do I Live For Now? \nNo cost.  Meets every Thursday night beginning August 7 from 6 to 8pm in LaFayette First Baptist Fellowship Hall.
URL:https://lafayettefirst.life/event/grief-share-5/
LOCATION:LaFayette First Baptist\, 201 N Main Street\, Lafayette\, GA\, 30728\, United States
ATTACH;FMTTYPE=image/jpeg:https://lafayettefirst.life/wp-content/uploads/2025/07/Grief-Share-August-2025.jpg
ORGANIZER;CN="LaFayette First":MAILTO:info@lafayettefirst.life
END:VEVENT
BEGIN:VEVENT
DTSTART;TZID=UTC:20250813T080000
DTEND;TZID=UTC:20250813T170000
DTSTAMP:20260425T120548
CREATED:20250813T164859Z
LAST-MODIFIED:20250813T164859Z
UID:10000657-1755072000-1755104400@lafayettefirst.life
SUMMARY:Family Dinner
DESCRIPTION:Menu: BBQ\, Chicken Tenders\, Baked Beans\, Slaw\, Chips\, Pickles\, Dessert
URL:https://lafayettefirst.life/event/family-dinner-40/
LOCATION:LaFayette First Baptist\, 201 N Main Street\, Lafayette\, GA\, 30728\, United States
ATTACH;FMTTYPE=image/jpeg:https://lafayettefirst.life/wp-content/uploads/2025/08/Family-Dinner-Aug2025-UNDATED.jpg
ORGANIZER;CN="LaFayette First":MAILTO:info@lafayettefirst.life
END:VEVENT
BEGIN:VEVENT
DTSTART;TZID=UTC:20250813T173000
DTEND;TZID=UTC:20250813T190000
DTSTAMP:20260425T120548
CREATED:20250804T173234Z
LAST-MODIFIED:20250804T173234Z
UID:10000648-1755106200-1755111600@lafayettefirst.life
SUMMARY:Block Party
DESCRIPTION:
URL:https://lafayettefirst.life/event/block-party-3/
LOCATION:LaFayette First Baptist\, 201 N Main Street\, Lafayette\, GA\, 30728\, United States
ATTACH;FMTTYPE=image/jpeg:https://lafayettefirst.life/wp-content/uploads/2025/08/Block-Party-2025-SMALL.jpg
ORGANIZER;CN="LaFayette First":MAILTO:info@lafayettefirst.life
END:VEVENT
BEGIN:VEVENT
DTSTART;TZID=UTC:20250813T181500
DTEND;TZID=UTC:20250813T191500
DTSTAMP:20260425T120548
CREATED:20250604T141615Z
LAST-MODIFIED:20250604T141824Z
UID:10000628-1755108900-1755112500@lafayettefirst.life
SUMMARY:The Attributes of God
DESCRIPTION:
URL:https://lafayettefirst.life/event/the-attributes-of-god/2025-08-13/
LOCATION:LaFayette First Baptist\, 201 N Main Street\, Lafayette\, GA\, 30728\, United States
ATTACH;FMTTYPE=image/jpeg:https://lafayettefirst.life/wp-content/uploads/2025/06/Attributes-of-God-study-.jpg
ORGANIZER;CN="LaFayette First":MAILTO:info@lafayettefirst.life
END:VEVENT
BEGIN:VEVENT
DTSTART;TZID=UTC:20250820T173000
DTEND;TZID=UTC:20250820T181500
DTSTAMP:20260425T120548
CREATED:20250804T185509Z
LAST-MODIFIED:20250806T132020Z
UID:10000655-1755711000-1755713700@lafayettefirst.life
SUMMARY:Family Dinner
DESCRIPTION:Main Menu: Mexican Fiesta\nPRICES: Adults\, Youth\, and Children ages 5 and up are $7.00.  Children 4yrs and under are free.  Family maximum is $28.00.\nRESERVATIONS are required!
URL:https://lafayettefirst.life/event/family-dinner-38/
LOCATION:LaFayette First Baptist\, 201 N Main Street\, Lafayette\, GA\, 30728\, United States
ATTACH;FMTTYPE=image/jpeg:https://lafayettefirst.life/wp-content/uploads/2025/08/Family-Dinner-Aug2025.jpg
ORGANIZER;CN="LaFayette First":MAILTO:info@lafayettefirst.life
END:VEVENT
BEGIN:VEVENT
DTSTART;TZID=UTC:20250820T173000
DTEND;TZID=UTC:20250820T193000
DTSTAMP:20260425T120548
CREATED:20250804T171930Z
LAST-MODIFIED:20250804T171930Z
UID:10000646-1755711000-1755718200@lafayettefirst.life
SUMMARY:Back to School Bash
DESCRIPTION:
URL:https://lafayettefirst.life/event/back-to-school-bash/
LOCATION:LaFayette First Baptist\, 201 N Main Street\, Lafayette\, GA\, 30728\, United States
ATTACH;FMTTYPE=image/jpeg:https://lafayettefirst.life/wp-content/uploads/2025/08/Youth-B2S-Bash-2025.jpg
ORGANIZER;CN="LaFayette First":MAILTO:info@lafayettefirst.life
END:VEVENT
BEGIN:VEVENT
DTSTART;TZID=UTC:20250820T180000
DTEND;TZID=UTC:20250820T180000
DTSTAMP:20260425T120548
CREATED:20250804T172958Z
LAST-MODIFIED:20250804T173031Z
UID:10000647-1755712800-1755712800@lafayettefirst.life
SUMMARY:Kids Missions
DESCRIPTION:
URL:https://lafayettefirst.life/event/kids-missions-2/
LOCATION:LaFayette First Baptist\, 201 N Main Street\, Lafayette\, GA\, 30728\, United States
ATTACH;FMTTYPE=image/jpeg:https://lafayettefirst.life/wp-content/uploads/2025/08/Kids-Wednesday-Nights-DATED.jpg
ORGANIZER;CN="LaFayette First":MAILTO:info@lafayettefirst.life
END:VEVENT
BEGIN:VEVENT
DTSTART;TZID=UTC:20250820T181500
DTEND;TZID=UTC:20250820T191500
DTSTAMP:20260425T120548
CREATED:20250604T141615Z
LAST-MODIFIED:20250604T141824Z
UID:10000629-1755713700-1755717300@lafayettefirst.life
SUMMARY:The Attributes of God
DESCRIPTION:
URL:https://lafayettefirst.life/event/the-attributes-of-god/2025-08-20/
LOCATION:LaFayette First Baptist\, 201 N Main Street\, Lafayette\, GA\, 30728\, United States
ATTACH;FMTTYPE=image/jpeg:https://lafayettefirst.life/wp-content/uploads/2025/06/Attributes-of-God-study-.jpg
ORGANIZER;CN="LaFayette First":MAILTO:info@lafayettefirst.life
END:VEVENT
BEGIN:VEVENT
DTSTART;TZID=UTC:20250823T083000
DTEND;TZID=UTC:20250823T123000
DTSTAMP:20260425T120548
CREATED:20250804T170739Z
LAST-MODIFIED:20250804T170739Z
UID:10000643-1755937800-1755952200@lafayettefirst.life
SUMMARY:2025 Spark Conference
DESCRIPTION:
URL:https://lafayettefirst.life/event/2025-spark-conference/
LOCATION:Peavine Bapis Chuch\, Rock Spring\, GA
ATTACH;FMTTYPE=image/jpeg:https://lafayettefirst.life/wp-content/uploads/2025/08/Spark-Conference-2025-copy-scaled.jpg
END:VEVENT
BEGIN:VEVENT
DTSTART;TZID=UTC:20250827T171500
DTEND;TZID=UTC:20250827T181500
DTSTAMP:20260425T120548
CREATED:20250806T132453Z
LAST-MODIFIED:20250806T132453Z
UID:10000656-1756314900-1756318500@lafayettefirst.life
SUMMARY:Family Dinner
DESCRIPTION:Main Menu: Meatloaf\, Pinto Beans\, Mashed Potatoes\, Slaw\, Cornbread\, Dessert\nChildren’s Line: Chicken Tenders \nPRICES: Adults\, Youth\, and Children ages 5 and up are $7.00.  Children 4yrs and under are free.  Family maximum is $28.00. \nRESERVATIONS are required! 
URL:https://lafayettefirst.life/event/family-dinner-39/
LOCATION:LaFayette First Baptist\, 201 N Main Street\, Lafayette\, GA\, 30728\, United States
ATTACH;FMTTYPE=image/jpeg:https://lafayettefirst.life/wp-content/uploads/2025/08/Family-Dinner-Aug2025.jpg
ORGANIZER;CN="LaFayette First":MAILTO:info@lafayettefirst.life
END:VEVENT
BEGIN:VEVENT
DTSTART;TZID=UTC:20250827T180000
DTEND;TZID=UTC:20250827T193000
DTSTAMP:20260425T120548
CREATED:20250804T173402Z
LAST-MODIFIED:20250804T173402Z
UID:10000649-1756317600-1756323000@lafayettefirst.life
SUMMARY:CHAOS
DESCRIPTION:
URL:https://lafayettefirst.life/event/chaos/
LOCATION:LaFayette First Baptist\, 201 N Main Street\, Lafayette\, GA\, 30728\, United States
ATTACH;FMTTYPE=image/jpeg:https://lafayettefirst.life/wp-content/uploads/2025/08/CHAOS-reg-schedule-2025-scaled.jpg
ORGANIZER;CN="LaFayette First":MAILTO:info@lafayettefirst.life
END:VEVENT
BEGIN:VEVENT
DTSTART;TZID=UTC:20250827T181500
DTEND;TZID=UTC:20250827T191500
DTSTAMP:20260425T120548
CREATED:20250604T141615Z
LAST-MODIFIED:20250604T141824Z
UID:10000630-1756318500-1756322100@lafayettefirst.life
SUMMARY:The Attributes of God
DESCRIPTION:
URL:https://lafayettefirst.life/event/the-attributes-of-god/2025-08-27/
LOCATION:LaFayette First Baptist\, 201 N Main Street\, Lafayette\, GA\, 30728\, United States
ATTACH;FMTTYPE=image/jpeg:https://lafayettefirst.life/wp-content/uploads/2025/06/Attributes-of-God-study-.jpg
ORGANIZER;CN="LaFayette First":MAILTO:info@lafayettefirst.life
END:VEVENT
BEGIN:VEVENT
DTSTART;TZID=UTC:20250830T083000
DTEND;TZID=UTC:20250830T133000
DTSTAMP:20260425T120548
CREATED:20250804T173920Z
LAST-MODIFIED:20250804T173920Z
UID:10000651-1756542600-1756560600@lafayettefirst.life
SUMMARY:Institute Workshop
DESCRIPTION:
URL:https://lafayettefirst.life/event/institute-workshop-3/
LOCATION:LaFayette First Baptist\, 201 N Main Street\, Lafayette\, GA\, 30728\, United States
ATTACH;FMTTYPE=image/jpeg:https://lafayettefirst.life/wp-content/uploads/2025/08/Institute-Workshop-SEPT-2025-scaled.jpg
ORGANIZER;CN="LaFayette First":MAILTO:info@lafayettefirst.life
END:VEVENT
BEGIN:VEVENT
DTSTART;TZID=UTC:20250831T110000
DTEND;TZID=UTC:20250831T120000
DTSTAMP:20260425T120548
CREATED:20250804T173616Z
LAST-MODIFIED:20250804T173616Z
UID:10000650-1756638000-1756641600@lafayettefirst.life
SUMMARY:Family Worship
DESCRIPTION:
URL:https://lafayettefirst.life/event/family-worship/
LOCATION:LaFayette First Baptist\, 201 N Main Street\, Lafayette\, GA\, 30728\, United States
ATTACH;FMTTYPE=image/jpeg:https://lafayettefirst.life/wp-content/uploads/2025/08/Family-Worship-Aug25.jpg
ORGANIZER;CN="LaFayette First":MAILTO:info@lafayettefirst.life
END:VEVENT
BEGIN:VEVENT
DTSTART;TZID=UTC:20250903T171500
DTEND;TZID=UTC:20250903T180000
DTSTAMP:20260425T120548
CREATED:20250902T174922Z
LAST-MODIFIED:20250904T163547Z
UID:10000658-1756919700-1756922400@lafayettefirst.life
SUMMARY:Family Dinner
DESCRIPTION:Main Menu: BBQ\, Chicken Tenders\, Baked Beans\, Slaw\, Chips\, Pickles\, Dessert
URL:https://lafayettefirst.life/event/family-dinner-41/
LOCATION:LaFayette First Baptist\, 201 N Main Street\, Lafayette\, GA\, 30728\, United States
ATTACH;FMTTYPE=image/jpeg:https://lafayettefirst.life/wp-content/uploads/2025/08/Family-Dinner-Aug2025-UNDATED.jpg
ORGANIZER;CN="LaFayette First":MAILTO:info@lafayettefirst.life
END:VEVENT
BEGIN:VEVENT
DTSTART;TZID=UTC:20250903T181500
DTEND;TZID=UTC:20250903T191500
DTSTAMP:20260425T120548
CREATED:20250804T174315Z
LAST-MODIFIED:20250804T174315Z
UID:10000652-1756923300-1756926900@lafayettefirst.life
SUMMARY:Institute Course
DESCRIPTION:In this 10-week study\, you will dive into the life of Christ like never before. Studying not just what He said\, but what He did\, why He did it\, and what that means for you in your context. Discover the six foundational practices that Jesus prioritized and learn how you can implement them in your own life. You’ll be amazed at all the new things you will see as you study familiar passages from a new angle. \nA book is not required for this course\, but it is strongly encouraged. If you would like to order\, please check add on option as you sign up.  Cost for book is $18.
URL:https://lafayettefirst.life/event/institute-course/
LOCATION:LaFayette First Baptist\, 201 N Main Street\, Lafayette\, GA\, 30728\, United States
ATTACH;FMTTYPE=image/jpeg:https://lafayettefirst.life/wp-content/uploads/2025/08/Institute-Course-SEPT-2025-scaled.jpg
ORGANIZER;CN="LaFayette First":MAILTO:info@lafayettefirst.life
END:VEVENT
BEGIN:VEVENT
DTSTART;TZID=UTC:20250906T083000
DTEND;TZID=UTC:20250906T133000
DTSTAMP:20260425T120548
CREATED:20250902T180426Z
LAST-MODIFIED:20250902T180426Z
UID:10000659-1757147400-1757165400@lafayettefirst.life
SUMMARY:Institute Workshop:
DESCRIPTION:DEADLINE TO REGISTER IS TUESDAY\, SEPTEMBER 2
URL:https://lafayettefirst.life/event/institute-workshop-4/
LOCATION:LaFayette First Baptist\, 201 N Main Street\, Lafayette\, GA\, 30728\, United States
ATTACH;FMTTYPE=image/jpeg:https://lafayettefirst.life/wp-content/uploads/2025/09/Institute-Workshop-SEPT-2025-scaled.jpg
ORGANIZER;CN="LaFayette First":MAILTO:info@lafayettefirst.life
END:VEVENT
BEGIN:VEVENT
DTSTART;VALUE=DATE:20250907
DTEND;VALUE=DATE:20250908
DTSTAMP:20260425T120548
CREATED:20250904T171521Z
LAST-MODIFIED:20250904T171549Z
UID:10000666-1757203200-1757289599@lafayettefirst.life
SUMMARY:FOOD DRIVE
DESCRIPTION:
URL:https://lafayettefirst.life/event/food-drive/
LOCATION:LaFayette First Baptist\, 201 N Main Street\, Lafayette\, GA\, 30728\, United States
ATTACH;FMTTYPE=image/jpeg:https://lafayettefirst.life/wp-content/uploads/2025/09/DFACS-Food-Drive-2025-copy-scaled.jpg
ORGANIZER;CN="LaFayette First":MAILTO:info@lafayettefirst.life
END:VEVENT
BEGIN:VEVENT
DTSTART;TZID=UTC:20250910T171500
DTEND;TZID=UTC:20250910T180000
DTSTAMP:20260425T120548
CREATED:20250904T160534Z
LAST-MODIFIED:20250904T163738Z
UID:10000660-1757524500-1757527200@lafayettefirst.life
SUMMARY:Family Dinner
DESCRIPTION:Main Menu: Party Chicken\, Rice\, Sweet Potatoes\, Green Beans\, Rolls\, Dessert \n 
URL:https://lafayettefirst.life/event/family-dinner-42/
LOCATION:LaFayette First Baptist\, 201 N Main Street\, Lafayette\, GA\, 30728\, United States
ATTACH;FMTTYPE=image/jpeg:https://lafayettefirst.life/wp-content/uploads/2025/08/Family-Dinner-Aug2025-UNDATED.jpg
ORGANIZER;CN="LaFayette First":MAILTO:info@lafayettefirst.life
END:VEVENT
BEGIN:VEVENT
DTSTART;TZID=UTC:20250910T181500
DTEND;TZID=UTC:20250910T190000
DTSTAMP:20260425T120548
CREATED:20250904T171155Z
LAST-MODIFIED:20250904T171155Z
UID:10000665-1757528100-1757530800@lafayettefirst.life
SUMMARY:Institute Course
DESCRIPTION:In this 10-week study\, you will dive into the life of Christ like never before. Studying not just what He said\, but what He did\, why He did it\, and what that means for you in your context. Discover the six foundational practices that Jesus prioritized and learn how you can implement them in your own life. You’ll be amazed at all the new things you will see as you study familiar passages from a new angle. \nA book is not required for this course\, but it is strongly encouraged. If you would like to order\, please check add on option as you sign up.  Cost for book is $18.
URL:https://lafayettefirst.life/event/institute-course-2/
LOCATION:LaFayette First Baptist\, 201 N Main Street\, Lafayette\, GA\, 30728\, United States
ATTACH;FMTTYPE=image/jpeg:https://lafayettefirst.life/wp-content/uploads/2025/08/Institute-Course-SEPT-2025-scaled.jpg
ORGANIZER;CN="LaFayette First":MAILTO:info@lafayettefirst.life
END:VEVENT
BEGIN:VEVENT
DTSTART;TZID=UTC:20250914T170000
DTEND;TZID=UTC:20250914T190000
DTSTAMP:20260425T120548
CREATED:20250904T170539Z
LAST-MODIFIED:20250904T170608Z
UID:10000664-1757869200-1757876400@lafayettefirst.life
SUMMARY:Guess Who's Coming to Dinner
DESCRIPTION:A fun event to get to know and spend time with your church family!  Sign up with a total number of family members who will attend and you will be assigned a home to go to for dinner.  Dinner will be provided.  You DO NOT host….you’re the guest!  Your host will not have a list of people coming to their home\, so it’s a surprise every time the door bell rings!
URL:https://lafayettefirst.life/event/guess-whos-coming-to-dinner-4/
LOCATION:LaFayette First Baptist\, 201 N Main Street\, Lafayette\, GA\, 30728\, United States
ATTACH;FMTTYPE=image/jpeg:https://lafayettefirst.life/wp-content/uploads/2025/09/Guess-Whos-Coming-to-Dinner-2025-scaled.jpg
ORGANIZER;CN="LaFayette First":MAILTO:info@lafayettefirst.life
END:VEVENT
BEGIN:VEVENT
DTSTART;TZID=UTC:20250917T171500
DTEND;TZID=UTC:20250917T180000
DTSTAMP:20260425T120548
CREATED:20250904T161246Z
LAST-MODIFIED:20250904T164318Z
UID:10000661-1758129300-1758132000@lafayettefirst.life
SUMMARY:Family Dinner
DESCRIPTION:Main Menu: Country Fried Steak\, Mashed Potatoes\, Okra\, Tomatoes\, Biscuits\, Gravy\, Dessert\nChildren’s Menu:  Chicken tenders\n 
URL:https://lafayettefirst.life/event/family-dinner-43/
LOCATION:LaFayette First Baptist\, 201 N Main Street\, Lafayette\, GA\, 30728\, United States
ATTACH;FMTTYPE=image/jpeg:https://lafayettefirst.life/wp-content/uploads/2025/08/Family-Dinner-Aug2025-UNDATED.jpg
ORGANIZER;CN="LaFayette First":MAILTO:info@lafayettefirst.life
END:VEVENT
BEGIN:VEVENT
DTSTART;TZID=UTC:20250918T100000
DTEND;TZID=UTC:20250918T120000
DTSTAMP:20260425T120548
CREATED:20250904T165531Z
LAST-MODIFIED:20250904T165637Z
UID:10000663-1758189600-1758196800@lafayettefirst.life
SUMMARY:Ladies Bible Study
DESCRIPTION:
URL:https://lafayettefirst.life/event/ladies-bible-study-4/
LOCATION:LaFayette First Baptist\, 201 N Main Street\, Lafayette\, GA\, 30728\, United States
ATTACH;FMTTYPE=image/jpeg:https://lafayettefirst.life/wp-content/uploads/2025/09/Ladies-Thurs-BS-Sept25-scaled.jpg
ORGANIZER;CN="LaFayette First":MAILTO:info@lafayettefirst.life
END:VEVENT
BEGIN:VEVENT
DTSTART;TZID=UTC:20250921T123000
DTEND;TZID=UTC:20250921T133000
DTSTAMP:20260425T120548
CREATED:20250904T172744Z
LAST-MODIFIED:20250904T172931Z
UID:10000668-1758457800-1758461400@lafayettefirst.life
SUMMARY:Argentina Fundraiser Lunch
DESCRIPTION:
URL:https://lafayettefirst.life/event/argentina-fundraiser-lunch-2/
LOCATION:LaFayette First Baptist\, 201 N Main Street\, Lafayette\, GA\, 30728\, United States
ATTACH;FMTTYPE=image/jpeg:https://lafayettefirst.life/wp-content/uploads/2025/09/Argentina-Steak-Lunch-Sept25-scaled.jpg
ORGANIZER;CN="LaFayette First":MAILTO:info@lafayettefirst.life
END:VEVENT
BEGIN:VEVENT
DTSTART;TZID=UTC:20250924T171500
DTEND;TZID=UTC:20250924T180000
DTSTAMP:20260425T120548
CREATED:20250904T162754Z
LAST-MODIFIED:20250904T163442Z
UID:10000662-1758734100-1758736800@lafayettefirst.life
SUMMARY:Family Dinner
DESCRIPTION:Main Menu: Baked Ham\, Sweet Potato Casserole\, Green Beans\, Slaw\, Rolls\, Dessert\nChildren’s Menu:  Mac & Cheese
URL:https://lafayettefirst.life/event/family-dinner-44/
LOCATION:LaFayette First Baptist\, 201 N Main Street\, Lafayette\, GA\, 30728\, United States
ATTACH;FMTTYPE=image/jpeg:https://lafayettefirst.life/wp-content/uploads/2025/08/Family-Dinner-Aug2025-UNDATED.jpg
ORGANIZER;CN="LaFayette First":MAILTO:info@lafayettefirst.life
END:VEVENT
BEGIN:VEVENT
DTSTART;TZID=UTC:20250927T083000
DTEND;TZID=UTC:20250927T083000
DTSTAMP:20260425T120548
CREATED:20250904T172505Z
LAST-MODIFIED:20250904T172541Z
UID:10000667-1758961800-1758961800@lafayettefirst.life
SUMMARY:Bed Build Project
DESCRIPTION:
URL:https://lafayettefirst.life/event/bed-build-project/
LOCATION:LaFayette First Baptist\, 201 N Main Street\, Lafayette\, GA\, 30728\, United States
ATTACH;FMTTYPE=image/jpeg:https://lafayettefirst.life/wp-content/uploads/2025/09/Bed-Build-scaled.jpg
END:VEVENT
END:VCALENDAR