BEGIN:VCALENDAR
VERSION:2.0
PRODID:-//LaFayette First - ECPv6.15.20//NONSGML v1.0//EN
CALSCALE:GREGORIAN
METHOD:PUBLISH
X-WR-CALNAME:LaFayette First
X-ORIGINAL-URL:https://lafayettefirst.life
X-WR-CALDESC:Events for LaFayette First
REFRESH-INTERVAL;VALUE=DURATION:PT1H
X-Robots-Tag:noindex
X-PUBLISHED-TTL:PT1H
BEGIN:VTIMEZONE
TZID:UTC
BEGIN:STANDARD
TZOFFSETFROM:+0000
TZOFFSETTO:+0000
TZNAME:UTC
DTSTART:20230101T000000
END:STANDARD
END:VTIMEZONE
BEGIN:VEVENT
DTSTART;TZID=UTC:20240623T170000
DTEND;TZID=UTC:20240623T190000
DTSTAMP:20260426T043613
CREATED:20240523T162411Z
LAST-MODIFIED:20240523T162541Z
UID:10000328-1719162000-1719169200@lafayettefirst.life
SUMMARY:Grill Walk
DESCRIPTION:We just need to know you are coming to help!  Sign up today!
URL:https://lafayettefirst.life/event/grill-walk/
LOCATION:LaFayette First Baptist\, 201 N Main Street\, Lafayette\, GA\, 30728\, United States
ATTACH;FMTTYPE=image/jpeg:https://lafayettefirst.life/wp-content/uploads/2024/05/Grill-Walk-scaled.jpg
ORGANIZER;CN="LaFayette First":MAILTO:info@lafayettefirst.life
END:VEVENT
BEGIN:VEVENT
DTSTART;VALUE=DATE:20240610
DTEND;VALUE=DATE:20240615
DTSTAMP:20260426T043613
CREATED:20240220T165142Z
LAST-MODIFIED:20240220T165824Z
UID:10000295-1717977600-1718409599@lafayettefirst.life
SUMMARY:Centri-Kid Camp
DESCRIPTION:All 3rd – 6th graders (grade you are currently in) are invited to go to camp with us this summer!  Those finishing 2nd Grade can go if an adult goes with them.  Have a blast and learn about Jesus at the same time! \nMonday\, June 10 – Friday\, June 14\, 2024\nLee University in Cleveland\, TN\nTotal cost is $379\, but we will be doing fundraisers to help offset that cost.  A $75 deposit is due immediately to hold your spot.  Any questions\, see Jordan Little.
URL:https://lafayettefirst.life/event/centri-kid-camp/
LOCATION:Lee University\, Cleveland\, TN\, United States
ORGANIZER;CN="LaFayette First":MAILTO:info@lafayettefirst.life
END:VEVENT
BEGIN:VEVENT
DTSTART;TZID=UTC:20240607T180000
DTEND;TZID=UTC:20240607T194500
DTSTAMP:20260426T043613
CREATED:20240507T172303Z
LAST-MODIFIED:20240507T172838Z
UID:10000323-1717783200-1717789500@lafayettefirst.life
SUMMARY:Girl's Night Out
DESCRIPTION:
URL:https://lafayettefirst.life/event/girls-night-out/
LOCATION:Hometown Sip & Scoop\, 119 S Chattanooga Street\, LaFayette\, GA\, 30728\, United States
ATTACH;FMTTYPE=image/jpeg:https://lafayettefirst.life/wp-content/uploads/2024/05/Girls-Night-Out-scaled.jpg
ORGANIZER;CN="LaFayette First":MAILTO:info@lafayettefirst.life
END:VEVENT
BEGIN:VEVENT
DTSTART;TZID=UTC:20240604T090000
DTEND;TZID=UTC:20240604T103000
DTSTAMP:20260426T043613
CREATED:20240528T165934Z
LAST-MODIFIED:20240528T170009Z
UID:10000334-1717491600-1717497000@lafayettefirst.life
SUMMARY:Trippin' Tuesday
DESCRIPTION:Tuesday\, June 4\n9am\, Meet @ the Angland Home!\nFun Day Trip for Blast Kids and Parents.  Please call our Children’s Director\, Jordon Little at 423-961-4388 for more info and address.   Lunch will be provided. \nMore details to come for planned Tripping Tuesday trips scheduled for June 25\, July 16\, and July 23.  Be sure to check out our LaFayette First-Blastkids facebook page for updates
URL:https://lafayettefirst.life/event/trippin-tuesday/
LOCATION:LaFayette First Baptist\, 201 N Main Street\, Lafayette\, GA\, 30728\, United States
ATTACH;FMTTYPE=image/jpeg:https://lafayettefirst.life/wp-content/uploads/2024/05/Trippin-Tuesdays-24.jpg
ORGANIZER;CN="LaFayette First":MAILTO:info@lafayettefirst.life
END:VEVENT
BEGIN:VEVENT
DTSTART;TZID=UTC:20240601T090000
DTEND;TZID=UTC:20240601T170000
DTSTAMP:20260426T043613
CREATED:20240430T171228Z
LAST-MODIFIED:20240430T171228Z
UID:10000318-1717232400-1717261200@lafayettefirst.life
SUMMARY:Honeybee Festival Volunteers Needed!
DESCRIPTION:
URL:https://lafayettefirst.life/event/honeybee-festival-volunteers-needed/
LOCATION:LaFayette First Baptist\, 201 N Main Street\, Lafayette\, GA\, 30728\, United States
ATTACH;FMTTYPE=image/jpeg:https://lafayettefirst.life/wp-content/uploads/2024/04/honeybee-festival.jpg
END:VEVENT
BEGIN:VEVENT
DTSTART;VALUE=DATE:20240601
DTEND;VALUE=DATE:20240602
DTSTAMP:20260426T043613
CREATED:20240528T165526Z
LAST-MODIFIED:20240528T165526Z
UID:10000333-1717200000-1717286399@lafayettefirst.life
SUMMARY:Pastor Derrick's Ministry Anniversary!
DESCRIPTION:
URL:https://lafayettefirst.life/event/pastor-derricks-ministry-anniversary/
LOCATION:LaFayette First Baptist\, 201 N Main Street\, Lafayette\, GA\, 30728\, United States
ATTACH;FMTTYPE=image/jpeg:https://lafayettefirst.life/wp-content/uploads/2024/05/Derrick-6th-year-Anniversary-scaled.jpg
ORGANIZER;CN="LaFayette First":MAILTO:info@lafayettefirst.life
END:VEVENT
BEGIN:VEVENT
DTSTART;TZID=UTC:20240529T181500
DTEND;TZID=UTC:20240529T193000
DTSTAMP:20260426T043613
CREATED:20240508T155219Z
LAST-MODIFIED:20240508T155219Z
UID:10000327-1717006500-1717011000@lafayettefirst.life
SUMMARY:The Attributes of God: A Study with Pastor Derrick
DESCRIPTION:(No children’s activities.  Youth will meet at 6;30pm)
URL:https://lafayettefirst.life/event/the-attributes-of-god-a-study-with-pastor-derrick-3/
LOCATION:LaFayette First Baptist\, 201 N Main Street\, Lafayette\, GA\, 30728\, United States
ATTACH;FMTTYPE=image/jpeg:https://lafayettefirst.life/wp-content/uploads/2024/05/Attributes-of-God-study-scaled.jpg
ORGANIZER;CN="LaFayette First":MAILTO:info@lafayettefirst.life
END:VEVENT
BEGIN:VEVENT
DTSTART;TZID=UTC:20240522T181500
DTEND;TZID=UTC:20240522T193000
DTSTAMP:20260426T043613
CREATED:20240508T155010Z
LAST-MODIFIED:20240508T155010Z
UID:10000326-1716401700-1716406200@lafayettefirst.life
SUMMARY:The Attributes of God: A Study with Pastor Derrick
DESCRIPTION:
URL:https://lafayettefirst.life/event/the-attributes-of-god-a-study-with-pastor-derrick-2/
LOCATION:LaFayette First Baptist\, 201 N Main Street\, Lafayette\, GA\, 30728\, United States
ATTACH;FMTTYPE=image/jpeg:https://lafayettefirst.life/wp-content/uploads/2024/05/Attributes-of-God-study-scaled.jpg
ORGANIZER;CN="LaFayette First":MAILTO:info@lafayettefirst.life
END:VEVENT
BEGIN:VEVENT
DTSTART;TZID=UTC:20240522T181500
DTEND;TZID=UTC:20240522T191500
DTSTAMP:20260426T043613
CREATED:20240430T170525Z
LAST-MODIFIED:20240430T170708Z
UID:10000317-1716401700-1716405300@lafayettefirst.life
SUMMARY:Children's Powder Party
DESCRIPTION:Join us for an exciting time as our children play and color their world!
URL:https://lafayettefirst.life/event/childrens-powder-party/
LOCATION:LaFayette First Baptist\, 201 N Main Street\, Lafayette\, GA\, 30728\, United States
ATTACH;FMTTYPE=image/jpeg:https://lafayettefirst.life/wp-content/uploads/2024/04/End-of-Year-Powder-Party-scaled.jpg
ORGANIZER;CN="LaFayette First":MAILTO:info@lafayettefirst.life
END:VEVENT
BEGIN:VEVENT
DTSTART;TZID=UTC:20240522T171500
DTEND;TZID=UTC:20240522T180000
DTSTAMP:20260426T043613
CREATED:20240430T172859Z
LAST-MODIFIED:20240430T172859Z
UID:10000322-1716398100-1716400800@lafayettefirst.life
SUMMARY:Family Dinner
DESCRIPTION:Details\n\n\n\nMain Menu: Hamburgers/Hotdogs\, All the fixings\, and Dessert\n   \nPRICES\nAdults\, Youth\, and Children ages 5 and up are $5.00.  Children 4yrs and under are free.  Family maximum is $20.00. \nRESERVATIONS are required! 
URL:https://lafayettefirst.life/event/family-dinner-11/
LOCATION:LaFayette First Baptist\, 201 N Main Street\, Lafayette\, GA\, 30728\, United States
ATTACH;FMTTYPE=image/jpeg:https://lafayettefirst.life/wp-content/uploads/2024/01/Family-Night-Dinner-copy.jpg
ORGANIZER;CN="LaFayette First":MAILTO:info@lafayettefirst.life
END:VEVENT
BEGIN:VEVENT
DTSTART;TZID=UTC:20240519T110000
DTEND;TZID=UTC:20240519T120000
DTSTAMP:20260426T043613
CREATED:20240430T165059Z
LAST-MODIFIED:20240430T165154Z
UID:10000315-1716116400-1716120000@lafayettefirst.life
SUMMARY:5th Grade Recognition
DESCRIPTION:All 5th graders will be recognized during our Morning Worship Service. \nIf you have a 5th grader and will be attending\, please let the church office know.
URL:https://lafayettefirst.life/event/5th-grade-recognition-2/
LOCATION:LaFayette First Baptist\, 201 N Main Street\, Lafayette\, GA\, 30728\, United States
ATTACH;FMTTYPE=image/jpeg:https://lafayettefirst.life/wp-content/uploads/2024/04/5th-Grade-Recog-2024-scaled.jpg
ORGANIZER;CN="LaFayette First":MAILTO:info@lafayettefirst.life
END:VEVENT
BEGIN:VEVENT
DTSTART;TZID=UTC:20240515T181500
DTEND;TZID=UTC:20240515T193000
DTSTAMP:20260426T043613
CREATED:20240508T154908Z
LAST-MODIFIED:20240508T154908Z
UID:10000325-1715796900-1715801400@lafayettefirst.life
SUMMARY:The Attributes of God: A Study with Pastor Derrick
DESCRIPTION:
URL:https://lafayettefirst.life/event/the-attributes-of-god-a-study-with-pastor-derrick/
LOCATION:LaFayette First Baptist\, 201 N Main Street\, Lafayette\, GA\, 30728\, United States
ATTACH;FMTTYPE=image/jpeg:https://lafayettefirst.life/wp-content/uploads/2024/05/Attributes-of-God-study-scaled.jpg
ORGANIZER;CN="LaFayette First":MAILTO:info@lafayettefirst.life
END:VEVENT
BEGIN:VEVENT
DTSTART;TZID=UTC:20240515T080000
DTEND;TZID=UTC:20240515T170000
DTSTAMP:20260426T043613
CREATED:20240430T172633Z
LAST-MODIFIED:20240430T172633Z
UID:10000321-1715760000-1715792400@lafayettefirst.life
SUMMARY:Family Dinner
DESCRIPTION:Main Menu:  Ham\, Chicken Fingers\, Sweet Potato Casserole\, Green Beans\,  Slaw\, Rolls & Dessert \n   \nChildren’s Line and/or Any Age: Chicken Fingers & Fries \nPRICES\nAdults\, Youth\, and Children ages 5 and up are $5.00.  Children 4yrs and under are free.  Family maximum is $20.00. \nRESERVATIONS are required! 
URL:https://lafayettefirst.life/event/family-dinner-10/
LOCATION:LaFayette First Baptist\, 201 N Main Street\, Lafayette\, GA\, 30728\, United States
ATTACH;FMTTYPE=image/jpeg:https://lafayettefirst.life/wp-content/uploads/2024/01/Family-Night-Dinner-copy.jpg
ORGANIZER;CN="LaFayette First":MAILTO:info@lafayettefirst.life
END:VEVENT
BEGIN:VEVENT
DTSTART;TZID=UTC:20240509T180000
DTEND;TZID=UTC:20240509T190000
DTSTAMP:20260426T043613
CREATED:20240430T164354Z
LAST-MODIFIED:20240430T164428Z
UID:10000314-1715277600-1715281200@lafayettefirst.life
SUMMARY:WeeCare Year End Celebration
DESCRIPTION:
URL:https://lafayettefirst.life/event/weecare-year-end-celebration/
LOCATION:LaFayette First Baptist\, 201 N Main Street\, Lafayette\, GA\, 30728\, United States
ATTACH;FMTTYPE=image/jpeg:https://lafayettefirst.life/wp-content/uploads/2024/04/end-of-year-celebration-2024.jpg
ORGANIZER;CN="LaFayette First":MAILTO:info@lafayettefirst.life
END:VEVENT
BEGIN:VEVENT
DTSTART;TZID=UTC:20240508T183000
DTEND;TZID=UTC:20240508T193000
DTSTAMP:20260426T043613
CREATED:20240430T133808Z
LAST-MODIFIED:20240430T141700Z
UID:10000313-1715193000-1715196600@lafayettefirst.life
SUMMARY:Prayer Partner Tea Party
DESCRIPTION:They GA’s are hosting a Tea Party for their prayer partners!
URL:https://lafayettefirst.life/event/prayer-partner-tea-party/
LOCATION:LaFayette First Baptist\, 201 N Main Street\, Lafayette\, GA\, 30728\, United States
ATTACH;FMTTYPE=image/jpeg:https://lafayettefirst.life/wp-content/uploads/2024/04/GA-Tea-Party-2024-scaled.jpg
ORGANIZER;CN="LaFayette First":MAILTO:info@lafayettefirst.life
END:VEVENT
BEGIN:VEVENT
DTSTART;TZID=UTC:20240508T181500
DTEND;TZID=UTC:20240508T193000
DTSTAMP:20260426T043613
CREATED:20240508T154457Z
LAST-MODIFIED:20240508T154742Z
UID:10000324-1715192100-1715196600@lafayettefirst.life
SUMMARY:The Attributes of God: A Study with Pastor Derrick
DESCRIPTION:
URL:https://lafayettefirst.life/event/a-study-with-pastor-derrick-attributes-of-god/
LOCATION:LaFayette First Baptist\, 201 N Main Street\, Lafayette\, GA\, 30728\, United States
ATTACH;FMTTYPE=image/jpeg:https://lafayettefirst.life/wp-content/uploads/2024/05/Attributes-of-God-study-scaled.jpg
ORGANIZER;CN="LaFayette First":MAILTO:info@lafayettefirst.life
END:VEVENT
BEGIN:VEVENT
DTSTART;TZID=UTC:20240508T171500
DTEND;TZID=UTC:20240508T180000
DTSTAMP:20260426T043613
CREATED:20240430T172434Z
LAST-MODIFIED:20240430T172434Z
UID:10000320-1715188500-1715191200@lafayettefirst.life
SUMMARY:Family Dinner
DESCRIPTION:Main Menu: Mexican Fiesta \nPRICES\nAdults\, Youth\, and Children ages 5 and up are $5.00.  Children 4yrs and under are free.  Family maximum is $20.00. \nRESERVATIONS are required! 
URL:https://lafayettefirst.life/event/family-dinner-9/
LOCATION:LaFayette First Baptist\, 201 N Main Street\, Lafayette\, GA\, 30728\, United States
ATTACH;FMTTYPE=image/jpeg:https://lafayettefirst.life/wp-content/uploads/2024/01/Family-Night-Dinner-copy.jpg
ORGANIZER;CN="LaFayette First":MAILTO:info@lafayettefirst.life
END:VEVENT
BEGIN:VEVENT
DTSTART;TZID=UTC:20240507T190000
DTEND;TZID=UTC:20240507T200000
DTSTAMP:20260426T043613
CREATED:20240429T172149Z
LAST-MODIFIED:20240429T172403Z
UID:10000312-1715108400-1715112000@lafayettefirst.life
SUMMARY:Women on Mission
DESCRIPTION:All ladies of the church are invited to attend.
URL:https://lafayettefirst.life/event/women-on-mission-10/
LOCATION:LaFayette First Baptist\, 201 N Main Street\, Lafayette\, GA\, 30728\, United States
ATTACH;FMTTYPE=image/jpeg:https://lafayettefirst.life/wp-content/uploads/2024/04/WOM-May-2024-scaled.jpg
ORGANIZER;CN="LaFayette First":MAILTO:info@lafayettefirst.life
END:VEVENT
BEGIN:VEVENT
DTSTART;TZID=UTC:20240505T180000
DTEND;TZID=UTC:20240505T190000
DTSTAMP:20260426T043613
CREATED:20240429T170315Z
LAST-MODIFIED:20240429T170456Z
UID:10000310-1714932000-1714935600@lafayettefirst.life
SUMMARY:Dessert Social
DESCRIPTION:
URL:https://lafayettefirst.life/event/dessert-social/
LOCATION:LaFayette First Baptist\, 201 N Main Street\, Lafayette\, GA\, 30728\, United States
ATTACH;FMTTYPE=image/jpeg:https://lafayettefirst.life/wp-content/uploads/2024/04/Dessert-Social-scaled.jpg
ORGANIZER;CN="LaFayette First":MAILTO:info@lafayettefirst.life
END:VEVENT
BEGIN:VEVENT
DTSTART;TZID=UTC:20240505T170000
DTEND;TZID=UTC:20240505T173000
DTSTAMP:20260426T043613
CREATED:20240429T170004Z
LAST-MODIFIED:20240429T170036Z
UID:10000309-1714928400-1714930200@lafayettefirst.life
SUMMARY:Deacon Ordination
DESCRIPTION:
URL:https://lafayettefirst.life/event/deacon-ordination-3/
LOCATION:LaFayette First Baptist\, 201 N Main Street\, Lafayette\, GA\, 30728\, United States
ATTACH;FMTTYPE=image/jpeg:https://lafayettefirst.life/wp-content/uploads/2024/04/Ordination-2024-scaled.jpg
ORGANIZER;CN="LaFayette First":MAILTO:info@lafayettefirst.life
END:VEVENT
BEGIN:VEVENT
DTSTART;TZID=UTC:20240505T110000
DTEND;TZID=UTC:20240505T120000
DTSTAMP:20260426T043613
CREATED:20240429T171216Z
LAST-MODIFIED:20240429T171253Z
UID:10000311-1714906800-1714910400@lafayettefirst.life
SUMMARY:Senior Recognition
DESCRIPTION:Email Amber at amber@lafayettefirst.life
URL:https://lafayettefirst.life/event/senior-recognition/
LOCATION:LaFayette First Baptist\, 201 N Main Street\, Lafayette\, GA\, 30728\, United States
ATTACH;FMTTYPE=image/jpeg:https://lafayettefirst.life/wp-content/uploads/2024/04/senior-recognition-2024-scaled.jpg
ORGANIZER;CN="LaFayette First":MAILTO:info@lafayettefirst.life
END:VEVENT
BEGIN:VEVENT
DTSTART;VALUE=DATE:20240505
DTEND;VALUE=DATE:20240506
DTSTAMP:20260426T043613
CREATED:20240430T165732Z
LAST-MODIFIED:20240430T165806Z
UID:10000316-1714867200-1714953599@lafayettefirst.life
SUMMARY:Mother's Day Flowers Deadline
DESCRIPTION:The flowers will be on display in our church sanctuary on Mother’s Day\, May 12th. \nYou may call the church office to order or online at the link below.
URL:https://lafayettefirst.life/event/mothers-day-flowers-deadline/
LOCATION:LaFayette First Baptist\, 201 N Main Street\, Lafayette\, GA\, 30728\, United States
ATTACH;FMTTYPE=image/jpeg:https://lafayettefirst.life/wp-content/uploads/2024/04/mothers-day-flowers-scaled.jpg
ORGANIZER;CN="LaFayette First":MAILTO:info@lafayettefirst.life
END:VEVENT
BEGIN:VEVENT
DTSTART;TZID=UTC:20240504T080000
DTEND;TZID=UTC:20240504T170000
DTSTAMP:20260426T043614
CREATED:20240416T165929Z
LAST-MODIFIED:20240416T170047Z
UID:10000307-1714809600-1714842000@lafayettefirst.life
SUMMARY:One Day Mission Project: Love LaFayette
DESCRIPTION:We have the opportunity to bless our community by helping with the following projects:\n-some demolition at a residents home in the city\n-staining the stage @ Joe Stock Park\n-cleaning our city adopted block\nYou need to be @ the church by 8am where we will pray together and share some breakfast biscuits before heading out to the project sites.  Come and stay as long as you can. You are not required to stay the entire day.
URL:https://lafayettefirst.life/event/one-day-mission-project-love-lafayette/
LOCATION:LaFayette First Baptist\, 201 N Main Street\, Lafayette\, GA\, 30728\, United States
ATTACH;FMTTYPE=image/jpeg:https://lafayettefirst.life/wp-content/uploads/2024/04/Love-LaFayette-One-Day-Mission-Trip-2024-scaled.jpg
ORGANIZER;CN="LaFayette First":MAILTO:info@lafayettefirst.life
END:VEVENT
BEGIN:VEVENT
DTSTART;TZID=UTC:20240501T171500
DTEND;TZID=UTC:20240501T191500
DTSTAMP:20260426T043614
CREATED:20240419T181629Z
LAST-MODIFIED:20240419T181719Z
UID:10000308-1714583700-1714590900@lafayettefirst.life
SUMMARY:Argentina Asado Fundraising Meal
DESCRIPTION:Argentina Asado Fundraising Meal\nWednesday\, May 1\n5:15pm\, Fellowship Hall\nMenu:  Steak\, Baked Potato\, Salad\, Allison’s Cookies and Ice Cream. All proceeds of this fundraiser will help cover the cost of those participating in the Argentina Mission Trip. Please pay for your plates online or ahead of time in the church office.  If you’d like to give an extra donation for mission trip\, a donation basket will be available at the door.  Deadline to register is Sunday\, April 28.
URL:https://lafayettefirst.life/event/argentina-asado-fundraising-meal/
LOCATION:LaFayette First Baptist\, 201 N Main Street\, Lafayette\, GA\, 30728\, United States
ATTACH;FMTTYPE=image/jpeg:https://lafayettefirst.life/wp-content/uploads/2024/04/Argentina-Asado-Fundraising-Meal-2-scaled.jpg
ORGANIZER;CN="LaFayette First":MAILTO:info@lafayettefirst.life
END:VEVENT
BEGIN:VEVENT
DTSTART;TZID=UTC:20240424T171500
DTEND;TZID=UTC:20240424T180000
DTSTAMP:20260426T043614
CREATED:20240325T165152Z
LAST-MODIFIED:20240325T165152Z
UID:10000304-1713978900-1713981600@lafayettefirst.life
SUMMARY:Family Dinner
DESCRIPTION:Main Menu:  Meatloaf\, English Peas\, Mashed Potatoes\, Slaw\, Dessert\n   \nChildren’s Line and/or Any Age: Chicken Nuggets\, Fries\, Fruit\,  Cookies \nPRICES\nAdults\, Youth\, and Children ages 5 and up are $5.00.  Children 4yrs and under are free.  Family maximum is $20.00. \nRESERVATIONS are required! 
URL:https://lafayettefirst.life/event/family-dinner-8/
LOCATION:LaFayette First Baptist\, 201 N Main Street\, Lafayette\, GA\, 30728\, United States
ATTACH;FMTTYPE=image/jpeg:https://lafayettefirst.life/wp-content/uploads/2024/01/Family-Night-Dinner-copy.jpg
ORGANIZER;CN="LaFayette First":MAILTO:info@lafayettefirst.life
END:VEVENT
BEGIN:VEVENT
DTSTART;TZID=UTC:20240421T170000
DTEND;TZID=UTC:20240421T190000
DTSTAMP:20260426T043614
CREATED:20240301T150226Z
LAST-MODIFIED:20240301T150226Z
UID:10000299-1713718800-1713726000@lafayettefirst.life
SUMMARY:Talent Show: Performance Sign-Up
DESCRIPTION:Have a talent?  Singing\, dancing\, juggling\, acting\, play an instrument…if you consider it a talent\, we’d love to see it!  Sign up to perform so Roger can put together an agenda.  Open to all ages! \nPlease keep your act to 10mins or less. Let us know what you’ll be doing and if you’ll need anything specific.
URL:https://lafayettefirst.life/event/talent-show-performance-sign-up/
LOCATION:LaFayette First Baptist\, 201 N Main Street\, Lafayette\, GA\, 30728\, United States
ATTACH;FMTTYPE=image/jpeg:https://lafayettefirst.life/wp-content/uploads/2024/02/Talent-Show-2024-scaled.jpg
ORGANIZER;CN="LaFayette First":MAILTO:info@lafayettefirst.life
END:VEVENT
BEGIN:VEVENT
DTSTART;TZID=UTC:20240421T170000
DTEND;TZID=UTC:20240421T190000
DTSTAMP:20260426T043614
CREATED:20240216T160232Z
LAST-MODIFIED:20240216T160232Z
UID:10000292-1713718800-1713726000@lafayettefirst.life
SUMMARY:Talent Show
DESCRIPTION:Chip Reed is smoking his famous BBQ to raise money for our Youth Mission Trip.  Reservations are required.  Cost is $10 a plate.  Eat at the Fellowship Hall or carry out.  Our annual Talent Show starts at 6pm! \nPlease pay for your plates online or ahead of time in the church office.  If you’d like to give an extra donation to the youth mission trip\, a donation basket will be available at the door. \n(Payments and donations cannot be on the same check.)
URL:https://lafayettefirst.life/event/talent-show-2/
LOCATION:LaFayette First Baptist\, 201 N Main Street\, Lafayette\, GA\, 30728\, United States
ATTACH;FMTTYPE=image/jpeg:https://lafayettefirst.life/wp-content/uploads/2024/02/Talent-Show-2024-scaled.jpg
ORGANIZER;CN="LaFayette First":MAILTO:info@lafayettefirst.life
END:VEVENT
BEGIN:VEVENT
DTSTART;TZID=UTC:20240419T183000
DTEND;TZID=UTC:20240419T203000
DTSTAMP:20260426T043614
CREATED:20240402T135055Z
LAST-MODIFIED:20240402T135655Z
UID:10000305-1713551400-1713558600@lafayettefirst.life
SUMMARY:Guess Who's Coming to Dinner
DESCRIPTION:A fun event to get to know and spend time with your church family!  Sign up with a total number of family members who will attend and you will be assigned a home to go to for dinner.  Dinner will be provided.  You DO NOT host….you’re the guest!  Your host will not have a list of people coming to their home\, so it’s a surprise every time the door bell rings!
URL:https://lafayettefirst.life/event/guess-whos-coming-to-dinner-2/
LOCATION:LaFayette First Baptist\, 201 N Main Street\, Lafayette\, GA\, 30728\, United States
ATTACH;FMTTYPE=image/jpeg:https://lafayettefirst.life/wp-content/uploads/2024/04/Guess-Whos-Coming-to-Dinner-2024-scaled.jpg
ORGANIZER;CN="LaFayette First":MAILTO:info@lafayettefirst.life
END:VEVENT
BEGIN:VEVENT
DTSTART;TZID=UTC:20240417T171500
DTEND;TZID=UTC:20240417T180000
DTSTAMP:20260426T043614
CREATED:20240325T164854Z
LAST-MODIFIED:20240325T164953Z
UID:10000303-1713374100-1713376800@lafayettefirst.life
SUMMARY:Family Dinner
DESCRIPTION:Main Menu:  Taco or Potato Soup\, Pimento Cheese or PB & J Sandwich\, Salad Bar\, Dessert\n   \nChildren’s Line and/or Any Age: Kid’s Favorite Sandwich\, Chip\, Fruit/Carrot Sticks\, Cookies \nPRICES\nAdults\, Youth\, and Children ages 5 and up are $5.00.  Children 4yrs and under are free.  Family maximum is $20.00. \nRESERVATIONS are required! 
URL:https://lafayettefirst.life/event/family-dinner-7/
LOCATION:LaFayette First Baptist\, 201 N Main Street\, Lafayette\, GA\, 30728\, United States
ATTACH;FMTTYPE=image/jpeg:https://lafayettefirst.life/wp-content/uploads/2024/01/Family-Night-Dinner-copy.jpg
ORGANIZER;CN="LaFayette First":MAILTO:info@lafayettefirst.life
END:VEVENT
BEGIN:VEVENT
DTSTART;TZID=UTC:20240413T140000
DTEND;TZID=UTC:20240413T170000
DTSTAMP:20260426T043614
CREATED:20240301T150750Z
LAST-MODIFIED:20240301T150753Z
UID:10000285-1713016800-1713027600@lafayettefirst.life
SUMMARY:J.O.Y. Event: Tunnel Hill Shindig
DESCRIPTION:This event has been filled!  You may call the church office to be put on a waiting list if you like. \nAll senior adults are invited to join us for a high-energy Pigeon Forge style variety show at The Colonnade in Ringgold on Saturday\, April 13 at 2pm.  Tickets are $15. .  Dinner after the show at your own cost.
URL:https://lafayettefirst.life/event/j-o-y-event-tunnel-hill-shindig-2/
LOCATION:The Colonnade\, 264 Catoosa Circle\, Ringgold\, GA\, 30736\, United States
ATTACH;FMTTYPE=image/jpeg:https://lafayettefirst.life/wp-content/uploads/2024/02/Tunnel-Hill-Shindig-scaled.jpg
ORGANIZER;CN="LaFayette First":MAILTO:info@lafayettefirst.life
END:VEVENT
END:VCALENDAR