BEGIN:VCALENDAR
VERSION:2.0
PRODID:-//LaFayette First - ECPv6.15.20//NONSGML v1.0//EN
CALSCALE:GREGORIAN
METHOD:PUBLISH
X-ORIGINAL-URL:https://lafayettefirst.life
X-WR-CALDESC:Events for LaFayette First
REFRESH-INTERVAL;VALUE=DURATION:PT1H
X-Robots-Tag:noindex
X-PUBLISHED-TTL:PT1H
BEGIN:VTIMEZONE
TZID:UTC
BEGIN:STANDARD
TZOFFSETFROM:+0000
TZOFFSETTO:+0000
TZNAME:UTC
DTSTART:20240101T000000
END:STANDARD
END:VTIMEZONE
BEGIN:VEVENT
DTSTART;TZID=UTC:20250404T170000
DTEND;TZID=UTC:20250404T190000
DTSTAMP:20260425T121428
CREATED:20250327T174353Z
LAST-MODIFIED:20250327T180624Z
UID:10000603-1743786000-1743793200@lafayettefirst.life
SUMMARY:Community Project
DESCRIPTION:We will also be working on Saturday\, April 5 beginning at 8am to finish up project.
URL:https://lafayettefirst.life/event/community-project/
LOCATION:LaFayette First Baptist\, 201 N Main Street\, Lafayette\, GA\, 30728\, United States
ATTACH;FMTTYPE=image/jpeg:https://lafayettefirst.life/wp-content/uploads/2025/03/Ramp-2025-scaled.jpg
ORGANIZER;CN="LaFayette First":MAILTO:info@lafayettefirst.life
END:VEVENT
BEGIN:VEVENT
DTSTART;TZID=UTC:20250408T180000
DTEND;TZID=UTC:20250408T190000
DTSTAMP:20260425T121428
CREATED:20250327T173740Z
LAST-MODIFIED:20250327T174008Z
UID:10000602-1744135200-1744138800@lafayettefirst.life
SUMMARY:Women on Mission
DESCRIPTION:
URL:https://lafayettefirst.life/event/women-on-mission-14/
LOCATION:LaFayette First Baptist\, 201 N Main Street\, Lafayette\, GA\, 30728\, United States
ATTACH;FMTTYPE=image/jpeg:https://lafayettefirst.life/wp-content/uploads/2025/03/WOM-April-2025.jpg
ORGANIZER;CN="LaFayette First":MAILTO:info@lafayettefirst.life
END:VEVENT
BEGIN:VEVENT
DTSTART;TZID=UTC:20250409T171500
DTEND;TZID=UTC:20250409T180000
DTSTAMP:20260425T121428
CREATED:20250327T165916Z
LAST-MODIFIED:20250327T170629Z
UID:10000600-1744218900-1744221600@lafayettefirst.life
SUMMARY:Family Dinner
DESCRIPTION:Main Menu: Ham\, Hashbrown Casserole\, Green Beans\, Slaw\, Rolls\, Dessert.  Children’s Line:  Chicken Nuggets\, Fries.  PRICES:   Adults\, Youth\, and Children ages 5 and up are $7.00.  Children 4yrs and under are free.  Family maximum is $28.00. RESERVATIONS are required! 
URL:https://lafayettefirst.life/event/family-dinner-33/
LOCATION:LaFayette First Baptist\, 201 N Main Street\, Lafayette\, GA\, 30728\, United States
ATTACH;FMTTYPE=image/jpeg:https://lafayettefirst.life/wp-content/uploads/2025/03/Family-Dinner-2-copy-1-scaled.jpg
ORGANIZER;CN="LaFayette First":MAILTO:info@lafayettefirst.life
END:VEVENT
BEGIN:VEVENT
DTSTART;TZID=UTC:20250412T100000
DTEND;TZID=UTC:20250412T120000
DTSTAMP:20260425T121428
CREATED:20250225T190325Z
LAST-MODIFIED:20250225T190325Z
UID:10000598-1744452000-1744459200@lafayettefirst.life
SUMMARY:Community Egg Hop
DESCRIPTION:
URL:https://lafayettefirst.life/event/community-egg-hop/
LOCATION:LaFayette First Baptist\, 201 N Main Street\, Lafayette\, GA\, 30728\, United States
ATTACH;FMTTYPE=image/jpeg:https://lafayettefirst.life/wp-content/uploads/2025/02/Egg-Hop-scaled.jpg
ORGANIZER;CN="LaFayette First":MAILTO:info@lafayettefirst.life
END:VEVENT
BEGIN:VEVENT
DTSTART;TZID=UTC:20250413T110000
DTEND;TZID=UTC:20250413T120000
DTSTAMP:20260425T121428
CREATED:20250327T180957Z
LAST-MODIFIED:20250327T181033Z
UID:10000604-1744542000-1744545600@lafayettefirst.life
SUMMARY:Children's Palm Processional
DESCRIPTION:
URL:https://lafayettefirst.life/event/childrens-palm-processional/
LOCATION:LaFayette First Baptist\, 201 N Main Street\, Lafayette\, GA\, 30728\, United States
ATTACH;FMTTYPE=image/jpeg:https://lafayettefirst.life/wp-content/uploads/2025/03/palm-processional-copy-scaled.jpg
ORGANIZER;CN="LaFayette First":MAILTO:info@lafayettefirst.life
END:VEVENT
BEGIN:VEVENT
DTSTART;TZID=UTC:20250418T080000
DTEND;TZID=UTC:20250418T170000
DTSTAMP:20260425T121428
CREATED:20250327T173250Z
LAST-MODIFIED:20250327T173527Z
UID:10000601-1744963200-1744995600@lafayettefirst.life
SUMMARY:Good Friday Walk Through Experience
DESCRIPTION:
URL:https://lafayettefirst.life/event/good-friday-walk-through-experience-2/
LOCATION:LaFayette First Baptist\, 201 N Main Street\, Lafayette\, GA\, 30728\, United States
ATTACH;FMTTYPE=image/jpeg:https://lafayettefirst.life/wp-content/uploads/2025/03/goodfriday2025-copy.jpg
ORGANIZER;CN="LaFayette First":MAILTO:info@lafayettefirst.life
END:VEVENT
BEGIN:VEVENT
DTSTART;TZID=UTC:20250420T090000
DTEND;TZID=UTC:20250420T120000
DTSTAMP:20260425T121428
CREATED:20250327T181948Z
LAST-MODIFIED:20250327T181948Z
UID:10000605-1745139600-1745150400@lafayettefirst.life
SUMMARY:Flowering the Cross
DESCRIPTION:Bring your flowers and help us fill the cross between 9am – noon.
URL:https://lafayettefirst.life/event/flowering-the-cross/
LOCATION:LaFayette First Baptist\, 201 N Main Street\, Lafayette\, GA\, 30728\, United States
ATTACH;FMTTYPE=image/jpeg:https://lafayettefirst.life/wp-content/uploads/2025/03/Flower-Cross-scaled.jpg
ORGANIZER;CN="LaFayette First":MAILTO:info@lafayettefirst.life
END:VEVENT
BEGIN:VEVENT
DTSTART;TZID=UTC:20250420T110000
DTEND;TZID=UTC:20250420T120000
DTSTAMP:20260425T121428
CREATED:20250225T193836Z
LAST-MODIFIED:20250225T193904Z
UID:10000599-1745146800-1745150400@lafayettefirst.life
SUMMARY:Abundant Life Series
DESCRIPTION:Beginning Easter Sunday\, April 20
URL:https://lafayettefirst.life/event/abundant-life-series/
LOCATION:LaFayette First Baptist\, 201 N Main Street\, Lafayette\, GA\, 30728\, United States
ATTACH;FMTTYPE=image/jpeg:https://lafayettefirst.life/wp-content/uploads/2025/02/Easter-Series-2025-scaled.jpg
ORGANIZER;CN="LaFayette First":MAILTO:info@lafayettefirst.life
END:VEVENT
BEGIN:VEVENT
DTSTART;TZID=UTC:20250423T171500
DTEND;TZID=UTC:20250423T180000
DTSTAMP:20260425T121428
CREATED:20250410T145451Z
LAST-MODIFIED:20250410T145451Z
UID:10000607-1745428500-1745431200@lafayettefirst.life
SUMMARY:Family Dinner
DESCRIPTION:Main Menu: Meatloaf\, Potatoes\, Pinto Beans w/relish\, Slaw\, Cornbread\nChildren’s Line:  Mac & Cheese   PRICES: Adults\, Youth\, and Children ages 5 and up are $7.00.  Children 4yrs and under are free.  Family maximum is $28.00. RESERVATIONS are required! 
URL:https://lafayettefirst.life/event/family-dinner-34/
LOCATION:LaFayette First Baptist\, 201 N Main Street\, Lafayette\, GA\, 30728\, United States
ATTACH;FMTTYPE=image/jpeg:https://lafayettefirst.life/wp-content/uploads/2025/03/Family-Dinner-2-copy-1-scaled.jpg
ORGANIZER;CN="LaFayette First":MAILTO:info@lafayettefirst.life
END:VEVENT
BEGIN:VEVENT
DTSTART;TZID=UTC:20250429T120000
DTEND;TZID=UTC:20250429T133000
DTSTAMP:20260425T121428
CREATED:20250327T182310Z
LAST-MODIFIED:20250327T182310Z
UID:10000606-1745928000-1745933400@lafayettefirst.life
SUMMARY:JOY Event: Lunch & Bingo
DESCRIPTION:For our senior adults!  We look forward to seeing you here!
URL:https://lafayettefirst.life/event/joy-event-lunch-bingo/
LOCATION:LaFayette First Baptist\, 201 N Main Street\, Lafayette\, GA\, 30728\, United States
ATTACH;FMTTYPE=image/jpeg:https://lafayettefirst.life/wp-content/uploads/2025/03/JOY-Bingo-scaled.jpg
ORGANIZER;CN="LaFayette First":MAILTO:info@lafayettefirst.life
END:VEVENT
BEGIN:VEVENT
DTSTART;TZID=UTC:20250430T171500
DTEND;TZID=UTC:20250430T180000
DTSTAMP:20260425T121428
CREATED:20250429T144307Z
LAST-MODIFIED:20250429T144307Z
UID:10000613-1746033300-1746036000@lafayettefirst.life
SUMMARY:
DESCRIPTION:Main Menu: Party Chicken\, Rice\, Broccoli Casserole\, Sweet Potatoes\, Rolls\, Dessert\nPRICES: Adults\, Youth\, and Children ages 5 and up are $7.00.  Children 4yrs and under are free.  Family maximum is $28.00.\nRESERVATIONS are required!
URL:https://lafayettefirst.life/event/5615/
LOCATION:LaFayette First Baptist\, 201 N Main Street\, Lafayette\, GA\, 30728\, United States
ATTACH;FMTTYPE=image/jpeg:https://lafayettefirst.life/wp-content/uploads/2025/04/Family-Dinner-2-copy-scaled.jpg
ORGANIZER;CN="LaFayette First":MAILTO:info@lafayettefirst.life
END:VEVENT
BEGIN:VEVENT
DTSTART;TZID=UTC:20250504T110000
DTEND;TZID=UTC:20250504T120000
DTSTAMP:20260425T121428
CREATED:20250410T153006Z
LAST-MODIFIED:20250410T153006Z
UID:10000610-1746356400-1746360000@lafayettefirst.life
SUMMARY:5th Grade Recognition
DESCRIPTION:
URL:https://lafayettefirst.life/event/5th-grade-recognition-3/
LOCATION:LaFayette First Baptist\, 201 N Main Street\, Lafayette\, GA\, 30728\, United States
ATTACH;FMTTYPE=image/jpeg:https://lafayettefirst.life/wp-content/uploads/2025/04/5th-Grade-Rec-2025.jpg
ORGANIZER;CN="LaFayette First":MAILTO:info@lafayettefirst.life
END:VEVENT
BEGIN:VEVENT
DTSTART;TZID=UTC:20250507T171500
DTEND;TZID=UTC:20250507T180000
DTSTAMP:20260425T121428
CREATED:20250429T144600Z
LAST-MODIFIED:20250429T144600Z
UID:10000614-1746638100-1746640800@lafayettefirst.life
SUMMARY:Family Dinner
DESCRIPTION:Main Menu: Country Fried Steak\, Potatoes\, Okra\, Biscuits\, Gravy\, Tomatoes\nChildren’s Line: Chicken Nuggets\, Fries\nPRICES: Adults\, Youth\, and Children ages 5 and up are $7.00.  Children 4yrs and under are free.  Family maximum is $28.00.\nRESERVATIONS are required!
URL:https://lafayettefirst.life/event/family-dinner-35/
LOCATION:LaFayette First Baptist\, 201 N Main Street\, Lafayette\, GA\, 30728\, United States
ATTACH;FMTTYPE=image/jpeg:https://lafayettefirst.life/wp-content/uploads/2025/04/Family-Dinner-2-copy-scaled.jpg
ORGANIZER;CN="LaFayette First":MAILTO:info@lafayettefirst.life
END:VEVENT
BEGIN:VEVENT
DTSTART;TZID=UTC:20250508T180000
DTEND;TZID=UTC:20250508T190000
DTSTAMP:20260425T121428
CREATED:20250429T150519Z
LAST-MODIFIED:20250429T150519Z
UID:10000616-1746727200-1746730800@lafayettefirst.life
SUMMARY:WEE Care YEAR END Celebration!
DESCRIPTION:
URL:https://lafayettefirst.life/event/wee-care-year-end-celebration/
LOCATION:LaFayette First Baptist\, 201 N Main Street\, Lafayette\, GA\, 30728\, United States
ATTACH;FMTTYPE=image/jpeg:https://lafayettefirst.life/wp-content/uploads/2025/04/WEE-Care-End-of-Year-slide-2025-scaled.jpg
ORGANIZER;CN="LaFayette First":MAILTO:info@lafayettefirst.life
END:VEVENT
BEGIN:VEVENT
DTSTART;TZID=UTC:20250510T090000
DTEND;TZID=UTC:20250510T230000
DTSTAMP:20260425T121428
CREATED:20250410T152652Z
LAST-MODIFIED:20250410T152652Z
UID:10000609-1746867600-1746918000@lafayettefirst.life
SUMMARY:Biblical Health & Wellness
DESCRIPTION:
URL:https://lafayettefirst.life/event/biblical-health-wellness/
LOCATION:LaFayette First Baptist\, 201 N Main Street\, Lafayette\, GA\, 30728\, United States
ATTACH;FMTTYPE=image/jpeg:https://lafayettefirst.life/wp-content/uploads/2025/04/Biblical-Health-and-Wellness-scaled.jpg
ORGANIZER;CN="LaFayette First":MAILTO:info@lafayettefirst.life
END:VEVENT
BEGIN:VEVENT
DTSTART;VALUE=DATE:20250511
DTEND;VALUE=DATE:20250512
DTSTAMP:20260425T121428
CREATED:20250429T162404Z
LAST-MODIFIED:20250429T162452Z
UID:10000617-1746921600-1747007999@lafayettefirst.life
SUMMARY:Mother's Day Flowers
DESCRIPTION:Due by Sunday\, May 4th.
URL:https://lafayettefirst.life/event/mothers-day-flowers/
LOCATION:LaFayette First Baptist\, 201 N Main Street\, Lafayette\, GA\, 30728\, United States
ATTACH;FMTTYPE=image/jpeg:https://lafayettefirst.life/wp-content/uploads/2025/04/mothers-day-flowers-scaled.jpg
ORGANIZER;CN="LaFayette First":MAILTO:info@lafayettefirst.life
END:VEVENT
BEGIN:VEVENT
DTSTART;TZID=UTC:20250513T180000
DTEND;TZID=UTC:20250513T190000
DTSTAMP:20260425T121428
CREATED:20250429T145144Z
LAST-MODIFIED:20250429T145144Z
UID:10000615-1747159200-1747162800@lafayettefirst.life
SUMMARY:Women on Mission
DESCRIPTION:
URL:https://lafayettefirst.life/event/women-on-mission-15/
LOCATION:LaFayette First Baptist\, 201 N Main Street\, Lafayette\, GA\, 30728\, United States
ATTACH;FMTTYPE=image/jpeg:https://lafayettefirst.life/wp-content/uploads/2025/04/WOM-May-2025.jpg
ORGANIZER;CN="LaFayette First":MAILTO:info@lafayettefirst.life
END:VEVENT
BEGIN:VEVENT
DTSTART;TZID=UTC:20250514T171500
DTEND;TZID=UTC:20250514T180000
DTSTAMP:20260425T121428
CREATED:20250429T164914Z
LAST-MODIFIED:20250429T164914Z
UID:10000619-1747242900-1747245600@lafayettefirst.life
SUMMARY:Family Dinner
DESCRIPTION:Main Menu: Soup\, Salad\, Sandwiches\, Crackers\, Chips\, Dessert\nPRICES: Adults\, Youth\, and Children ages 5 and up are $7.00.  Children 4yrs and under are free.  Family maximum is $28.00.\nRESERVATIONS are required! 
URL:https://lafayettefirst.life/event/family-dinner-36/
LOCATION:LaFayette First Baptist\, 201 N Main Street\, Lafayette\, GA\, 30728\, United States
ATTACH;FMTTYPE=image/jpeg:https://lafayettefirst.life/wp-content/uploads/2025/04/Family-Dinner-2-copy-scaled.jpg
ORGANIZER;CN="LaFayette First":MAILTO:info@lafayettefirst.life
END:VEVENT
BEGIN:VEVENT
DTSTART;TZID=UTC:20250518T230000
DTEND;TZID=UTC:20250518T230000
DTSTAMP:20260425T121428
CREATED:20250410T153339Z
LAST-MODIFIED:20250410T155217Z
UID:10000611-1747609200-1747609200@lafayettefirst.life
SUMMARY:Senior Recognition
DESCRIPTION:
URL:https://lafayettefirst.life/event/senior-recognition-2/
LOCATION:LaFayette First Baptist\, 201 N Main Street\, Lafayette\, GA\, 30728\, United States
ATTACH;FMTTYPE=image/jpeg:https://lafayettefirst.life/wp-content/uploads/2025/04/senior-recognition-2025.jpg
ORGANIZER;CN="LaFayette First":MAILTO:info@lafayettefirst.life
END:VEVENT
BEGIN:VEVENT
DTSTART;TZID=UTC:20250521T171500
DTEND;TZID=UTC:20250521T180000
DTSTAMP:20260425T121428
CREATED:20250429T182442Z
LAST-MODIFIED:20250429T182552Z
UID:10000620-1747847700-1747850400@lafayettefirst.life
SUMMARY:Family Dinner
DESCRIPTION:Main Menu: Salad Bar\, Grilled Chicken\, Baked Potatoes\, Dessert.\nChildren’s Line: Pizza\nPRICES: Adults\, Youth\, and Children ages 5 and up are $7.00.  Children 4yrs and under are free.  Family maximum is $28.00.\nRESERVATIONS are required!
URL:https://lafayettefirst.life/event/family-dinner-37/
LOCATION:LaFayette First Baptist\, 201 N Main Street\, Lafayette\, GA\, 30728\, United States
ATTACH;FMTTYPE=image/jpeg:https://lafayettefirst.life/wp-content/uploads/2025/04/Family-Dinner-2-copy-scaled.jpg
ORGANIZER;CN="LaFayette First":MAILTO:info@lafayettefirst.life
END:VEVENT
BEGIN:VEVENT
DTSTART;TZID=UTC:20250531T080000
DTEND;TZID=UTC:20250531T170000
DTSTAMP:20260425T121428
CREATED:20250429T140104Z
LAST-MODIFIED:20250507T143008Z
UID:10000612-1748678400-1748710800@lafayettefirst.life
SUMMARY:Honeybee Festival: Need Volunteers
DESCRIPTION:Register online or call the church office.
URL:https://lafayettefirst.life/event/honeybee-festival-need-volunteers/
LOCATION:LaFayette First Baptist\, 201 N Main Street\, Lafayette\, GA\, 30728\, United States
ATTACH;FMTTYPE=image/jpeg:https://lafayettefirst.life/wp-content/uploads/2025/04/honeybee-festival.jpg
ORGANIZER;CN="LaFayette First":MAILTO:info@lafayettefirst.life
END:VEVENT
BEGIN:VEVENT
DTSTART;TZID=UTC:20250601T170000
DTEND;TZID=UTC:20250601T180000
DTSTAMP:20260425T121428
CREATED:20250429T162913Z
LAST-MODIFIED:20250429T163618Z
UID:10000618-1748797200-1748800800@lafayettefirst.life
SUMMARY:Deacon Ordination
DESCRIPTION:
URL:https://lafayettefirst.life/event/deacon-ordination-4/
LOCATION:LaFayette First Baptist\, 201 N Main Street\, Lafayette\, GA\, 30728\, United States
ATTACH;FMTTYPE=image/jpeg:https://lafayettefirst.life/wp-content/uploads/2025/04/Ordination-2025-scaled.jpg
ORGANIZER;CN="LaFayette First":MAILTO:info@lafayettefirst.life
END:VEVENT
BEGIN:VEVENT
DTSTART;VALUE=DATE:20250609
DTEND;VALUE=DATE:20250614
DTSTAMP:20260425T121428
CREATED:20250507T143538Z
LAST-MODIFIED:20250507T143538Z
UID:10000621-1749427200-1749859199@lafayettefirst.life
SUMMARY:CentriKid Camp
DESCRIPTION:Please contact Pastor Derrick to see if any spots are open.
URL:https://lafayettefirst.life/event/centrikid-camp-2/
LOCATION:LaFayette First Baptist\, 201 N Main Street\, Lafayette\, GA\, 30728\, United States
ATTACH;FMTTYPE=image/jpeg:https://lafayettefirst.life/wp-content/uploads/2025/02/CentriKid-2025-copy-scaled.jpg
ORGANIZER;CN="LaFayette First":MAILTO:info@lafayettefirst.life
END:VEVENT
BEGIN:VEVENT
DTSTART;VALUE=DATE:20250614
DTEND;VALUE=DATE:20250622
DTSTAMP:20260425T121428
CREATED:20250108T163609Z
LAST-MODIFIED:20250217T183603Z
UID:10000517-1749859200-1750550399@lafayettefirst.life
SUMMARY:Youth Mission Trip
DESCRIPTION:You must see our Next Gen Pastor\, Roger Stansell\, if you are interested in going on this mission trip. \nCost: $450         Must be 14 or going into 9th grade. \nWe will work in crews of 6 people (not from our youth group) on senior adult and low income families homes. We will do such things as painting\, construction\, etc. Usually work from 8:30 to 3:00. \nWe will live for a week at a local school\, sleeping on the floor (cots or air mattress suggested). Basically you are camping out inside. \nNightly youth group devotion time!!! \nFund Raisers: They will happen throughout the year and you have to be present to receive credit for your trip.
URL:https://lafayettefirst.life/event/youth-mission-trip-2/
LOCATION:LaFayette First Baptist\, 201 N Main Street\, Lafayette\, GA\, 30728\, United States
ATTACH;FMTTYPE=image/jpeg:https://lafayettefirst.life/wp-content/uploads/2025/01/Youth-Mission-Trip-2025-scaled.jpg
ORGANIZER;CN="LaFayette First":MAILTO:info@lafayettefirst.life
END:VEVENT
BEGIN:VEVENT
DTSTART;TZID=UTC:20250618T181500
DTEND;TZID=UTC:20250618T191500
DTSTAMP:20260425T121428
CREATED:20250604T141615Z
LAST-MODIFIED:20250604T141824Z
UID:10000622-1750270500-1750274100@lafayettefirst.life
SUMMARY:The Attributes of God
DESCRIPTION:
URL:https://lafayettefirst.life/event/the-attributes-of-god/2025-06-18/
LOCATION:LaFayette First Baptist\, 201 N Main Street\, Lafayette\, GA\, 30728\, United States
ATTACH;FMTTYPE=image/jpeg:https://lafayettefirst.life/wp-content/uploads/2025/06/Attributes-of-God-study-.jpg
ORGANIZER;CN="LaFayette First":MAILTO:info@lafayettefirst.life
END:VEVENT
BEGIN:VEVENT
DTSTART;TZID=UTC:20250625T181500
DTEND;TZID=UTC:20250625T191500
DTSTAMP:20260425T121428
CREATED:20250604T141615Z
LAST-MODIFIED:20250604T141824Z
UID:10000623-1750875300-1750878900@lafayettefirst.life
SUMMARY:The Attributes of God
DESCRIPTION:
URL:https://lafayettefirst.life/event/the-attributes-of-god/2025-06-25/
LOCATION:LaFayette First Baptist\, 201 N Main Street\, Lafayette\, GA\, 30728\, United States
ATTACH;FMTTYPE=image/jpeg:https://lafayettefirst.life/wp-content/uploads/2025/06/Attributes-of-God-study-.jpg
ORGANIZER;CN="LaFayette First":MAILTO:info@lafayettefirst.life
END:VEVENT
BEGIN:VEVENT
DTSTART;TZID=UTC:20250702T080000
DTEND;TZID=UTC:20250702T170000
DTSTAMP:20260425T121428
CREATED:20250702T152952Z
LAST-MODIFIED:20250702T153029Z
UID:10000639-1751443200-1751475600@lafayettefirst.life
SUMMARY:Grief Share
DESCRIPTION:A grief support group designed to help and encourage anyone who has experienced the death of a spouse\, child\, family member\, or friend. \nIncludes encouraging\, information-packed videos featuring leading grief recovery experts\, small group discussion about video content\, a workbook to use for journaling and personal study exercises that reinforce the weekly session topics.  Topics include: Is This Normal?\, Challenges of Grief\, The Journey of Grief\, Grief and Relationships\, Why?\, Guilt and Anger\, Being Stuck\, Lessons of Grief\, Heaven\, What Do I Live For Now? \nNo cost.  Meets every Thursday night beginning August 7 from 6 to 8pm in LaFayette First Baptist Fellowship Hall.
URL:https://lafayettefirst.life/event/grief-share-4/
LOCATION:LaFayette First Baptist\, 201 N Main Street\, Lafayette\, GA\, 30728\, United States
ATTACH;FMTTYPE=image/jpeg:https://lafayettefirst.life/wp-content/uploads/2025/07/Grief-Share-August-2025.jpg
ORGANIZER;CN="LaFayette First":MAILTO:info@lafayettefirst.life
END:VEVENT
BEGIN:VEVENT
DTSTART;TZID=UTC:20250706T173000
DTEND;TZID=UTC:20250706T203000
DTSTAMP:20260425T121428
CREATED:20250604T143850Z
LAST-MODIFIED:20250604T143850Z
UID:10000633-1751823000-1751833800@lafayettefirst.life
SUMMARY:Airborne
DESCRIPTION:A fun camp for kids who have COMPLETED K-5th grade!  Children choose their track (one for whole week) for camp:  Baseball/Softball\, Soccer\, Pickleball\, Basketball\, cheerleading\, Golf\, Cooking\, Sewing\, Art\, Dance\, Outdoor adventure\, or Engineering.  Dinner served nightly.  Camp is Sunday\, July 6 to Wednesday\, July 9.  Register each child who will participate. \nIf you’d like to help with Camp\, register yourself as a Volunteer and choose which areas you might be interested in helping.  Our children’s director will contact you before camp to confirm where you’ll serve.
URL:https://lafayettefirst.life/event/airborne-2/2025-07-06/
LOCATION:LaFayette First Baptist\, 201 N Main Street\, Lafayette\, GA\, 30728\, United States
ATTACH;FMTTYPE=image/jpeg:https://lafayettefirst.life/wp-content/uploads/2025/06/Camp-Airborne-Reg-Open-scaled.jpg
ORGANIZER;CN="LaFayette First":MAILTO:info@lafayettefirst.life
END:VEVENT
BEGIN:VEVENT
DTSTART;TZID=UTC:20250707T173000
DTEND;TZID=UTC:20250707T203000
DTSTAMP:20260425T121428
CREATED:20250604T143850Z
LAST-MODIFIED:20250604T143850Z
UID:10000634-1751909400-1751920200@lafayettefirst.life
SUMMARY:Airborne
DESCRIPTION:A fun camp for kids who have COMPLETED K-5th grade!  Children choose their track (one for whole week) for camp:  Baseball/Softball\, Soccer\, Pickleball\, Basketball\, cheerleading\, Golf\, Cooking\, Sewing\, Art\, Dance\, Outdoor adventure\, or Engineering.  Dinner served nightly.  Camp is Sunday\, July 6 to Wednesday\, July 9.  Register each child who will participate. \nIf you’d like to help with Camp\, register yourself as a Volunteer and choose which areas you might be interested in helping.  Our children’s director will contact you before camp to confirm where you’ll serve.
URL:https://lafayettefirst.life/event/airborne-2/2025-07-07/
LOCATION:LaFayette First Baptist\, 201 N Main Street\, Lafayette\, GA\, 30728\, United States
ATTACH;FMTTYPE=image/jpeg:https://lafayettefirst.life/wp-content/uploads/2025/06/Camp-Airborne-Reg-Open-scaled.jpg
ORGANIZER;CN="LaFayette First":MAILTO:info@lafayettefirst.life
END:VEVENT
BEGIN:VEVENT
DTSTART;TZID=UTC:20250708T173000
DTEND;TZID=UTC:20250708T203000
DTSTAMP:20260425T121428
CREATED:20250604T143850Z
LAST-MODIFIED:20250604T143850Z
UID:10000635-1751995800-1752006600@lafayettefirst.life
SUMMARY:Airborne
DESCRIPTION:A fun camp for kids who have COMPLETED K-5th grade!  Children choose their track (one for whole week) for camp:  Baseball/Softball\, Soccer\, Pickleball\, Basketball\, cheerleading\, Golf\, Cooking\, Sewing\, Art\, Dance\, Outdoor adventure\, or Engineering.  Dinner served nightly.  Camp is Sunday\, July 6 to Wednesday\, July 9.  Register each child who will participate. \nIf you’d like to help with Camp\, register yourself as a Volunteer and choose which areas you might be interested in helping.  Our children’s director will contact you before camp to confirm where you’ll serve.
URL:https://lafayettefirst.life/event/airborne-2/2025-07-08/
LOCATION:LaFayette First Baptist\, 201 N Main Street\, Lafayette\, GA\, 30728\, United States
ATTACH;FMTTYPE=image/jpeg:https://lafayettefirst.life/wp-content/uploads/2025/06/Camp-Airborne-Reg-Open-scaled.jpg
ORGANIZER;CN="LaFayette First":MAILTO:info@lafayettefirst.life
END:VEVENT
END:VCALENDAR