BEGIN:VCALENDAR
VERSION:2.0
PRODID:-//LaFayette First - ECPv6.15.20//NONSGML v1.0//EN
CALSCALE:GREGORIAN
METHOD:PUBLISH
X-WR-CALNAME:LaFayette First
X-ORIGINAL-URL:https://lafayettefirst.life
X-WR-CALDESC:Events for LaFayette First
REFRESH-INTERVAL;VALUE=DURATION:PT1H
X-Robots-Tag:noindex
X-PUBLISHED-TTL:PT1H
BEGIN:VTIMEZONE
TZID:UTC
BEGIN:STANDARD
TZOFFSETFROM:+0000
TZOFFSETTO:+0000
TZNAME:UTC
DTSTART:20230101T000000
END:STANDARD
END:VTIMEZONE
BEGIN:VEVENT
DTSTART;TZID=UTC:20240917T180000
DTEND;TZID=UTC:20240917T190000
DTSTAMP:20260425T165044
CREATED:20240723T153921Z
LAST-MODIFIED:20240908T025532Z
UID:10000389-1726596000-1726599600@lafayettefirst.life
SUMMARY:Ladies Bible Study: Alive
DESCRIPTION:
URL:https://lafayettefirst.life/event/ladies-bible-study-alive/2024-09-17/
LOCATION:LaFayette First Baptist\, 201 N Main Street\, Lafayette\, GA\, 30728\, United States
ATTACH;FMTTYPE=image/jpeg:https://lafayettefirst.life/wp-content/uploads/2024/07/Ladies-Bible-Study-Alive-scaled.jpg
ORGANIZER;CN="LaFayette First":MAILTO:info@lafayettefirst.life
END:VEVENT
BEGIN:VEVENT
DTSTART;TZID=UTC:20240915T160000
DTEND;TZID=UTC:20240915T180000
DTSTAMP:20260425T165044
CREATED:20240822T132506Z
LAST-MODIFIED:20240822T132506Z
UID:10000365-1726416000-1726423200@lafayettefirst.life
SUMMARY:Grill Walk
DESCRIPTION:
URL:https://lafayettefirst.life/event/grill-walk-2/
LOCATION:LaFayette First Baptist\, 201 N Main Street\, Lafayette\, GA\, 30728\, United States
ORGANIZER;CN="LaFayette First":MAILTO:info@lafayettefirst.life
END:VEVENT
BEGIN:VEVENT
DTSTART;TZID=UTC:20240914T100000
DTEND;TZID=UTC:20240914T120000
DTSTAMP:20260425T165044
CREATED:20240723T161119Z
LAST-MODIFIED:20240723T161119Z
UID:10000348-1726308000-1726315200@lafayettefirst.life
SUMMARY:Nachos & Nerf Guns: Moms vs. Sons
DESCRIPTION:
URL:https://lafayettefirst.life/event/nachos-nerf-guns-moms-vs-sons/
LOCATION:LaFayette First Baptist\, 201 N Main Street\, Lafayette\, GA\, 30728\, United States
ORGANIZER;CN="LaFayette First":MAILTO:info@lafayettefirst.life
END:VEVENT
BEGIN:VEVENT
DTSTART;TZID=UTC:20240912T180000
DTEND;TZID=UTC:20240912T200000
DTSTAMP:20260425T165044
CREATED:20240710T165752Z
LAST-MODIFIED:20240908T025157Z
UID:10000379-1726164000-1726171200@lafayettefirst.life
SUMMARY:Grief Share
DESCRIPTION:A grief support group designed to help and encourage anyone who has experienced the death of a spouse\, child\, family member\, or friend. \nIncludes encouraging\, information-packed videos featuring leading grief recovery experts\, small group discussion about video content\, a workbook to use for journaling and personal study exercises that reinforce the weekly session topics.  Topics include: Is This Normal?\, Challenges of Grief\, The Journey of Grief\, Grief and Relationships\, Why?\, Guilt and Anger\, Being Stuck\, Lessons of Grief\, Heaven\, What Do I Live For Now? \nCost is $10 for materials.  Meets every Thursday night from August 1 – November 7 @ 6 to 8pm in LaFayette First Baptist Fellowship Hall. \nWill meet on November 14 to do “Surviving the Holidays”.
URL:https://lafayettefirst.life/event/grief-share-2/2024-09-12/
LOCATION:LaFayette First Baptist\, 201 N Main Street\, Lafayette\, GA\, 30728\, United States
ATTACH;FMTTYPE=image/jpeg:https://lafayettefirst.life/wp-content/uploads/2024/07/Grief-Share-Ad-for-Fall-2024-scaled.jpg
ORGANIZER;CN="LaFayette First":MAILTO:info@lafayettefirst.life
END:VEVENT
BEGIN:VEVENT
DTSTART;TZID=UTC:20240912T100000
DTEND;TZID=UTC:20240912T120000
DTSTAMP:20260425T165044
CREATED:20240723T154242Z
LAST-MODIFIED:20240723T154437Z
UID:10000347-1726135200-1726142400@lafayettefirst.life
SUMMARY:Luke in the Land: Thursday Morning Ladies Bible Study
DESCRIPTION:
URL:https://lafayettefirst.life/event/luke-in-the-land-thursday-morning-ladies-bible-study/
LOCATION:LaFayette First Baptist\, 201 N Main Street\, Lafayette\, GA\, 30728\, United States
ATTACH;FMTTYPE=image/jpeg:https://lafayettefirst.life/wp-content/uploads/2024/07/Ladies-Bible-Study-Luke-scaled.jpg
ORGANIZER;CN="LaFayette First":MAILTO:info@lafayettefirst.life
END:VEVENT
BEGIN:VEVENT
DTSTART;TZID=UTC:20240911T180000
DTEND;TZID=UTC:20240911T190000
DTSTAMP:20260425T165044
CREATED:20240723T150459Z
LAST-MODIFIED:20240910T152259Z
UID:10000443-1726077600-1726081200@lafayettefirst.life
SUMMARY:Institute Course: True Worshipers
DESCRIPTION:The question is not “Are you a worshiper?” but rather “What kind of a worshiper are you?” \nIn True Worshipers\, Bob Kauflin\, a seasoned pastor and musician\, opens our eyes to the massive significance of being the type of worshiper God is seeking. Rooted in the gospel of grace and filled with practical application\, this book aims to connect Sunday morning to the rest of your life – helping you fulfill your calling to be a true worshiper each and every day. \nA book is not required for this class\, but if you would like to order “True Worshipers” by Bob Kaulfin please check add on option as you sign up.  Cost for book is $9.
URL:https://lafayettefirst.life/event/institute-course-true-worshippers/2024-09-11/
LOCATION:LaFayette First Baptist\, 201 N Main Street\, Lafayette\, GA\, 30728\, United States
ATTACH;FMTTYPE=image/jpeg:https://lafayettefirst.life/wp-content/uploads/2024/07/Institute-Course-August-scaled.jpg
ORGANIZER;CN="LaFayette First":MAILTO:info@lafayettefirst.life
END:VEVENT
BEGIN:VEVENT
DTSTART;TZID=UTC:20240911T171500
DTEND;TZID=UTC:20240911T180000
DTSTAMP:20260425T165044
CREATED:20240906T171252Z
LAST-MODIFIED:20240906T171252Z
UID:10000373-1726074900-1726077600@lafayettefirst.life
SUMMARY:Family Dinner
DESCRIPTION:Main Menu: Poppy seed chicken\, rice\, sweet potatoes\, green beans\, rolls\, and dessert.\n   \nPRICES\nAdults\, Youth\, and Children ages 5 and up are $6.00.  Children 4yrs and under are free.  Family maximum is $24.00. \nRESERVATIONS are required!
URL:https://lafayettefirst.life/event/family-dinner-14/
LOCATION:LaFayette First Baptist\, 201 N Main Street\, Lafayette\, GA\, 30728\, United States
ATTACH;FMTTYPE=image/jpeg:https://lafayettefirst.life/wp-content/uploads/2024/08/Family-Dinner-continual-scaled.jpg
ORGANIZER;CN="LaFayette First":MAILTO:info@lafayettefirst.life
END:VEVENT
BEGIN:VEVENT
DTSTART;TZID=UTC:20240910T180000
DTEND;TZID=UTC:20240910T190000
DTSTAMP:20260425T165044
CREATED:20240723T153921Z
LAST-MODIFIED:20240908T025532Z
UID:10000388-1725991200-1725994800@lafayettefirst.life
SUMMARY:Ladies Bible Study: Alive
DESCRIPTION:
URL:https://lafayettefirst.life/event/ladies-bible-study-alive/2024-09-10/
LOCATION:LaFayette First Baptist\, 201 N Main Street\, Lafayette\, GA\, 30728\, United States
ATTACH;FMTTYPE=image/jpeg:https://lafayettefirst.life/wp-content/uploads/2024/07/Ladies-Bible-Study-Alive-scaled.jpg
ORGANIZER;CN="LaFayette First":MAILTO:info@lafayettefirst.life
END:VEVENT
BEGIN:VEVENT
DTSTART;TZID=UTC:20240909T100000
DTEND;TZID=UTC:20240909T120000
DTSTAMP:20260425T165044
CREATED:20240820T174537Z
LAST-MODIFIED:20240820T174809Z
UID:10000363-1725876000-1725883200@lafayettefirst.life
SUMMARY:Women on Mission
DESCRIPTION:
URL:https://lafayettefirst.life/event/women-on-mission-12/
LOCATION:LaFayette First Baptist\, 201 N Main Street\, Lafayette\, GA\, 30728\, United States
ATTACH;FMTTYPE=image/jpeg:https://lafayettefirst.life/wp-content/uploads/2024/08/WOM-Sept-2024.jpg
ORGANIZER;CN="LaFayette First":MAILTO:info@lafayettefirst.life
END:VEVENT
BEGIN:VEVENT
DTSTART;TZID=UTC:20240908T180000
DTEND;TZID=UTC:20240908T200000
DTSTAMP:20260425T165044
CREATED:20240731T153332Z
LAST-MODIFIED:20240731T153408Z
UID:10000358-1725818400-1725825600@lafayettefirst.life
SUMMARY:Community Faith Night
DESCRIPTION:More info and time coming soon!
URL:https://lafayettefirst.life/event/community-faith-night/
LOCATION:LaFayette First Baptist\, 201 N Main Street\, Lafayette\, GA\, 30728\, United States
ORGANIZER;CN="LaFayette First":MAILTO:info@lafayettefirst.life
END:VEVENT
BEGIN:VEVENT
DTSTART;TZID=UTC:20240908T120000
DTEND;TZID=UTC:20240908T130000
DTSTAMP:20260425T165044
CREATED:20240820T164624Z
LAST-MODIFIED:20240820T164717Z
UID:10000360-1725796800-1725800400@lafayettefirst.life
SUMMARY:Retirement Appreciation
DESCRIPTION:
URL:https://lafayettefirst.life/event/retirement-appreciation/
LOCATION:LaFayette First Baptist\, 201 N Main Street\, Lafayette\, GA\, 30728\, United States
ORGANIZER;CN="LaFayette First":MAILTO:info@lafayettefirst.life
END:VEVENT
BEGIN:VEVENT
DTSTART;TZID=UTC:20240905T180000
DTEND;TZID=UTC:20240905T200000
DTSTAMP:20260425T165044
CREATED:20240710T165752Z
LAST-MODIFIED:20240908T025157Z
UID:10000378-1725559200-1725566400@lafayettefirst.life
SUMMARY:Grief Share
DESCRIPTION:A grief support group designed to help and encourage anyone who has experienced the death of a spouse\, child\, family member\, or friend. \nIncludes encouraging\, information-packed videos featuring leading grief recovery experts\, small group discussion about video content\, a workbook to use for journaling and personal study exercises that reinforce the weekly session topics.  Topics include: Is This Normal?\, Challenges of Grief\, The Journey of Grief\, Grief and Relationships\, Why?\, Guilt and Anger\, Being Stuck\, Lessons of Grief\, Heaven\, What Do I Live For Now? \nCost is $10 for materials.  Meets every Thursday night from August 1 – November 7 @ 6 to 8pm in LaFayette First Baptist Fellowship Hall. \nWill meet on November 14 to do “Surviving the Holidays”.
URL:https://lafayettefirst.life/event/grief-share-2/2024-09-05/
LOCATION:LaFayette First Baptist\, 201 N Main Street\, Lafayette\, GA\, 30728\, United States
ATTACH;FMTTYPE=image/jpeg:https://lafayettefirst.life/wp-content/uploads/2024/07/Grief-Share-Ad-for-Fall-2024-scaled.jpg
ORGANIZER;CN="LaFayette First":MAILTO:info@lafayettefirst.life
END:VEVENT
BEGIN:VEVENT
DTSTART;TZID=UTC:20240904T180000
DTEND;TZID=UTC:20240904T190000
DTSTAMP:20260425T165044
CREATED:20240723T150459Z
LAST-MODIFIED:20240910T152259Z
UID:10000442-1725472800-1725476400@lafayettefirst.life
SUMMARY:Institute Course: True Worshipers
DESCRIPTION:The question is not “Are you a worshiper?” but rather “What kind of a worshiper are you?” \nIn True Worshipers\, Bob Kauflin\, a seasoned pastor and musician\, opens our eyes to the massive significance of being the type of worshiper God is seeking. Rooted in the gospel of grace and filled with practical application\, this book aims to connect Sunday morning to the rest of your life – helping you fulfill your calling to be a true worshiper each and every day. \nA book is not required for this class\, but if you would like to order “True Worshipers” by Bob Kaulfin please check add on option as you sign up.  Cost for book is $9.
URL:https://lafayettefirst.life/event/institute-course-true-worshippers/2024-09-04/
LOCATION:LaFayette First Baptist\, 201 N Main Street\, Lafayette\, GA\, 30728\, United States
ATTACH;FMTTYPE=image/jpeg:https://lafayettefirst.life/wp-content/uploads/2024/07/Institute-Course-August-scaled.jpg
ORGANIZER;CN="LaFayette First":MAILTO:info@lafayettefirst.life
END:VEVENT
BEGIN:VEVENT
DTSTART;TZID=UTC:20240904T171500
DTEND;TZID=UTC:20240904T180000
DTSTAMP:20260425T165044
CREATED:20240829T151145Z
LAST-MODIFIED:20240829T151145Z
UID:10000372-1725470100-1725472800@lafayettefirst.life
SUMMARY:Family Dinner
DESCRIPTION:Menu: TBD
URL:https://lafayettefirst.life/event/family-dinner-13/
LOCATION:LaFayette First Baptist\, 201 N Main Street\, Lafayette\, GA\, 30728\, United States
ATTACH;FMTTYPE=image/jpeg:https://lafayettefirst.life/wp-content/uploads/2024/08/Family-Dinner-continual-scaled.jpg
ORGANIZER;CN="LaFayette First":MAILTO:info@lafayettefirst.life
END:VEVENT
BEGIN:VEVENT
DTSTART;TZID=UTC:20240903T180000
DTEND;TZID=UTC:20240903T190000
DTSTAMP:20260425T165044
CREATED:20240723T153921Z
LAST-MODIFIED:20240908T025532Z
UID:10000387-1725386400-1725390000@lafayettefirst.life
SUMMARY:Ladies Bible Study: Alive
DESCRIPTION:
URL:https://lafayettefirst.life/event/ladies-bible-study-alive/2024-09-03/
LOCATION:LaFayette First Baptist\, 201 N Main Street\, Lafayette\, GA\, 30728\, United States
ATTACH;FMTTYPE=image/jpeg:https://lafayettefirst.life/wp-content/uploads/2024/07/Ladies-Bible-Study-Alive-scaled.jpg
ORGANIZER;CN="LaFayette First":MAILTO:info@lafayettefirst.life
END:VEVENT
BEGIN:VEVENT
DTSTART;TZID=UTC:20240829T180000
DTEND;TZID=UTC:20240829T200000
DTSTAMP:20260425T165044
CREATED:20240710T165752Z
LAST-MODIFIED:20240908T025157Z
UID:10000377-1724954400-1724961600@lafayettefirst.life
SUMMARY:Grief Share
DESCRIPTION:A grief support group designed to help and encourage anyone who has experienced the death of a spouse\, child\, family member\, or friend. \nIncludes encouraging\, information-packed videos featuring leading grief recovery experts\, small group discussion about video content\, a workbook to use for journaling and personal study exercises that reinforce the weekly session topics.  Topics include: Is This Normal?\, Challenges of Grief\, The Journey of Grief\, Grief and Relationships\, Why?\, Guilt and Anger\, Being Stuck\, Lessons of Grief\, Heaven\, What Do I Live For Now? \nCost is $10 for materials.  Meets every Thursday night from August 1 – November 7 @ 6 to 8pm in LaFayette First Baptist Fellowship Hall. \nWill meet on November 14 to do “Surviving the Holidays”.
URL:https://lafayettefirst.life/event/grief-share-2/2024-08-29/
LOCATION:LaFayette First Baptist\, 201 N Main Street\, Lafayette\, GA\, 30728\, United States
ATTACH;FMTTYPE=image/jpeg:https://lafayettefirst.life/wp-content/uploads/2024/07/Grief-Share-Ad-for-Fall-2024-scaled.jpg
ORGANIZER;CN="LaFayette First":MAILTO:info@lafayettefirst.life
END:VEVENT
BEGIN:VEVENT
DTSTART;TZID=UTC:20240828T180000
DTEND;TZID=UTC:20240828T190000
DTSTAMP:20260425T165044
CREATED:20240723T150459Z
LAST-MODIFIED:20240910T152259Z
UID:10000344-1724868000-1724871600@lafayettefirst.life
SUMMARY:Institute Course: True Worshipers
DESCRIPTION:The question is not “Are you a worshiper?” but rather “What kind of a worshiper are you?” \nIn True Worshipers\, Bob Kauflin\, a seasoned pastor and musician\, opens our eyes to the massive significance of being the type of worshiper God is seeking. Rooted in the gospel of grace and filled with practical application\, this book aims to connect Sunday morning to the rest of your life – helping you fulfill your calling to be a true worshiper each and every day. \nA book is not required for this class\, but if you would like to order “True Worshipers” by Bob Kaulfin please check add on option as you sign up.  Cost for book is $9.
URL:https://lafayettefirst.life/event/institute-course-true-worshippers/2024-08-28/
LOCATION:LaFayette First Baptist\, 201 N Main Street\, Lafayette\, GA\, 30728\, United States
ATTACH;FMTTYPE=image/jpeg:https://lafayettefirst.life/wp-content/uploads/2024/07/Institute-Course-August-scaled.jpg
ORGANIZER;CN="LaFayette First":MAILTO:info@lafayettefirst.life
END:VEVENT
BEGIN:VEVENT
DTSTART;TZID=UTC:20240828T171500
DTEND;TZID=UTC:20240828T180000
DTSTAMP:20260425T165044
CREATED:20240822T134917Z
LAST-MODIFIED:20240822T135056Z
UID:10000370-1724865300-1724868000@lafayettefirst.life
SUMMARY:Family Dinner
DESCRIPTION:
URL:https://lafayettefirst.life/event/family-dinner-12/
LOCATION:LaFayette First Baptist\, 201 N Main Street\, Lafayette\, GA\, 30728\, United States
ORGANIZER;CN="LaFayette First":MAILTO:info@lafayettefirst.life
END:VEVENT
BEGIN:VEVENT
DTSTART;TZID=UTC:20240827T180000
DTEND;TZID=UTC:20240827T190000
DTSTAMP:20260425T165044
CREATED:20240723T153921Z
LAST-MODIFIED:20240908T025532Z
UID:10000386-1724781600-1724785200@lafayettefirst.life
SUMMARY:Ladies Bible Study: Alive
DESCRIPTION:
URL:https://lafayettefirst.life/event/ladies-bible-study-alive/2024-08-27/
LOCATION:LaFayette First Baptist\, 201 N Main Street\, Lafayette\, GA\, 30728\, United States
ATTACH;FMTTYPE=image/jpeg:https://lafayettefirst.life/wp-content/uploads/2024/07/Ladies-Bible-Study-Alive-scaled.jpg
ORGANIZER;CN="LaFayette First":MAILTO:info@lafayettefirst.life
END:VEVENT
BEGIN:VEVENT
DTSTART;VALUE=DATE:20240825
DTEND;VALUE=DATE:20240916
DTSTAMP:20260425T165044
CREATED:20240820T173703Z
LAST-MODIFIED:20240820T174046Z
UID:10000362-1724544000-1726444799@lafayettefirst.life
SUMMARY:Secret Sister Exchange
DESCRIPTION:
URL:https://lafayettefirst.life/event/secret-sister-exchange/
LOCATION:LaFayette First Baptist\, 201 N Main Street\, Lafayette\, GA\, 30728\, United States
ATTACH;FMTTYPE=image/jpeg:https://lafayettefirst.life/wp-content/uploads/2024/08/Secret-Sister-2024-scaled.jpg
ORGANIZER;CN="LaFayette First":MAILTO:info@lafayettefirst.life
END:VEVENT
BEGIN:VEVENT
DTSTART;TZID=UTC:20240824T083000
DTEND;TZID=UTC:20240824T133000
DTSTAMP:20260425T165044
CREATED:20240723T151024Z
LAST-MODIFIED:20240723T151313Z
UID:10000345-1724488200-1724506200@lafayettefirst.life
SUMMARY:Institute Workshop
DESCRIPTION:Lunch provided.  A $10 donation to cover the cost of our speaker and lunch would be greatly appreciated. Please register by Sunday\, August 18. \nA follow-up 10-week Institute Course will begin after the workshop on Wednesday\, August 28 @ 6:15pm. \nYou are signing up for the Saturday Workshop only.  Please go here to request to join us for the course.
URL:https://lafayettefirst.life/event/institute-workshope/
LOCATION:LaFayette First Baptist\, 201 N Main Street\, Lafayette\, GA\, 30728\, United States
ATTACH;FMTTYPE=image/jpeg:https://lafayettefirst.life/wp-content/uploads/2024/07/Institute-Workshop-August-scaled.jpg
ORGANIZER;CN="LaFayette First":MAILTO:info@lafayettefirst.life
END:VEVENT
BEGIN:VEVENT
DTSTART;TZID=UTC:20240822T180000
DTEND;TZID=UTC:20240822T200000
DTSTAMP:20260425T165044
CREATED:20240710T165752Z
LAST-MODIFIED:20240908T025157Z
UID:10000376-1724349600-1724356800@lafayettefirst.life
SUMMARY:Grief Share
DESCRIPTION:A grief support group designed to help and encourage anyone who has experienced the death of a spouse\, child\, family member\, or friend. \nIncludes encouraging\, information-packed videos featuring leading grief recovery experts\, small group discussion about video content\, a workbook to use for journaling and personal study exercises that reinforce the weekly session topics.  Topics include: Is This Normal?\, Challenges of Grief\, The Journey of Grief\, Grief and Relationships\, Why?\, Guilt and Anger\, Being Stuck\, Lessons of Grief\, Heaven\, What Do I Live For Now? \nCost is $10 for materials.  Meets every Thursday night from August 1 – November 7 @ 6 to 8pm in LaFayette First Baptist Fellowship Hall. \nWill meet on November 14 to do “Surviving the Holidays”.
URL:https://lafayettefirst.life/event/grief-share-2/2024-08-22/
LOCATION:LaFayette First Baptist\, 201 N Main Street\, Lafayette\, GA\, 30728\, United States
ATTACH;FMTTYPE=image/jpeg:https://lafayettefirst.life/wp-content/uploads/2024/07/Grief-Share-Ad-for-Fall-2024-scaled.jpg
ORGANIZER;CN="LaFayette First":MAILTO:info@lafayettefirst.life
END:VEVENT
BEGIN:VEVENT
DTSTART;TZID=UTC:20240822T180000
DTEND;TZID=UTC:20240822T193000
DTSTAMP:20260425T165044
CREATED:20240822T135504Z
LAST-MODIFIED:20240822T135718Z
UID:10000371-1724349600-1724355000@lafayettefirst.life
SUMMARY:CHAOS: Student Ministry
DESCRIPTION:Middle School Students meet from 6 to 6:45pm\nHigh School Students meet from  6:45  to 7:30pm \nCan’t wait to see you there!
URL:https://lafayettefirst.life/event/chaos-student-ministry/
LOCATION:LaFayette First Baptist\, 201 N Main Street\, Lafayette\, GA\, 30728\, United States
ATTACH;FMTTYPE=image/jpeg:https://lafayettefirst.life/wp-content/uploads/2024/08/chaos.jpg
ORGANIZER;CN="LaFayette First":MAILTO:info@lafayettefirst.life
END:VEVENT
BEGIN:VEVENT
DTSTART;TZID=UTC:20240821T180000
DTEND;TZID=UTC:20240821T190000
DTSTAMP:20260425T165044
CREATED:20240731T152353Z
LAST-MODIFIED:20240731T152353Z
UID:10000356-1724263200-1724266800@lafayettefirst.life
SUMMARY:Kids Missions
DESCRIPTION:
URL:https://lafayettefirst.life/event/kids-missions/
LOCATION:LaFayette First Baptist\, 201 N Main Street\, Lafayette\, GA\, 30728\, United States
ATTACH;FMTTYPE=image/jpeg:https://lafayettefirst.life/wp-content/uploads/2024/07/Kids-Wednesday-Classes-scaled.jpg
ORGANIZER;CN="LaFayette First":MAILTO:info@lafayettefirst.life
END:VEVENT
BEGIN:VEVENT
DTSTART;TZID=UTC:20240821T173000
DTEND;TZID=UTC:20240821T193000
DTSTAMP:20260425T165044
CREATED:20240723T161622Z
LAST-MODIFIED:20240723T161622Z
UID:10000350-1724261400-1724268600@lafayettefirst.life
SUMMARY:Youth B2S Bash!
DESCRIPTION:
URL:https://lafayettefirst.life/event/youth-b2s-bash/
LOCATION:LaFayette First Baptist\, 201 N Main Street\, Lafayette\, GA\, 30728\, United States
ATTACH;FMTTYPE=image/jpeg:https://lafayettefirst.life/wp-content/uploads/2024/07/Youth-B2S-Bash-2024.jpg
ORGANIZER;CN="LaFayette First":MAILTO:info@lafayettefirst.life
END:VEVENT
BEGIN:VEVENT
DTSTART;TZID=UTC:20240820T180000
DTEND;TZID=UTC:20240820T190000
DTSTAMP:20260425T165044
CREATED:20240723T153921Z
LAST-MODIFIED:20240908T025532Z
UID:10000346-1724176800-1724180400@lafayettefirst.life
SUMMARY:Ladies Bible Study: Alive
DESCRIPTION:
URL:https://lafayettefirst.life/event/ladies-bible-study-alive/2024-08-20/
LOCATION:LaFayette First Baptist\, 201 N Main Street\, Lafayette\, GA\, 30728\, United States
ATTACH;FMTTYPE=image/jpeg:https://lafayettefirst.life/wp-content/uploads/2024/07/Ladies-Bible-Study-Alive-scaled.jpg
ORGANIZER;CN="LaFayette First":MAILTO:info@lafayettefirst.life
END:VEVENT
BEGIN:VEVENT
DTSTART;TZID=UTC:20240818T140000
DTEND;TZID=UTC:20240818T153000
DTSTAMP:20260425T165044
CREATED:20240731T152020Z
LAST-MODIFIED:20240731T152020Z
UID:10000355-1723989600-1723995000@lafayettefirst.life
SUMMARY:Wedding Shower
DESCRIPTION:
URL:https://lafayettefirst.life/event/wedding-shower-5/
LOCATION:LaFayette First Baptist\, 201 N Main Street\, Lafayette\, GA\, 30728\, United States
ATTACH;FMTTYPE=image/jpeg:https://lafayettefirst.life/wp-content/uploads/2024/07/Wedding-Shower-Alexander-scaled.jpg
ORGANIZER;CN="LaFayette First":MAILTO:info@lafayettefirst.life
END:VEVENT
BEGIN:VEVENT
DTSTART;TZID=UTC:20240815T180000
DTEND;TZID=UTC:20240815T200000
DTSTAMP:20260425T165044
CREATED:20240710T165752Z
LAST-MODIFIED:20240908T025157Z
UID:10000375-1723744800-1723752000@lafayettefirst.life
SUMMARY:Grief Share
DESCRIPTION:A grief support group designed to help and encourage anyone who has experienced the death of a spouse\, child\, family member\, or friend. \nIncludes encouraging\, information-packed videos featuring leading grief recovery experts\, small group discussion about video content\, a workbook to use for journaling and personal study exercises that reinforce the weekly session topics.  Topics include: Is This Normal?\, Challenges of Grief\, The Journey of Grief\, Grief and Relationships\, Why?\, Guilt and Anger\, Being Stuck\, Lessons of Grief\, Heaven\, What Do I Live For Now? \nCost is $10 for materials.  Meets every Thursday night from August 1 – November 7 @ 6 to 8pm in LaFayette First Baptist Fellowship Hall. \nWill meet on November 14 to do “Surviving the Holidays”.
URL:https://lafayettefirst.life/event/grief-share-2/2024-08-15/
LOCATION:LaFayette First Baptist\, 201 N Main Street\, Lafayette\, GA\, 30728\, United States
ATTACH;FMTTYPE=image/jpeg:https://lafayettefirst.life/wp-content/uploads/2024/07/Grief-Share-Ad-for-Fall-2024-scaled.jpg
ORGANIZER;CN="LaFayette First":MAILTO:info@lafayettefirst.life
END:VEVENT
BEGIN:VEVENT
DTSTART;TZID=UTC:20240814T173000
DTEND;TZID=UTC:20240814T190000
DTSTAMP:20260425T165044
CREATED:20240723T161359Z
LAST-MODIFIED:20240723T161359Z
UID:10000349-1723656600-1723662000@lafayettefirst.life
SUMMARY:Block Party!
DESCRIPTION:
URL:https://lafayettefirst.life/event/block-party-2/
LOCATION:LaFayette First Baptist\, 201 N Main Street\, Lafayette\, GA\, 30728\, United States
ORGANIZER;CN="LaFayette First":MAILTO:info@lafayettefirst.life
END:VEVENT
BEGIN:VEVENT
DTSTART;TZID=UTC:20240813T180000
DTEND;TZID=UTC:20240813T190000
DTSTAMP:20260425T165044
CREATED:20240731T151430Z
LAST-MODIFIED:20240731T151901Z
UID:10000354-1723572000-1723575600@lafayettefirst.life
SUMMARY:Women on Mission
DESCRIPTION:All ladies of the church are invited to attend.
URL:https://lafayettefirst.life/event/women-on-mission-11/
LOCATION:LaFayette First Baptist\, 201 N Main Street\, Lafayette\, GA\, 30728\, United States
ATTACH;FMTTYPE=image/jpeg:https://lafayettefirst.life/wp-content/uploads/2024/07/WOM-August-2024-scaled.jpg
ORGANIZER;CN="LaFayette First":MAILTO:info@lafayettefirst.life
END:VEVENT
END:VCALENDAR