BEGIN:VCALENDAR
VERSION:2.0
PRODID:-//LaFayette First - ECPv6.15.20//NONSGML v1.0//EN
CALSCALE:GREGORIAN
METHOD:PUBLISH
X-WR-CALNAME:LaFayette First
X-ORIGINAL-URL:https://lafayettefirst.life
X-WR-CALDESC:Events for LaFayette First
REFRESH-INTERVAL;VALUE=DURATION:PT1H
X-Robots-Tag:noindex
X-PUBLISHED-TTL:PT1H
BEGIN:VTIMEZONE
TZID:UTC
BEGIN:STANDARD
TZOFFSETFROM:+0000
TZOFFSETTO:+0000
TZNAME:UTC
DTSTART:20230101T000000
END:STANDARD
END:VTIMEZONE
BEGIN:VEVENT
DTSTART;TZID=UTC:20250209T173000
DTEND;TZID=UTC:20250209T213000
DTSTAMP:20260425T135312
CREATED:20241217T141259Z
LAST-MODIFIED:20241217T142724Z
UID:10000511-1739122200-1739136600@lafayettefirst.life
SUMMARY:Super Sunday
DESCRIPTION:Watch the Super Bowl game with us!  Connect Groups bring your BEST appetizer to share.  The Connect Group whose appetizer gets judged as the BEST will receive the Golden Football Reward!
URL:https://lafayettefirst.life/event/super-bowl-sunday/
LOCATION:LaFayette First Baptist\, 201 N Main Street\, Lafayette\, GA\, 30728\, United States
ATTACH;FMTTYPE=image/jpeg:https://lafayettefirst.life/wp-content/uploads/2024/12/Super-Bowl-2025-scaled.jpg
ORGANIZER;CN="LaFayette First":MAILTO:info@lafayettefirst.life
END:VEVENT
BEGIN:VEVENT
DTSTART;TZID=UTC:20250206T120000
DTEND;TZID=UTC:20250206T140000
DTSTAMP:20260425T135312
CREATED:20250108T162637Z
LAST-MODIFIED:20250108T162637Z
UID:10000516-1738843200-1738850400@lafayettefirst.life
SUMMARY:JOY LUNCH
DESCRIPTION:All senior adults are invited to join us for our JOY lunch on Thursday\, February at noon.  Papa Sway will be our entertainment.  There is no cost.
URL:https://lafayettefirst.life/event/joy-lunch/
LOCATION:LaFayette First Baptist\, 201 N Main Street\, Lafayette\, GA\, 30728\, United States
ATTACH;FMTTYPE=image/jpeg:https://lafayettefirst.life/wp-content/uploads/2025/01/Joy-Lunch-Feb-6-2025-scaled.jpg
ORGANIZER;CN="LaFayette First":MAILTO:info@lafayettefirst.life
END:VEVENT
BEGIN:VEVENT
DTSTART;TZID=UTC:20250205T171500
DTEND;TZID=UTC:20250205T180000
DTSTAMP:20260425T135312
CREATED:20250112T191943Z
LAST-MODIFIED:20250112T191943Z
UID:10000580-1738775700-1738778400@lafayettefirst.life
SUMMARY:Family Dinner
DESCRIPTION:Main Menu: Party Chicken\, Rice\, Sweet Potato\, Green Beans\, Roll\, Dessert \nPRICES\nAdults\, Youth\, and Children ages 5 and up are $6.00.  Children 4yrs and under are free.  Family maximum is $24.00. \nRESERVATIONS are required! 
URL:https://lafayettefirst.life/event/family-dinner-26/
LOCATION:LaFayette First Baptist\, 201 N Main Street\, Lafayette\, GA\, 30728\, United States
ATTACH;FMTTYPE=image/jpeg:https://lafayettefirst.life/wp-content/uploads/2024/08/Family-Dinner-continual-scaled.jpg
ORGANIZER;CN="LaFayette First":MAILTO:info@lafayettefirst.life
END:VEVENT
BEGIN:VEVENT
DTSTART;TZID=UTC:20250201T083000
DTEND;TZID=UTC:20250201T133000
DTSTAMP:20260425T135312
CREATED:20250108T145111Z
LAST-MODIFIED:20250108T145111Z
UID:10000515-1738398600-1738416600@lafayettefirst.life
SUMMARY:Institute Workshop
DESCRIPTION:
URL:https://lafayettefirst.life/event/institute-workshop-2/
LOCATION:LaFayette First Baptist\, 201 N Main Street\, Lafayette\, GA\, 30728\, United States
ATTACH;FMTTYPE=image/jpeg:https://lafayettefirst.life/wp-content/uploads/2025/01/Institute-Workshop-FEB-2025-scaled.jpg
ORGANIZER;CN="LaFayette First":MAILTO:info@lafayettefirst.life
END:VEVENT
BEGIN:VEVENT
DTSTART;TZID=UTC:20250129T181500
DTEND;TZID=UTC:20250129T190000
DTSTAMP:20260425T135312
CREATED:20241217T142907Z
LAST-MODIFIED:20241217T143123Z
UID:10000513-1738174500-1738177200@lafayettefirst.life
SUMMARY:Attributes of God Study
DESCRIPTION:
URL:https://lafayettefirst.life/event/attributes-of-god-w-pastor-derrick/2025-01-29/
LOCATION:LaFayette First Baptist\, 201 N Main Street\, Lafayette\, GA\, 30728\, United States
ATTACH;FMTTYPE=image/jpeg:https://lafayettefirst.life/wp-content/uploads/2024/12/Attributes-of-God-study--scaled.jpg
ORGANIZER;CN="LaFayette First":MAILTO:info@lafayettefirst.life
END:VEVENT
BEGIN:VEVENT
DTSTART;TZID=UTC:20250129T171500
DTEND;TZID=UTC:20250129T180000
DTSTAMP:20260425T135312
CREATED:20250112T191311Z
LAST-MODIFIED:20250112T192228Z
UID:10000579-1738170900-1738173600@lafayettefirst.life
SUMMARY:Family Dinner
DESCRIPTION:Main Menu: Breakfast\n\n\nPRICES\nAdults\, Youth\, and Children ages 5 and up are $6.00.  Children 4yrs and under are free.  Family maximum is $24.00. \nRESERVATIONS are required! 
URL:https://lafayettefirst.life/event/family-dinner-25/
LOCATION:LaFayette First Baptist\, 201 N Main Street\, Lafayette\, GA\, 30728\, United States
ATTACH;FMTTYPE=image/jpeg:https://lafayettefirst.life/wp-content/uploads/2024/08/Family-Dinner-continual-scaled.jpg
ORGANIZER;CN="LaFayette First":MAILTO:info@lafayettefirst.life
END:VEVENT
BEGIN:VEVENT
DTSTART;TZID=UTC:20250126T093000
DTEND;TZID=UTC:20250126T120000
DTSTAMP:20260425T135312
CREATED:20250108T144527Z
LAST-MODIFIED:20250108T144626Z
UID:10000514-1737883800-1737892800@lafayettefirst.life
SUMMARY:Camo Day @ LaFayette First
DESCRIPTION:
URL:https://lafayettefirst.life/event/camo-day-lafayette-first/
LOCATION:LaFayette First Baptist\, 201 N Main Street\, Lafayette\, GA\, 30728\, United States
ATTACH;FMTTYPE=image/jpeg:https://lafayettefirst.life/wp-content/uploads/2025/01/Camo-Day-scaled.jpg
ORGANIZER;CN="LaFayette First":MAILTO:info@lafayettefirst.life
END:VEVENT
BEGIN:VEVENT
DTSTART;TZID=UTC:20250123T173000
DTEND;TZID=UTC:20250123T190000
DTSTAMP:20260425T135312
CREATED:20241211T140942Z
LAST-MODIFIED:20241211T140942Z
UID:10000510-1737653400-1737658800@lafayettefirst.life
SUMMARY:Women's Ministry Bible Study: Trustworthy-Lysa Terkeurst
DESCRIPTION:
URL:https://lafayettefirst.life/event/womens-ministry-bible-study-trustworthy-lysa-terkeurst/2025-01-23/
LOCATION:LaFayette First Baptist\, 201 N Main Street\, Lafayette\, GA\, 30728\, United States
ATTACH;FMTTYPE=image/jpeg:https://lafayettefirst.life/wp-content/uploads/2024/12/Womens-Bible-Study-Trustworthy-scaled.jpg
ORGANIZER;CN="LaFayette First":MAILTO:info@lafayettefirst.life
END:VEVENT
BEGIN:VEVENT
DTSTART;TZID=UTC:20250123T100000
DTEND;TZID=UTC:20250123T120000
DTSTAMP:20260425T135312
CREATED:20241210T192022Z
LAST-MODIFIED:20241210T192354Z
UID:10000501-1737626400-1737633600@lafayettefirst.life
SUMMARY:Ladies Bible Study: Revelation
DESCRIPTION:We will meet in the Annex.
URL:https://lafayettefirst.life/event/ladies-bible-study-revelation/2025-01-23/
LOCATION:LaFayette First Baptist\, 201 N Main Street\, Lafayette\, GA\, 30728\, United States
ATTACH;FMTTYPE=image/jpeg:https://lafayettefirst.life/wp-content/uploads/2024/12/Ladies-Bible-Study-Revelation-copy-scaled.jpg
ORGANIZER;CN="LaFayette First":MAILTO:info@lafayettefirst.life
END:VEVENT
BEGIN:VEVENT
DTSTART;TZID=UTC:20250122T171500
DTEND;TZID=UTC:20250122T180000
DTSTAMP:20260425T135312
CREATED:20250112T191137Z
LAST-MODIFIED:20250112T191137Z
UID:10000578-1737566100-1737568800@lafayettefirst.life
SUMMARY:Family Dinner
DESCRIPTION:Main Menu: Grilled Chicken\, Baked Potatoes\, Salad Bar\, Rolls\, Dessert.\nChildren’s Menu: Pizza \nPRICES\nAdults\, Youth\, and Children ages 5 and up are $6.00.  Children 4yrs and under are free.  Family maximum is $24.00. \nRESERVATIONS are required! 
URL:https://lafayettefirst.life/event/family-dinner-24/
LOCATION:LaFayette First Baptist\, 201 N Main Street\, Lafayette\, GA\, 30728\, United States
ATTACH;FMTTYPE=image/jpeg:https://lafayettefirst.life/wp-content/uploads/2024/08/Family-Dinner-continual-scaled.jpg
ORGANIZER;CN="LaFayette First":MAILTO:info@lafayettefirst.life
END:VEVENT
BEGIN:VEVENT
DTSTART;TZID=UTC:20250116T180000
DTEND;TZID=UTC:20250116T200000
DTSTAMP:20260425T135312
CREATED:20250108T164558Z
LAST-MODIFIED:20250108T165253Z
UID:10000521-1737050400-1737057600@lafayettefirst.life
SUMMARY:Grief Share
DESCRIPTION:A grief support group designed to help and encourage anyone who has experienced the death of a spouse\, child\, family member\, or friend. \nIncludes encouraging\, information-packed videos featuring leading grief recovery experts\, small group discussion about video content\, a workbook to use for journaling and personal study exercises that reinforce the weekly session topics.  Topics include: Is This Normal?\, Challenges of Grief\, The Journey of Grief\, Grief and Relationships\, Why?\, Guilt and Anger\, Being Stuck\, Lessons of Grief\, Heaven\, What Do I Live For Now? \nNo cost.  Meets every Thursday night beginning January 16 from 6 to 8pm in LaFayette First Baptist Fellowship Hall.
URL:https://lafayettefirst.life/event/grief-share-3/
LOCATION:LaFayette First Baptist\, 201 N Main Street\, Lafayette\, GA\, 30728\, United States
ATTACH;FMTTYPE=image/jpeg:https://lafayettefirst.life/wp-content/uploads/2025/01/Grief-Share-Ad-for-2025.jpg
ORGANIZER;CN="LaFayette First":MAILTO:info@lafayettefirst.life
END:VEVENT
BEGIN:VEVENT
DTSTART;TZID=UTC:20250116T173000
DTEND;TZID=UTC:20250116T190000
DTSTAMP:20260425T135312
CREATED:20241211T140942Z
LAST-MODIFIED:20241211T140942Z
UID:10000509-1737048600-1737054000@lafayettefirst.life
SUMMARY:Women's Ministry Bible Study: Trustworthy-Lysa Terkeurst
DESCRIPTION:
URL:https://lafayettefirst.life/event/womens-ministry-bible-study-trustworthy-lysa-terkeurst/2025-01-16/
LOCATION:LaFayette First Baptist\, 201 N Main Street\, Lafayette\, GA\, 30728\, United States
ATTACH;FMTTYPE=image/jpeg:https://lafayettefirst.life/wp-content/uploads/2024/12/Womens-Bible-Study-Trustworthy-scaled.jpg
ORGANIZER;CN="LaFayette First":MAILTO:info@lafayettefirst.life
END:VEVENT
BEGIN:VEVENT
DTSTART;TZID=UTC:20250116T100000
DTEND;TZID=UTC:20250116T120000
DTSTAMP:20260425T135312
CREATED:20241210T192022Z
LAST-MODIFIED:20241210T192354Z
UID:10000500-1737021600-1737028800@lafayettefirst.life
SUMMARY:Ladies Bible Study: Revelation
DESCRIPTION:We will meet in the Annex.
URL:https://lafayettefirst.life/event/ladies-bible-study-revelation/2025-01-16/
LOCATION:LaFayette First Baptist\, 201 N Main Street\, Lafayette\, GA\, 30728\, United States
ATTACH;FMTTYPE=image/jpeg:https://lafayettefirst.life/wp-content/uploads/2024/12/Ladies-Bible-Study-Revelation-copy-scaled.jpg
ORGANIZER;CN="LaFayette First":MAILTO:info@lafayettefirst.life
END:VEVENT
BEGIN:VEVENT
DTSTART;TZID=UTC:20250115T181500
DTEND;TZID=UTC:20250115T190000
DTSTAMP:20260425T135312
CREATED:20241217T142907Z
LAST-MODIFIED:20241217T143123Z
UID:10000512-1736964900-1736967600@lafayettefirst.life
SUMMARY:Attributes of God Study
DESCRIPTION:
URL:https://lafayettefirst.life/event/attributes-of-god-w-pastor-derrick/2025-01-15/
LOCATION:LaFayette First Baptist\, 201 N Main Street\, Lafayette\, GA\, 30728\, United States
ATTACH;FMTTYPE=image/jpeg:https://lafayettefirst.life/wp-content/uploads/2024/12/Attributes-of-God-study--scaled.jpg
ORGANIZER;CN="LaFayette First":MAILTO:info@lafayettefirst.life
END:VEVENT
BEGIN:VEVENT
DTSTART;TZID=UTC:20250115T171500
DTEND;TZID=UTC:20250115T180000
DTSTAMP:20260425T135312
CREATED:20250112T190755Z
LAST-MODIFIED:20250112T190755Z
UID:10000577-1736961300-1736964000@lafayettefirst.life
SUMMARY:Family Dinner
DESCRIPTION:Main Menu: BBQ\, Chicken Fingers\, Slaw\, Baked Beans\, Chips\, Pickles and Apple pie \nPRICES\nAdults\, Youth\, and Children ages 5 and up are $6.00.  Children 4yrs and under are free.  Family maximum is $24.00. \nRESERVATIONS are required! 
URL:https://lafayettefirst.life/event/family-dinner-23/
LOCATION:LaFayette First Baptist\, 201 N Main Street\, Lafayette\, GA\, 30728\, United States
ATTACH;FMTTYPE=image/jpeg:https://lafayettefirst.life/wp-content/uploads/2024/08/Family-Dinner-continual-scaled.jpg
ORGANIZER;CN="LaFayette First":MAILTO:info@lafayettefirst.life
END:VEVENT
BEGIN:VEVENT
DTSTART;TZID=UTC:20250109T100000
DTEND;TZID=UTC:20250109T120000
DTSTAMP:20260425T135312
CREATED:20241210T192022Z
LAST-MODIFIED:20241210T192354Z
UID:10000499-1736416800-1736424000@lafayettefirst.life
SUMMARY:Ladies Bible Study: Revelation
DESCRIPTION:We will meet in the Annex.
URL:https://lafayettefirst.life/event/ladies-bible-study-revelation/2025-01-09/
LOCATION:LaFayette First Baptist\, 201 N Main Street\, Lafayette\, GA\, 30728\, United States
ATTACH;FMTTYPE=image/jpeg:https://lafayettefirst.life/wp-content/uploads/2024/12/Ladies-Bible-Study-Revelation-copy-scaled.jpg
ORGANIZER;CN="LaFayette First":MAILTO:info@lafayettefirst.life
END:VEVENT
BEGIN:VEVENT
DTSTART;TZID=UTC:20241224T173000
DTEND;TZID=UTC:20241224T183000
DTSTAMP:20260425T135312
CREATED:20241023T182456Z
LAST-MODIFIED:20241023T182632Z
UID:10000494-1735061400-1735065000@lafayettefirst.life
SUMMARY:Christmas Eve Communion
DESCRIPTION:
URL:https://lafayettefirst.life/event/christmas-eve-communion-2/
LOCATION:LaFayette First Baptist\, 201 N Main Street\, Lafayette\, GA\, 30728\, United States
ATTACH;FMTTYPE=image/jpeg:https://lafayettefirst.life/wp-content/uploads/2024/10/Christmas-Eve-2024-scaled.jpg
ORGANIZER;CN="LaFayette First":MAILTO:info@lafayettefirst.life
END:VEVENT
BEGIN:VEVENT
DTSTART;TZID=UTC:20241222T170000
DTEND;TZID=UTC:20241222T190000
DTSTAMP:20260425T135312
CREATED:20241023T140237Z
LAST-MODIFIED:20241023T160928Z
UID:10000486-1734886800-1734894000@lafayettefirst.life
SUMMARY:Christmas Caroling & Chili Supper
DESCRIPTION:
URL:https://lafayettefirst.life/event/christmas-caroling-chili-supper-2/
LOCATION:LaFayette First Baptist\, 201 N Main Street\, Lafayette\, GA\, 30728\, United States
ATTACH;FMTTYPE=image/jpeg:https://lafayettefirst.life/wp-content/uploads/2024/10/Caroling-2024.jpg
ORGANIZER;CN="LaFayette First":MAILTO:info@lafayettefirst.life
END:VEVENT
BEGIN:VEVENT
DTSTART;TZID=UTC:20241221T150000
DTEND;TZID=UTC:20241221T170000
DTSTAMP:20260425T135312
CREATED:20240605T142801Z
LAST-MODIFIED:20240618T165019Z
UID:10000336-1734793200-1734800400@lafayettefirst.life
SUMMARY:JOY Event: Holiday Spectacular
DESCRIPTION:THIS EVENT IS FULL!
URL:https://lafayettefirst.life/event/joy-event-holiday-spectacular/
LOCATION:The Colonnade\, 264 Catoosa Circle\, Ringgold\, GA\, 30736\, United States
ATTACH;FMTTYPE=image/jpeg:https://lafayettefirst.life/wp-content/uploads/2024/06/JOY-Team-Holiday-Spectacular-copy-1-scaled.jpg
ORGANIZER;CN="LaFayette First":MAILTO:info@lafayettefirst.life
END:VEVENT
BEGIN:VEVENT
DTSTART;TZID=UTC:20241218T171500
DTEND;TZID=UTC:20241218T180000
DTSTAMP:20260425T135312
CREATED:20241023T182120Z
LAST-MODIFIED:20241023T182120Z
UID:10000493-1734542100-1734544800@lafayettefirst.life
SUMMARY:Christmas Dinner
DESCRIPTION:
URL:https://lafayettefirst.life/event/christmas-dinner-2/
LOCATION:LaFayette First Baptist\, 201 N Main Street\, Lafayette\, GA\, 30728\, United States
ATTACH;FMTTYPE=image/jpeg:https://lafayettefirst.life/wp-content/uploads/2024/10/Christmas-Dinner-2024-1-scaled.jpg
ORGANIZER;CN="LaFayette First":MAILTO:info@lafayettefirst.life
END:VEVENT
BEGIN:VEVENT
DTSTART;TZID=UTC:20241218T000000
DTEND;TZID=UTC:20241218T000000
DTSTAMP:20260425T135312
CREATED:20241023T135640Z
LAST-MODIFIED:20241023T135640Z
UID:10000485-1734480000-1734480000@lafayettefirst.life
SUMMARY:Christmas Parties
DESCRIPTION:Time is to be determined.
URL:https://lafayettefirst.life/event/christmas-parties/
LOCATION:LaFayette First Baptist\, 201 N Main Street\, Lafayette\, GA\, 30728\, United States
ATTACH;FMTTYPE=image/jpeg:https://lafayettefirst.life/wp-content/uploads/2024/10/Christmas-Parties-2024-scaled.jpg
ORGANIZER;CN="LaFayette First":MAILTO:info@lafayettefirst.life
END:VEVENT
BEGIN:VEVENT
DTSTART;TZID=UTC:20241215T170000
DTEND;TZID=UTC:20241215T180000
DTSTAMP:20260425T135312
CREATED:20241023T134248Z
LAST-MODIFIED:20241023T134248Z
UID:10000474-1734282000-1734285600@lafayettefirst.life
SUMMARY:ADVENT: A Children's Christmas Play
DESCRIPTION:
URL:https://lafayettefirst.life/event/advent-a-childrens-christmas-play/
LOCATION:LaFayette First Baptist\, 201 N Main Street\, Lafayette\, GA\, 30728\, United States
ATTACH;FMTTYPE=image/jpeg:https://lafayettefirst.life/wp-content/uploads/2024/10/Childrens-Christmas-Play-2024.jpg
ORGANIZER;CN="LaFayette First":MAILTO:info@lafayettefirst.life
END:VEVENT
BEGIN:VEVENT
DTSTART;TZID=UTC:20241214T100000
DTEND;TZID=UTC:20241214T120000
DTSTAMP:20260425T135312
CREATED:20241023T184517Z
LAST-MODIFIED:20241023T184517Z
UID:10000495-1734170400-1734177600@lafayettefirst.life
SUMMARY:Christmas Cookie Swap
DESCRIPTION:
URL:https://lafayettefirst.life/event/christmas-cookie-swap/
LOCATION:LaFayette First Baptist\, 201 N Main Street\, Lafayette\, GA\, 30728\, United States
ATTACH;FMTTYPE=image/jpeg:https://lafayettefirst.life/wp-content/uploads/2024/10/Cookie-Swap-2024-scaled.jpg
ORGANIZER;CN="LaFayette First":MAILTO:info@lafayettefirst.life
END:VEVENT
BEGIN:VEVENT
DTSTART;TZID=UTC:20241208T170000
DTEND;TZID=UTC:20241208T180000
DTSTAMP:20260425T135312
CREATED:20241023T133154Z
LAST-MODIFIED:20241023T133154Z
UID:10000469-1733677200-1733680800@lafayettefirst.life
SUMMARY:Christmas Night of Worship
DESCRIPTION:
URL:https://lafayettefirst.life/event/christmas-night-of-worship-3/
LOCATION:LaFayette First Baptist\, 201 N Main Street\, Lafayette\, GA\, 30728\, United States
ATTACH;FMTTYPE=image/jpeg:https://lafayettefirst.life/wp-content/uploads/2024/10/Christmas-Night-of-Worship-2024-scaled.jpg
ORGANIZER;CN="LaFayette First":MAILTO:info@lafayettefirst.life
END:VEVENT
BEGIN:VEVENT
DTSTART;TZID=UTC:20241206T173000
DTEND;TZID=UTC:20241206T190000
DTSTAMP:20260425T135312
CREATED:20241023T134546Z
LAST-MODIFIED:20241113T161918Z
UID:10000475-1733506200-1733511600@lafayettefirst.life
SUMMARY:Christmas Parade: Riders and Helpers
DESCRIPTION:Sign up below to help with popcorn.  Helpers will need to be at the Annex by 4:30 pm. Please see our Next Gen Pastor\, Roger Stansell for more details on handing out popcorn at the Annex.
URL:https://lafayettefirst.life/event/christmas-parade-4/
LOCATION:LaFayette First Baptist\, 201 N Main Street\, Lafayette\, GA\, 30728\, United States
ATTACH;FMTTYPE=image/jpeg:https://lafayettefirst.life/wp-content/uploads/2024/10/Christmas-Parade-1-scaled.jpg
END:VEVENT
BEGIN:VEVENT
DTSTART;TZID=UTC:20241204T171500
DTEND;TZID=UTC:20241204T180000
DTSTAMP:20260425T135312
CREATED:20241204T152916Z
LAST-MODIFIED:20241204T152916Z
UID:10000498-1733332500-1733335200@lafayettefirst.life
SUMMARY:Family Dinner
DESCRIPTION:Main Menu: Meatloaf\, Pinto Beans\, Potatoes\, Slaw\, Cornbread\, Dessert\nChildren’s Line: Mac and Cheese\, Fruit\, Cookies \nPRICES\nAdults\, Youth\, and Children ages 5 and up are $6.00.  Children 4yrs and under are free.  Family maximum is $24.00. \nRESERVATIONS are required! 
URL:https://lafayettefirst.life/event/family-dinner-22/
LOCATION:LaFayette First Baptist\, 201 N Main Street\, Lafayette\, GA\, 30728\, United States
ATTACH;FMTTYPE=image/jpeg:https://lafayettefirst.life/wp-content/uploads/2024/08/Family-Dinner-continual-scaled.jpg
ORGANIZER;CN="LaFayette First":MAILTO:info@lafayettefirst.life
END:VEVENT
BEGIN:VEVENT
DTSTART;TZID=UTC:20241201T173000
DTEND;TZID=UTC:20241201T190000
DTSTAMP:20260425T135312
CREATED:20241023T134126Z
LAST-MODIFIED:20241023T134126Z
UID:10000473-1733074200-1733079600@lafayettefirst.life
SUMMARY:Community Advent Walk
DESCRIPTION:
URL:https://lafayettefirst.life/event/community-advent-walk-3/
LOCATION:The Marsh House\, 308 N Main Street\, LaFayette\, 30728\, United States
ATTACH;FMTTYPE=image/jpeg:https://lafayettefirst.life/wp-content/uploads/2024/10/Advent-Walk-2024.jpg
END:VEVENT
BEGIN:VEVENT
DTSTART;TZID=UTC:20241124T170000
DTEND;TZID=UTC:20241124T180000
DTSTAMP:20260425T135312
CREATED:20241023T133739Z
LAST-MODIFIED:20241023T133814Z
UID:10000472-1732467600-1732471200@lafayettefirst.life
SUMMARY:Vintage Night of Worship
DESCRIPTION:
URL:https://lafayettefirst.life/event/vintage-night-of-worship-2/
LOCATION:LaFayette First Baptist\, 201 N Main Street\, Lafayette\, GA\, 30728\, United States
ATTACH;FMTTYPE=image/jpeg:https://lafayettefirst.life/wp-content/uploads/2024/10/Vintage-2024-scaled.jpg
ORGANIZER;CN="LaFayette First":MAILTO:info@lafayettefirst.life
END:VEVENT
BEGIN:VEVENT
DTSTART;TZID=UTC:20241120T171500
DTEND;TZID=UTC:20241120T180000
DTSTAMP:20260425T135312
CREATED:20241023T185412Z
LAST-MODIFIED:20241023T185412Z
UID:10000497-1732122900-1732125600@lafayettefirst.life
SUMMARY:Thanksgiving Dinner
DESCRIPTION:
URL:https://lafayettefirst.life/event/thanksgiving-dinner/
LOCATION:LaFayette First Baptist\, 201 N Main Street\, Lafayette\, GA\, 30728\, United States
ATTACH;FMTTYPE=image/jpeg:https://lafayettefirst.life/wp-content/uploads/2024/10/Thanksgiving-Dinner-2024-1.jpg
ORGANIZER;CN="LaFayette First":MAILTO:info@lafayettefirst.life
END:VEVENT
BEGIN:VEVENT
DTSTART;TZID=UTC:20241117T120000
DTEND;TZID=UTC:20241117T133000
DTSTAMP:20260425T135312
CREATED:20241023T180843Z
LAST-MODIFIED:20241023T180843Z
UID:10000492-1731844800-1731850200@lafayettefirst.life
SUMMARY:Argentina Fundraiser: Spaghetti Lunch
DESCRIPTION:
URL:https://lafayettefirst.life/event/argentina-fundraiser-spaghetti-lunch/
LOCATION:LaFayette First Baptist\, 201 N Main Street\, Lafayette\, GA\, 30728\, United States
ATTACH;FMTTYPE=image/jpeg:https://lafayettefirst.life/wp-content/uploads/2024/10/Argentina-Spaghetti-Lunch-scaled.jpg
ORGANIZER;CN="LaFayette First":MAILTO:info@lafayettefirst.life
END:VEVENT
END:VCALENDAR