BEGIN:VCALENDAR
VERSION:2.0
PRODID:-//LaFayette First - ECPv6.15.20//NONSGML v1.0//EN
CALSCALE:GREGORIAN
METHOD:PUBLISH
X-WR-CALNAME:LaFayette First
X-ORIGINAL-URL:https://lafayettefirst.life
X-WR-CALDESC:Events for LaFayette First
REFRESH-INTERVAL;VALUE=DURATION:PT1H
X-Robots-Tag:noindex
X-PUBLISHED-TTL:PT1H
BEGIN:VTIMEZONE
TZID:UTC
BEGIN:STANDARD
TZOFFSETFROM:+0000
TZOFFSETTO:+0000
TZNAME:UTC
DTSTART:20250101T000000
END:STANDARD
END:VTIMEZONE
BEGIN:VEVENT
DTSTART;TZID=UTC:20260426T173000
DTEND;TZID=UTC:20260426T190000
DTSTAMP:20260423T170901
CREATED:20260224T175155Z
LAST-MODIFIED:20260423T152533Z
UID:10000747-1777224600-1777230000@lafayettefirst.life
SUMMARY:Talent Show
DESCRIPTION:
URL:https://lafayettefirst.life/event/talent-show-4/
LOCATION:LaFayette First Baptist\, 201 N Main Street\, Lafayette\, GA\, 30728\, United States
CATEGORIES:Sunday Nights
ATTACH;FMTTYPE=image/jpeg:https://lafayettefirst.life/wp-content/uploads/2026/02/Talent-Show-2026-scaled.jpg
ORGANIZER;CN="LaFayette First":MAILTO:info@lafayettefirst.life
END:VEVENT
BEGIN:VEVENT
DTSTART;TZID=UTC:20260429T171500
DTEND;TZID=UTC:20260429T180000
DTSTAMP:20260423T170901
CREATED:20260303T152617Z
LAST-MODIFIED:20260303T152617Z
UID:10000757-1777482900-1777485600@lafayettefirst.life
SUMMARY:Family Dinner
DESCRIPTION:Menu: Salad Bar\, Grilled Chicken\, Baked Potato\, Rolls\, Dessert\nChildren’s Menu:  Pizza
URL:https://lafayettefirst.life/event/family-dinner-65/
LOCATION:LaFayette First Baptist\, 201 N Main Street\, Lafayette\, GA\, 30728\, United States
CATEGORIES:Wednesday Nights
ATTACH;FMTTYPE=image/jpeg:https://lafayettefirst.life/wp-content/uploads/2026/01/Family-Dinner-Aug2025-UNDATED.jpg
ORGANIZER;CN="LaFayette First":MAILTO:info@lafayettefirst.life
END:VEVENT
BEGIN:VEVENT
DTSTART;TZID=UTC:20260502T170000
DTEND;TZID=UTC:20260502T190000
DTSTAMP:20260423T170901
CREATED:20260423T152201Z
LAST-MODIFIED:20260423T152201Z
UID:10000772-1777741200-1777748400@lafayettefirst.life
SUMMARY:Let's Play Ball
DESCRIPTION:
URL:https://lafayettefirst.life/event/lets-play-ball/
LOCATION:LaFayette First Baptist\, 201 N Main Street\, Lafayette\, GA\, 30728\, United States
ATTACH;FMTTYPE=image/jpeg:https://lafayettefirst.life/wp-content/uploads/2026/04/Softball-No-Limits-scaled.jpg
END:VEVENT
BEGIN:VEVENT
DTSTART;VALUE=DATE:20260503
DTEND;VALUE=DATE:20260504
DTSTAMP:20260423T170901
CREATED:20260331T172218Z
LAST-MODIFIED:20260331T172218Z
UID:10000766-1777766400-1777852799@lafayettefirst.life
SUMMARY:5th Grade Recognition
DESCRIPTION:
URL:https://lafayettefirst.life/event/5th-grade-recognition-4/
LOCATION:LaFayette First Baptist\, 201 N Main Street\, Lafayette\, GA\, 30728\, United States
ATTACH;FMTTYPE=image/jpeg:https://lafayettefirst.life/wp-content/uploads/2026/03/5th-Grade-Rec-2026-scaled.jpg
ORGANIZER;CN="LaFayette First":MAILTO:info@lafayettefirst.life
END:VEVENT
BEGIN:VEVENT
DTSTART;TZID=UTC:20260503T170000
DTEND;TZID=UTC:20260503T180000
DTSTAMP:20260423T170901
CREATED:20260423T151335Z
LAST-MODIFIED:20260423T152613Z
UID:10000769-1777827600-1777831200@lafayettefirst.life
SUMMARY:Deacon Ordination
DESCRIPTION:
URL:https://lafayettefirst.life/event/deacon-ordination-5/
LOCATION:LaFayette First Baptist\, 201 N Main Street\, Lafayette\, GA\, 30728\, United States
CATEGORIES:Sunday Nights
ATTACH;FMTTYPE=image/jpeg:https://lafayettefirst.life/wp-content/uploads/2026/04/Ordination-2026.jpg
ORGANIZER;CN="LaFayette First":MAILTO:info@lafayettefirst.life
END:VEVENT
BEGIN:VEVENT
DTSTART;TZID=UTC:20260505T180000
DTEND;TZID=UTC:20260505T190000
DTSTAMP:20260423T170901
CREATED:20260423T152312Z
LAST-MODIFIED:20260423T152312Z
UID:10000773-1778004000-1778007600@lafayettefirst.life
SUMMARY:Women on Mission
DESCRIPTION:
URL:https://lafayettefirst.life/event/women-on-mission-20/
LOCATION:LaFayette First Baptist\, 201 N Main Street\, Lafayette\, GA\, 30728\, United States
ATTACH;FMTTYPE=image/jpeg:https://lafayettefirst.life/wp-content/uploads/2026/04/WOM-May-2026.jpg
ORGANIZER;CN="LaFayette First":MAILTO:info@lafayettefirst.life
END:VEVENT
BEGIN:VEVENT
DTSTART;TZID=UTC:20260506T171500
DTEND;TZID=UTC:20260506T180000
DTSTAMP:20260423T170901
CREATED:20260303T152812Z
LAST-MODIFIED:20260303T152812Z
UID:10000758-1778087700-1778090400@lafayettefirst.life
SUMMARY:Family Dinner
DESCRIPTION:Menu: Chicken Alfredo\, Salad Bar\, Bread\, Dessert
URL:https://lafayettefirst.life/event/family-dinner-66/
LOCATION:LaFayette First Baptist\, 201 N Main Street\, Lafayette\, GA\, 30728\, United States
CATEGORIES:Wednesday Nights
ATTACH;FMTTYPE=image/jpeg:https://lafayettefirst.life/wp-content/uploads/2026/01/Family-Dinner-Aug2025-UNDATED.jpg
ORGANIZER;CN="LaFayette First":MAILTO:info@lafayettefirst.life
END:VEVENT
BEGIN:VEVENT
DTSTART;TZID=UTC:20260507T120000
DTEND;TZID=UTC:20260507T130000
DTSTAMP:20260423T170901
CREATED:20260423T152017Z
LAST-MODIFIED:20260423T152017Z
UID:10000771-1778155200-1778158800@lafayettefirst.life
SUMMARY:National Day of Prayer
DESCRIPTION:
URL:https://lafayettefirst.life/event/national-day-of-prayer-2/
LOCATION:LaFayette Downtown Commons
ATTACH;FMTTYPE=image/jpeg:https://lafayettefirst.life/wp-content/uploads/2026/04/national_day_of_prayer-2026-scaled.jpg
END:VEVENT
BEGIN:VEVENT
DTSTART;VALUE=DATE:20260510
DTEND;VALUE=DATE:20260511
DTSTAMP:20260423T170901
CREATED:20260331T172100Z
LAST-MODIFIED:20260331T172100Z
UID:10000765-1778371200-1778457599@lafayettefirst.life
SUMMARY:Mother's Day Flowers
DESCRIPTION:
URL:https://lafayettefirst.life/event/mothers-day-flowers-2/
LOCATION:LaFayette First Baptist\, 201 N Main Street\, Lafayette\, GA\, 30728\, United States
ATTACH;FMTTYPE=image/jpeg:https://lafayettefirst.life/wp-content/uploads/2026/03/Mothers-Day-Flowers26-scaled.jpg
ORGANIZER;CN="LaFayette First":MAILTO:info@lafayettefirst.life
END:VEVENT
BEGIN:VEVENT
DTSTART;TZID=UTC:20260516T100000
DTEND;TZID=UTC:20260516T113000
DTSTAMP:20260423T170901
CREATED:20260423T151710Z
LAST-MODIFIED:20260423T151710Z
UID:10000770-1778925600-1778931000@lafayettefirst.life
SUMMARY:"She is Worthy" Tea
DESCRIPTION:A Women’s Ministry Event
URL:https://lafayettefirst.life/event/she-is-worthy-tea/
LOCATION:LaFayette First Baptist\, 201 N Main Street\, Lafayette\, GA\, 30728\, United States
ATTACH;FMTTYPE=image/png:https://lafayettefirst.life/wp-content/uploads/2026/04/Womens-Tea-Party.png
ORGANIZER;CN="LaFayette First":MAILTO:info@lafayettefirst.life
END:VEVENT
BEGIN:VEVENT
DTSTART;VALUE=DATE:20260517
DTEND;VALUE=DATE:20260518
DTSTAMP:20260423T170902
CREATED:20260331T172313Z
LAST-MODIFIED:20260331T172313Z
UID:10000767-1778976000-1779062399@lafayettefirst.life
SUMMARY:High School Senior Recognition
DESCRIPTION:
URL:https://lafayettefirst.life/event/high-school-senior-recognition-3/
LOCATION:LaFayette First Baptist\, 201 N Main Street\, Lafayette\, GA\, 30728\, United States
ATTACH;FMTTYPE=image/jpeg:https://lafayettefirst.life/wp-content/uploads/2026/03/Senior-Recog-2026-scaled.jpg
ORGANIZER;CN="LaFayette First":MAILTO:info@lafayettefirst.life
END:VEVENT
BEGIN:VEVENT
DTSTART;VALUE=DATE:20260620
DTEND;VALUE=DATE:20260628
DTSTAMP:20260423T170902
CREATED:20260108T182429Z
LAST-MODIFIED:20260423T151045Z
UID:10000719-1781913600-1782604799@lafayettefirst.life
SUMMARY:Youth Mission Trip 2026
DESCRIPTION:Be in prayer for our team of students and adults who will spend a week sharing the love of Christ by working on the homes of low income residents. \nWant to help? Several of our students couldn’t go without your support. Send any amount to the church office or drop in offering on Sunday mornings earmarked “Youth Mission Trip”. Your generosity is greatly appreciated!
URL:https://lafayettefirst.life/event/youth-mission-trip-2026/
LOCATION:LaFayette First Baptist\, 201 N Main Street\, Lafayette\, GA\, 30728\, United States
CATEGORIES:Serve
ATTACH;FMTTYPE=image/jpeg:https://lafayettefirst.life/wp-content/uploads/2026/01/youth-mission-trip-2026-2-scaled.jpg
ORGANIZER;CN="LaFayette First":MAILTO:info@lafayettefirst.life
END:VEVENT
END:VCALENDAR