BEGIN:VCALENDAR
VERSION:2.0
PRODID:-//LaFayette First - ECPv6.15.20//NONSGML v1.0//EN
CALSCALE:GREGORIAN
METHOD:PUBLISH
X-WR-CALNAME:LaFayette First
X-ORIGINAL-URL:https://lafayettefirst.life
X-WR-CALDESC:Events for LaFayette First
REFRESH-INTERVAL;VALUE=DURATION:PT1H
X-Robots-Tag:noindex
X-PUBLISHED-TTL:PT1H
BEGIN:VTIMEZONE
TZID:UTC
BEGIN:STANDARD
TZOFFSETFROM:+0000
TZOFFSETTO:+0000
TZNAME:UTC
DTSTART:20240101T000000
END:STANDARD
END:VTIMEZONE
BEGIN:VEVENT
DTSTART;TZID=UTC:20250122T171500
DTEND;TZID=UTC:20250122T180000
DTSTAMP:20260425T123306
CREATED:20250112T191137Z
LAST-MODIFIED:20250112T191137Z
UID:10000578-1737566100-1737568800@lafayettefirst.life
SUMMARY:Family Dinner
DESCRIPTION:Main Menu: Grilled Chicken\, Baked Potatoes\, Salad Bar\, Rolls\, Dessert.\nChildren’s Menu: Pizza \nPRICES\nAdults\, Youth\, and Children ages 5 and up are $6.00.  Children 4yrs and under are free.  Family maximum is $24.00. \nRESERVATIONS are required! 
URL:https://lafayettefirst.life/event/family-dinner-24/
LOCATION:LaFayette First Baptist\, 201 N Main Street\, Lafayette\, GA\, 30728\, United States
ATTACH;FMTTYPE=image/jpeg:https://lafayettefirst.life/wp-content/uploads/2024/08/Family-Dinner-continual-scaled.jpg
ORGANIZER;CN="LaFayette First":MAILTO:info@lafayettefirst.life
END:VEVENT
BEGIN:VEVENT
DTSTART;TZID=UTC:20250123T100000
DTEND;TZID=UTC:20250123T120000
DTSTAMP:20260425T123306
CREATED:20241210T192022Z
LAST-MODIFIED:20241210T192354Z
UID:10000501-1737626400-1737633600@lafayettefirst.life
SUMMARY:Ladies Bible Study: Revelation
DESCRIPTION:We will meet in the Annex.
URL:https://lafayettefirst.life/event/ladies-bible-study-revelation/2025-01-23/
LOCATION:LaFayette First Baptist\, 201 N Main Street\, Lafayette\, GA\, 30728\, United States
ATTACH;FMTTYPE=image/jpeg:https://lafayettefirst.life/wp-content/uploads/2024/12/Ladies-Bible-Study-Revelation-copy-scaled.jpg
ORGANIZER;CN="LaFayette First":MAILTO:info@lafayettefirst.life
END:VEVENT
BEGIN:VEVENT
DTSTART;TZID=UTC:20250123T173000
DTEND;TZID=UTC:20250123T190000
DTSTAMP:20260425T123306
CREATED:20241211T140942Z
LAST-MODIFIED:20241211T140942Z
UID:10000510-1737653400-1737658800@lafayettefirst.life
SUMMARY:Women's Ministry Bible Study: Trustworthy-Lysa Terkeurst
DESCRIPTION:
URL:https://lafayettefirst.life/event/womens-ministry-bible-study-trustworthy-lysa-terkeurst/2025-01-23/
LOCATION:LaFayette First Baptist\, 201 N Main Street\, Lafayette\, GA\, 30728\, United States
ATTACH;FMTTYPE=image/jpeg:https://lafayettefirst.life/wp-content/uploads/2024/12/Womens-Bible-Study-Trustworthy-scaled.jpg
ORGANIZER;CN="LaFayette First":MAILTO:info@lafayettefirst.life
END:VEVENT
BEGIN:VEVENT
DTSTART;TZID=UTC:20250126T093000
DTEND;TZID=UTC:20250126T120000
DTSTAMP:20260425T123306
CREATED:20250108T144527Z
LAST-MODIFIED:20250108T144626Z
UID:10000514-1737883800-1737892800@lafayettefirst.life
SUMMARY:Camo Day @ LaFayette First
DESCRIPTION:
URL:https://lafayettefirst.life/event/camo-day-lafayette-first/
LOCATION:LaFayette First Baptist\, 201 N Main Street\, Lafayette\, GA\, 30728\, United States
ATTACH;FMTTYPE=image/jpeg:https://lafayettefirst.life/wp-content/uploads/2025/01/Camo-Day-scaled.jpg
ORGANIZER;CN="LaFayette First":MAILTO:info@lafayettefirst.life
END:VEVENT
BEGIN:VEVENT
DTSTART;TZID=UTC:20250129T171500
DTEND;TZID=UTC:20250129T180000
DTSTAMP:20260425T123306
CREATED:20250112T191311Z
LAST-MODIFIED:20250112T192228Z
UID:10000579-1738170900-1738173600@lafayettefirst.life
SUMMARY:Family Dinner
DESCRIPTION:Main Menu: Breakfast\n\n\nPRICES\nAdults\, Youth\, and Children ages 5 and up are $6.00.  Children 4yrs and under are free.  Family maximum is $24.00. \nRESERVATIONS are required! 
URL:https://lafayettefirst.life/event/family-dinner-25/
LOCATION:LaFayette First Baptist\, 201 N Main Street\, Lafayette\, GA\, 30728\, United States
ATTACH;FMTTYPE=image/jpeg:https://lafayettefirst.life/wp-content/uploads/2024/08/Family-Dinner-continual-scaled.jpg
ORGANIZER;CN="LaFayette First":MAILTO:info@lafayettefirst.life
END:VEVENT
BEGIN:VEVENT
DTSTART;TZID=UTC:20250129T181500
DTEND;TZID=UTC:20250129T190000
DTSTAMP:20260425T123306
CREATED:20241217T142907Z
LAST-MODIFIED:20241217T143123Z
UID:10000513-1738174500-1738177200@lafayettefirst.life
SUMMARY:Attributes of God Study
DESCRIPTION:
URL:https://lafayettefirst.life/event/attributes-of-god-w-pastor-derrick/2025-01-29/
LOCATION:LaFayette First Baptist\, 201 N Main Street\, Lafayette\, GA\, 30728\, United States
ATTACH;FMTTYPE=image/jpeg:https://lafayettefirst.life/wp-content/uploads/2024/12/Attributes-of-God-study--scaled.jpg
ORGANIZER;CN="LaFayette First":MAILTO:info@lafayettefirst.life
END:VEVENT
BEGIN:VEVENT
DTSTART;TZID=UTC:20250201T083000
DTEND;TZID=UTC:20250201T133000
DTSTAMP:20260425T123306
CREATED:20250108T145111Z
LAST-MODIFIED:20250108T145111Z
UID:10000515-1738398600-1738416600@lafayettefirst.life
SUMMARY:Institute Workshop
DESCRIPTION:
URL:https://lafayettefirst.life/event/institute-workshop-2/
LOCATION:LaFayette First Baptist\, 201 N Main Street\, Lafayette\, GA\, 30728\, United States
ATTACH;FMTTYPE=image/jpeg:https://lafayettefirst.life/wp-content/uploads/2025/01/Institute-Workshop-FEB-2025-scaled.jpg
ORGANIZER;CN="LaFayette First":MAILTO:info@lafayettefirst.life
END:VEVENT
BEGIN:VEVENT
DTSTART;TZID=UTC:20250205T171500
DTEND;TZID=UTC:20250205T180000
DTSTAMP:20260425T123306
CREATED:20250112T191943Z
LAST-MODIFIED:20250112T191943Z
UID:10000580-1738775700-1738778400@lafayettefirst.life
SUMMARY:Family Dinner
DESCRIPTION:Main Menu: Party Chicken\, Rice\, Sweet Potato\, Green Beans\, Roll\, Dessert \nPRICES\nAdults\, Youth\, and Children ages 5 and up are $6.00.  Children 4yrs and under are free.  Family maximum is $24.00. \nRESERVATIONS are required! 
URL:https://lafayettefirst.life/event/family-dinner-26/
LOCATION:LaFayette First Baptist\, 201 N Main Street\, Lafayette\, GA\, 30728\, United States
ATTACH;FMTTYPE=image/jpeg:https://lafayettefirst.life/wp-content/uploads/2024/08/Family-Dinner-continual-scaled.jpg
ORGANIZER;CN="LaFayette First":MAILTO:info@lafayettefirst.life
END:VEVENT
BEGIN:VEVENT
DTSTART;TZID=UTC:20250206T120000
DTEND;TZID=UTC:20250206T140000
DTSTAMP:20260425T123306
CREATED:20250108T162637Z
LAST-MODIFIED:20250108T162637Z
UID:10000516-1738843200-1738850400@lafayettefirst.life
SUMMARY:JOY LUNCH
DESCRIPTION:All senior adults are invited to join us for our JOY lunch on Thursday\, February at noon.  Papa Sway will be our entertainment.  There is no cost.
URL:https://lafayettefirst.life/event/joy-lunch/
LOCATION:LaFayette First Baptist\, 201 N Main Street\, Lafayette\, GA\, 30728\, United States
ATTACH;FMTTYPE=image/jpeg:https://lafayettefirst.life/wp-content/uploads/2025/01/Joy-Lunch-Feb-6-2025-scaled.jpg
ORGANIZER;CN="LaFayette First":MAILTO:info@lafayettefirst.life
END:VEVENT
BEGIN:VEVENT
DTSTART;TZID=UTC:20250209T173000
DTEND;TZID=UTC:20250209T213000
DTSTAMP:20260425T123306
CREATED:20241217T141259Z
LAST-MODIFIED:20241217T142724Z
UID:10000511-1739122200-1739136600@lafayettefirst.life
SUMMARY:Super Sunday
DESCRIPTION:Watch the Super Bowl game with us!  Connect Groups bring your BEST appetizer to share.  The Connect Group whose appetizer gets judged as the BEST will receive the Golden Football Reward!
URL:https://lafayettefirst.life/event/super-bowl-sunday/
LOCATION:LaFayette First Baptist\, 201 N Main Street\, Lafayette\, GA\, 30728\, United States
ATTACH;FMTTYPE=image/jpeg:https://lafayettefirst.life/wp-content/uploads/2024/12/Super-Bowl-2025-scaled.jpg
ORGANIZER;CN="LaFayette First":MAILTO:info@lafayettefirst.life
END:VEVENT
BEGIN:VEVENT
DTSTART;TZID=UTC:20250212T171500
DTEND;TZID=UTC:20250212T180000
DTSTAMP:20260425T123306
CREATED:20250204T130604Z
LAST-MODIFIED:20250204T131248Z
UID:10000586-1739380500-1739383200@lafayettefirst.life
SUMMARY:Family Dinner
DESCRIPTION:Main Menu: Spaghetti\, Salad Bar\, Breadsticks\, Dessert \nPRICES\nAdults\, Youth\, and Children ages 5 and up are $6.00.  Children 4yrs and under are free.  Family maximum is $24.00. \nRESERVATIONS are required! 
URL:https://lafayettefirst.life/event/family-dinner-27/
LOCATION:LaFayette First Baptist\, 201 N Main Street\, Lafayette\, GA\, 30728\, United States
ATTACH;FMTTYPE=image/jpeg:https://lafayettefirst.life/wp-content/uploads/2024/08/Family-Dinner-continual-scaled.jpg
ORGANIZER;CN="LaFayette First":MAILTO:info@lafayettefirst.life
END:VEVENT
BEGIN:VEVENT
DTSTART;TZID=UTC:20250216T100000
DTEND;TZID=UTC:20250216T100000
DTSTAMP:20260425T123306
CREATED:20250204T120133Z
LAST-MODIFIED:20250204T120648Z
UID:10000583-1739700000-1739700000@lafayettefirst.life
SUMMARY:Mission Morning
DESCRIPTION:We will meet in the Fellowship Hall.  Breakfast will be served.
URL:https://lafayettefirst.life/event/mission-morning/
LOCATION:LaFayette First Baptist\, 201 N Main Street\, Lafayette\, GA\, 30728\, United States
ATTACH;FMTTYPE=image/jpeg:https://lafayettefirst.life/wp-content/uploads/2025/02/Missions-Morning-with-JJ-scaled.jpg
ORGANIZER;CN="LaFayette First":MAILTO:info@lafayettefirst.life
END:VEVENT
BEGIN:VEVENT
DTSTART;TZID=UTC:20250219T171500
DTEND;TZID=UTC:20250219T180000
DTSTAMP:20260425T123306
CREATED:20250204T131143Z
LAST-MODIFIED:20250204T131143Z
UID:10000587-1739985300-1739988000@lafayettefirst.life
SUMMARY:Family Dinner
DESCRIPTION:Main Menu: Soup\, Sandwiches\, Salad bar \nPRICES\nAdults\, Youth\, and Children ages 5 and up are $6.00.  Children 4yrs and under are free.  Family maximum is $24.00. \nRESERVATIONS are required! 
URL:https://lafayettefirst.life/event/family-dinner-28/
LOCATION:LaFayette First Baptist\, 201 N Main Street\, Lafayette\, GA\, 30728\, United States
ATTACH;FMTTYPE=image/jpeg:https://lafayettefirst.life/wp-content/uploads/2024/08/Family-Dinner-continual-scaled.jpg
ORGANIZER;CN="LaFayette First":MAILTO:info@lafayettefirst.life
END:VEVENT
BEGIN:VEVENT
DTSTART;TZID=UTC:20250223T133000
DTEND;TZID=UTC:20250223T150000
DTSTAMP:20260425T123306
CREATED:20250215T125034Z
LAST-MODIFIED:20250215T125034Z
UID:10000589-1740317400-1740322800@lafayettefirst.life
SUMMARY:Wedding Shower
DESCRIPTION:
URL:https://lafayettefirst.life/event/wedding-shower-7/
LOCATION:LaFayette First Baptist\, 201 N Main Street\, Lafayette\, GA\, 30728\, United States
ATTACH;FMTTYPE=image/jpeg:https://lafayettefirst.life/wp-content/uploads/2025/02/Swanson-Wedding-Shower-scaled.jpg
ORGANIZER;CN="LaFayette First":MAILTO:info@lafayettefirst.life
END:VEVENT
BEGIN:VEVENT
DTSTART;TZID=UTC:20250228T170000
DTEND;TZID=UTC:20250228T200000
DTSTAMP:20260425T123306
CREATED:20250204T115050Z
LAST-MODIFIED:20250204T115050Z
UID:10000581-1740762000-1740772800@lafayettefirst.life
SUMMARY:Sportsmen's Banquet
DESCRIPTION:This is for individual sales only.  If you wish to purchase a table\, please contact Butterbean Green @(423) 653-0246 or call the church office @706-638-3727.
URL:https://lafayettefirst.life/event/sportsmens-banquet/
LOCATION:LaFayette First Baptist\, 201 N Main Street\, Lafayette\, GA\, 30728\, United States
ATTACH;FMTTYPE=image/jpeg:https://lafayettefirst.life/wp-content/uploads/2025/02/Sportsmens-Banquet-scaled.jpg
ORGANIZER;CN="LaFayette First":MAILTO:info@lafayettefirst.life
END:VEVENT
BEGIN:VEVENT
DTSTART;TZID=UTC:20250302T120000
DTEND;TZID=UTC:20250302T133000
DTSTAMP:20260425T123306
CREATED:20250215T125712Z
LAST-MODIFIED:20250225T155907Z
UID:10000590-1740916800-1740922200@lafayettefirst.life
SUMMARY:Argentina Fundraiser Lunch
DESCRIPTION:Enjoy lunch with us after the Morning Worship service and help support the mission team going to Argentina! \nPlease RSVP so we know how much to prepare.
URL:https://lafayettefirst.life/event/argentina-fundraiser-lunch/
LOCATION:LaFayette First Baptist\, 201 N Main Street\, Lafayette\, GA\, 30728\, United States
ATTACH;FMTTYPE=image/jpeg:https://lafayettefirst.life/wp-content/uploads/2025/02/Argentina-Fundraiser-Lunch-2025.jpg
ORGANIZER;CN="LaFayette First":MAILTO:info@lafayettefirst.life
END:VEVENT
BEGIN:VEVENT
DTSTART;TZID=UTC:20250305T171500
DTEND;TZID=UTC:20250305T180000
DTSTAMP:20260425T123306
CREATED:20250225T154028Z
LAST-MODIFIED:20250225T154028Z
UID:10000593-1741194900-1741197600@lafayettefirst.life
SUMMARY:Family Dinner
DESCRIPTION:Main Menu: Meatloaf\, Pinto Beans\, Potatoes\, Cornbread\, Dessert\nChildren’s Menu:  Mac & Cheese\, Fruit\, Cookies
URL:https://lafayettefirst.life/event/family-dinner-29/
LOCATION:LaFayette First Baptist\, 201 N Main Street\, Lafayette\, GA\, 30728\, United States
ATTACH;FMTTYPE=image/jpeg:https://lafayettefirst.life/wp-content/uploads/2025/02/Family-Dinner-continual-scaled.jpg
ORGANIZER;CN="LaFayette First":MAILTO:info@lafayettefirst.life
END:VEVENT
BEGIN:VEVENT
DTSTART;VALUE=DATE:20250309
DTEND;VALUE=DATE:20250310
DTSTAMP:20260425T123306
CREATED:20250225T185812Z
LAST-MODIFIED:20250225T190103Z
UID:10000597-1741478400-1741564799@lafayettefirst.life
SUMMARY:Spring Forward
DESCRIPTION:Don’t forget to set you clocks one hour ahead on Saturday\, March 8 for Daylight Savings Time.
URL:https://lafayettefirst.life/event/spring-forward/
LOCATION:LaFayette First Baptist\, 201 N Main Street\, Lafayette\, GA\, 30728\, United States
ATTACH;FMTTYPE=image/jpeg:https://lafayettefirst.life/wp-content/uploads/2025/02/spring_forward-VERTICAL.jpg
ORGANIZER;CN="LaFayette First":MAILTO:info@lafayettefirst.life
END:VEVENT
BEGIN:VEVENT
DTSTART;TZID=UTC:20250312T171500
DTEND;TZID=UTC:20250312T180000
DTSTAMP:20260425T123306
CREATED:20250225T154601Z
LAST-MODIFIED:20250225T154601Z
UID:10000594-1741799700-1741802400@lafayettefirst.life
SUMMARY:Family Dinner
DESCRIPTION:Main Menu: Country Fried Steak\, Gravy\, Potatoes\, Okra\, Biscuits\, Tomatoes\, Slaw\, Dessert\nChildren’s Menu:  Chicken Strips\, Fries\, Fruit\, Cookies
URL:https://lafayettefirst.life/event/family-dinner-30/
LOCATION:LaFayette First Baptist\, 201 N Main Street\, Lafayette\, GA\, 30728\, United States
ATTACH;FMTTYPE=image/jpeg:https://lafayettefirst.life/wp-content/uploads/2025/02/Family-Dinner-continual-scaled.jpg
ORGANIZER;CN="LaFayette First":MAILTO:info@lafayettefirst.life
END:VEVENT
BEGIN:VEVENT
DTSTART;TZID=UTC:20250315T100000
DTEND;TZID=UTC:20250315T120000
DTSTAMP:20260425T123306
CREATED:20250215T131516Z
LAST-MODIFIED:20250215T131516Z
UID:10000592-1742032800-1742040000@lafayettefirst.life
SUMMARY:Women's Ministry Event
DESCRIPTION:
URL:https://lafayettefirst.life/event/womens-ministry-event/
LOCATION:LaFayette First Baptist\, 201 N Main Street\, Lafayette\, GA\, 30728\, United States
ATTACH;FMTTYPE=image/jpeg:https://lafayettefirst.life/wp-content/uploads/2025/02/Women-St-Patricks-Day-scaled.jpg
ORGANIZER;CN="LaFayette First":MAILTO:info@lafayettefirst.life
END:VEVENT
BEGIN:VEVENT
DTSTART;TZID=UTC:20250316T170000
DTEND;TZID=UTC:20250316T190000
DTSTAMP:20260425T123306
CREATED:20250215T130116Z
LAST-MODIFIED:20250215T131002Z
UID:10000591-1742144400-1742151600@lafayettefirst.life
SUMMARY:Talent Show
DESCRIPTION:Chip Reed is smoking his famous BBQ to raise money for our Youth Mission Trip.  Reservations are required.  Cost is $10 a plate.  Eat at the Fellowship Hall or carry out.  Our annual Talent Show starts at 6pm! \nPlease pay for your plates online or ahead of time in the church office.  If you’d like to give an extra donation to the youth mission trip\, a donation basket will be available at the door.
URL:https://lafayettefirst.life/event/talent-show-3/
LOCATION:LaFayette First Baptist\, 201 N Main Street\, Lafayette\, GA\, 30728\, United States
ATTACH;FMTTYPE=image/jpeg:https://lafayettefirst.life/wp-content/uploads/2025/02/Talent-Show-2025-scaled.jpg
ORGANIZER;CN="LaFayette First":MAILTO:info@lafayettefirst.life
END:VEVENT
BEGIN:VEVENT
DTSTART;TZID=UTC:20250319T171500
DTEND;TZID=UTC:20250319T180000
DTSTAMP:20260425T123306
CREATED:20250225T154857Z
LAST-MODIFIED:20250225T154857Z
UID:10000595-1742404500-1742407200@lafayettefirst.life
SUMMARY:Family Dinner
DESCRIPTION:Main Menu: Grilled Chicken\, Salad Bar\, Baked Potatoes\, Rolls\, Dessert\nChildren’s Menu:  Pizza\, Salad\, Fruit\, Cookies
URL:https://lafayettefirst.life/event/family-dinner-31/
LOCATION:LaFayette First Baptist\, 201 N Main Street\, Lafayette\, GA\, 30728\, United States
ATTACH;FMTTYPE=image/jpeg:https://lafayettefirst.life/wp-content/uploads/2025/02/Family-Dinner-continual-scaled.jpg
ORGANIZER;CN="LaFayette First":MAILTO:info@lafayettefirst.life
END:VEVENT
BEGIN:VEVENT
DTSTART;TZID=UTC:20250326T171500
DTEND;TZID=UTC:20250326T180000
DTSTAMP:20260425T123306
CREATED:20250225T155602Z
LAST-MODIFIED:20250324T172257Z
UID:10000596-1743009300-1743012000@lafayettefirst.life
SUMMARY:Family Dinner
DESCRIPTION:Main Menu: Spaghetti and Salad
URL:https://lafayettefirst.life/event/family-dinner-32/
LOCATION:LaFayette First Baptist\, 201 N Main Street\, Lafayette\, GA\, 30728\, United States
ATTACH;FMTTYPE=image/jpeg:https://lafayettefirst.life/wp-content/uploads/2025/02/Family-Dinner-continual-scaled.jpg
ORGANIZER;CN="LaFayette First":MAILTO:info@lafayettefirst.life
END:VEVENT
BEGIN:VEVENT
DTSTART;TZID=UTC:20250404T170000
DTEND;TZID=UTC:20250404T190000
DTSTAMP:20260425T123306
CREATED:20250327T174353Z
LAST-MODIFIED:20250327T180624Z
UID:10000603-1743786000-1743793200@lafayettefirst.life
SUMMARY:Community Project
DESCRIPTION:We will also be working on Saturday\, April 5 beginning at 8am to finish up project.
URL:https://lafayettefirst.life/event/community-project/
LOCATION:LaFayette First Baptist\, 201 N Main Street\, Lafayette\, GA\, 30728\, United States
ATTACH;FMTTYPE=image/jpeg:https://lafayettefirst.life/wp-content/uploads/2025/03/Ramp-2025-scaled.jpg
ORGANIZER;CN="LaFayette First":MAILTO:info@lafayettefirst.life
END:VEVENT
BEGIN:VEVENT
DTSTART;TZID=UTC:20250408T180000
DTEND;TZID=UTC:20250408T190000
DTSTAMP:20260425T123306
CREATED:20250327T173740Z
LAST-MODIFIED:20250327T174008Z
UID:10000602-1744135200-1744138800@lafayettefirst.life
SUMMARY:Women on Mission
DESCRIPTION:
URL:https://lafayettefirst.life/event/women-on-mission-14/
LOCATION:LaFayette First Baptist\, 201 N Main Street\, Lafayette\, GA\, 30728\, United States
ATTACH;FMTTYPE=image/jpeg:https://lafayettefirst.life/wp-content/uploads/2025/03/WOM-April-2025.jpg
ORGANIZER;CN="LaFayette First":MAILTO:info@lafayettefirst.life
END:VEVENT
BEGIN:VEVENT
DTSTART;TZID=UTC:20250409T171500
DTEND;TZID=UTC:20250409T180000
DTSTAMP:20260425T123306
CREATED:20250327T165916Z
LAST-MODIFIED:20250327T170629Z
UID:10000600-1744218900-1744221600@lafayettefirst.life
SUMMARY:Family Dinner
DESCRIPTION:Main Menu: Ham\, Hashbrown Casserole\, Green Beans\, Slaw\, Rolls\, Dessert.  Children’s Line:  Chicken Nuggets\, Fries.  PRICES:   Adults\, Youth\, and Children ages 5 and up are $7.00.  Children 4yrs and under are free.  Family maximum is $28.00. RESERVATIONS are required! 
URL:https://lafayettefirst.life/event/family-dinner-33/
LOCATION:LaFayette First Baptist\, 201 N Main Street\, Lafayette\, GA\, 30728\, United States
ATTACH;FMTTYPE=image/jpeg:https://lafayettefirst.life/wp-content/uploads/2025/03/Family-Dinner-2-copy-1-scaled.jpg
ORGANIZER;CN="LaFayette First":MAILTO:info@lafayettefirst.life
END:VEVENT
BEGIN:VEVENT
DTSTART;TZID=UTC:20250412T100000
DTEND;TZID=UTC:20250412T120000
DTSTAMP:20260425T123306
CREATED:20250225T190325Z
LAST-MODIFIED:20250225T190325Z
UID:10000598-1744452000-1744459200@lafayettefirst.life
SUMMARY:Community Egg Hop
DESCRIPTION:
URL:https://lafayettefirst.life/event/community-egg-hop/
LOCATION:LaFayette First Baptist\, 201 N Main Street\, Lafayette\, GA\, 30728\, United States
ATTACH;FMTTYPE=image/jpeg:https://lafayettefirst.life/wp-content/uploads/2025/02/Egg-Hop-scaled.jpg
ORGANIZER;CN="LaFayette First":MAILTO:info@lafayettefirst.life
END:VEVENT
BEGIN:VEVENT
DTSTART;TZID=UTC:20250413T110000
DTEND;TZID=UTC:20250413T120000
DTSTAMP:20260425T123306
CREATED:20250327T180957Z
LAST-MODIFIED:20250327T181033Z
UID:10000604-1744542000-1744545600@lafayettefirst.life
SUMMARY:Children's Palm Processional
DESCRIPTION:
URL:https://lafayettefirst.life/event/childrens-palm-processional/
LOCATION:LaFayette First Baptist\, 201 N Main Street\, Lafayette\, GA\, 30728\, United States
ATTACH;FMTTYPE=image/jpeg:https://lafayettefirst.life/wp-content/uploads/2025/03/palm-processional-copy-scaled.jpg
ORGANIZER;CN="LaFayette First":MAILTO:info@lafayettefirst.life
END:VEVENT
BEGIN:VEVENT
DTSTART;TZID=UTC:20250418T080000
DTEND;TZID=UTC:20250418T170000
DTSTAMP:20260425T123306
CREATED:20250327T173250Z
LAST-MODIFIED:20250327T173527Z
UID:10000601-1744963200-1744995600@lafayettefirst.life
SUMMARY:Good Friday Walk Through Experience
DESCRIPTION:
URL:https://lafayettefirst.life/event/good-friday-walk-through-experience-2/
LOCATION:LaFayette First Baptist\, 201 N Main Street\, Lafayette\, GA\, 30728\, United States
ATTACH;FMTTYPE=image/jpeg:https://lafayettefirst.life/wp-content/uploads/2025/03/goodfriday2025-copy.jpg
ORGANIZER;CN="LaFayette First":MAILTO:info@lafayettefirst.life
END:VEVENT
BEGIN:VEVENT
DTSTART;TZID=UTC:20250420T090000
DTEND;TZID=UTC:20250420T120000
DTSTAMP:20260425T123306
CREATED:20250327T181948Z
LAST-MODIFIED:20250327T181948Z
UID:10000605-1745139600-1745150400@lafayettefirst.life
SUMMARY:Flowering the Cross
DESCRIPTION:Bring your flowers and help us fill the cross between 9am – noon.
URL:https://lafayettefirst.life/event/flowering-the-cross/
LOCATION:LaFayette First Baptist\, 201 N Main Street\, Lafayette\, GA\, 30728\, United States
ATTACH;FMTTYPE=image/jpeg:https://lafayettefirst.life/wp-content/uploads/2025/03/Flower-Cross-scaled.jpg
ORGANIZER;CN="LaFayette First":MAILTO:info@lafayettefirst.life
END:VEVENT
END:VCALENDAR