BEGIN:VCALENDAR
VERSION:2.0
PRODID:-//LaFayette First - ECPv6.15.20//NONSGML v1.0//EN
CALSCALE:GREGORIAN
METHOD:PUBLISH
X-WR-CALNAME:LaFayette First
X-ORIGINAL-URL:https://lafayettefirst.life
X-WR-CALDESC:Events for LaFayette First
REFRESH-INTERVAL;VALUE=DURATION:PT1H
X-Robots-Tag:noindex
X-PUBLISHED-TTL:PT1H
BEGIN:VTIMEZONE
TZID:UTC
BEGIN:STANDARD
TZOFFSETFROM:+0000
TZOFFSETTO:+0000
TZNAME:UTC
DTSTART:20210101T000000
END:STANDARD
END:VTIMEZONE
BEGIN:VTIMEZONE
TZID:America/New_York
BEGIN:DAYLIGHT
TZOFFSETFROM:-0500
TZOFFSETTO:-0400
TZNAME:EDT
DTSTART:20210314T070000
END:DAYLIGHT
BEGIN:STANDARD
TZOFFSETFROM:-0400
TZOFFSETTO:-0500
TZNAME:EST
DTSTART:20211107T060000
END:STANDARD
BEGIN:DAYLIGHT
TZOFFSETFROM:-0500
TZOFFSETTO:-0400
TZNAME:EDT
DTSTART:20220313T070000
END:DAYLIGHT
BEGIN:STANDARD
TZOFFSETFROM:-0400
TZOFFSETTO:-0500
TZNAME:EST
DTSTART:20221106T060000
END:STANDARD
BEGIN:DAYLIGHT
TZOFFSETFROM:-0500
TZOFFSETTO:-0400
TZNAME:EDT
DTSTART:20230312T070000
END:DAYLIGHT
BEGIN:STANDARD
TZOFFSETFROM:-0400
TZOFFSETTO:-0500
TZNAME:EST
DTSTART:20231105T060000
END:STANDARD
END:VTIMEZONE
BEGIN:VEVENT
DTSTART;TZID=UTC:20220803T180000
DTEND;TZID=UTC:20220803T190000
DTSTAMP:20260423T213357
CREATED:20220616T165131Z
LAST-MODIFIED:20220616T170059Z
UID:10000162-1659549600-1659553200@lafayettefirst.life
SUMMARY:Wednesday Adult Bible Study
DESCRIPTION:
URL:https://lafayettefirst.life/event/wednesday-adult-bible-study/2022-08-03/
LOCATION:LaFayette First Baptist\, 201 N Main Street\, Lafayette\, GA\, 30728\, United States
CATEGORIES:Wednesday Nights
ATTACH;FMTTYPE=image/jpeg:https://lafayettefirst.life/wp-content/uploads/2022/06/Spiritual-Warfare-scaled.jpg
ORGANIZER;CN="LaFayette First":MAILTO:info@lafayettefirst.life
END:VEVENT
BEGIN:VEVENT
DTSTART;TZID=UTC:20220727T180000
DTEND;TZID=UTC:20220727T190000
DTSTAMP:20260423T213357
CREATED:20220616T165131Z
LAST-MODIFIED:20220616T170059Z
UID:10000161-1658944800-1658948400@lafayettefirst.life
SUMMARY:Wednesday Adult Bible Study
DESCRIPTION:
URL:https://lafayettefirst.life/event/wednesday-adult-bible-study/2022-07-27/
LOCATION:LaFayette First Baptist\, 201 N Main Street\, Lafayette\, GA\, 30728\, United States
CATEGORIES:Wednesday Nights
ATTACH;FMTTYPE=image/jpeg:https://lafayettefirst.life/wp-content/uploads/2022/06/Spiritual-Warfare-scaled.jpg
ORGANIZER;CN="LaFayette First":MAILTO:info@lafayettefirst.life
END:VEVENT
BEGIN:VEVENT
DTSTART;TZID=UTC:20220706T180000
DTEND;TZID=UTC:20220706T190000
DTSTAMP:20260423T213357
CREATED:20220616T165131Z
LAST-MODIFIED:20220616T170059Z
UID:10000160-1657130400-1657134000@lafayettefirst.life
SUMMARY:Wednesday Adult Bible Study
DESCRIPTION:
URL:https://lafayettefirst.life/event/wednesday-adult-bible-study/2022-07-06/
LOCATION:LaFayette First Baptist\, 201 N Main Street\, Lafayette\, GA\, 30728\, United States
CATEGORIES:Wednesday Nights
ATTACH;FMTTYPE=image/jpeg:https://lafayettefirst.life/wp-content/uploads/2022/06/Spiritual-Warfare-scaled.jpg
ORGANIZER;CN="LaFayette First":MAILTO:info@lafayettefirst.life
END:VEVENT
BEGIN:VEVENT
DTSTART;TZID=UTC:20220504T181500
DTEND;TZID=UTC:20220504T190000
DTSTAMP:20260423T213357
CREATED:20220414T171631Z
LAST-MODIFIED:20220414T171659Z
UID:10000136-1651688100-1651690800@lafayettefirst.life
SUMMARY:1st Wednesday
DESCRIPTION:
URL:https://lafayettefirst.life/event/1st-wednesday-2/
LOCATION:LaFayette First Baptist\, 201 N Main Street\, Lafayette\, GA\, 30728\, United States
CATEGORIES:Wednesday Nights
ATTACH;FMTTYPE=image/jpeg:https://lafayettefirst.life/wp-content/uploads/2022/04/1st-Wednesdays-May.jpg
ORGANIZER;CN="LaFayette First":MAILTO:info@lafayettefirst.life
END:VEVENT
BEGIN:VEVENT
DTSTART;TZID=America/New_York:20220202T181500
DTEND;TZID=America/New_York:20220202T190000
DTSTAMP:20260423T213357
CREATED:20220112T210246Z
LAST-MODIFIED:20220112T210246Z
UID:10000105-1643825700-1643828400@lafayettefirst.life
SUMMARY:First Wednesday
DESCRIPTION:Join us for a powerful night of worship & prayer where we pause\, listen\, and focus on Jesus and call for Him to reveal Himself to us.
URL:https://lafayettefirst.life/event/first-wednesday/
LOCATION:LaFayette First Baptist\, 201 N Main Street\, Lafayette\, GA\, 30728\, United States
CATEGORIES:Wednesday Nights
ATTACH;FMTTYPE=image/jpeg:https://lafayettefirst.life/wp-content/uploads/2022/01/1st-Wednesday-Feb-scaled.jpg
ORGANIZER;CN="LaFayette First":MAILTO:info@lafayettefirst.life
END:VEVENT
END:VCALENDAR