BEGIN:VCALENDAR
VERSION:2.0
PRODID:-//LaFayette First - ECPv6.15.20//NONSGML v1.0//EN
CALSCALE:GREGORIAN
METHOD:PUBLISH
X-WR-CALNAME:LaFayette First
X-ORIGINAL-URL:https://lafayettefirst.life
X-WR-CALDESC:Events for LaFayette First
REFRESH-INTERVAL;VALUE=DURATION:PT1H
X-Robots-Tag:noindex
X-PUBLISHED-TTL:PT1H
BEGIN:VTIMEZONE
TZID:UTC
BEGIN:STANDARD
TZOFFSETFROM:+0000
TZOFFSETTO:+0000
TZNAME:UTC
DTSTART:20250101T000000
END:STANDARD
END:VTIMEZONE
BEGIN:VEVENT
DTSTART;TZID=UTC:20260506T171500
DTEND;TZID=UTC:20260506T180000
DTSTAMP:20260423T234921
CREATED:20260303T152812Z
LAST-MODIFIED:20260303T152812Z
UID:10000758-1778087700-1778090400@lafayettefirst.life
SUMMARY:Family Dinner
DESCRIPTION:Menu: Chicken Alfredo\, Salad Bar\, Bread\, Dessert
URL:https://lafayettefirst.life/event/family-dinner-66/
LOCATION:LaFayette First Baptist\, 201 N Main Street\, Lafayette\, GA\, 30728\, United States
CATEGORIES:Wednesday Nights
ATTACH;FMTTYPE=image/jpeg:https://lafayettefirst.life/wp-content/uploads/2026/01/Family-Dinner-Aug2025-UNDATED.jpg
ORGANIZER;CN="LaFayette First":MAILTO:info@lafayettefirst.life
END:VEVENT
END:VCALENDAR