BEGIN:VCALENDAR
VERSION:2.0
PRODID:-//LaFayette First - ECPv6.15.20//NONSGML v1.0//EN
CALSCALE:GREGORIAN
METHOD:PUBLISH
X-ORIGINAL-URL:https://lafayettefirst.life
X-WR-CALDESC:Events for LaFayette First
REFRESH-INTERVAL;VALUE=DURATION:PT1H
X-Robots-Tag:noindex
X-PUBLISHED-TTL:PT1H
BEGIN:VTIMEZONE
TZID:UTC
BEGIN:STANDARD
TZOFFSETFROM:+0000
TZOFFSETTO:+0000
TZNAME:UTC
DTSTART:20230101T000000
END:STANDARD
END:VTIMEZONE
BEGIN:VEVENT
DTSTART;TZID=UTC:20241002T171500
DTEND;TZID=UTC:20241002T180000
DTSTAMP:20260424T220858
CREATED:20240924T150709Z
LAST-MODIFIED:20240924T150758Z
UID:10000458-1727889300-1727892000@lafayettefirst.life
SUMMARY:Family Dinner
DESCRIPTION:Main Menu: Baked Ham\, Sweet Potato Casserole\, Green Beans\, Rolls\, Slaw\, Dessert\nChildren:  Chicken Nuggets and Fries \nPRICES: Adults\, Youth\, and Children ages 5 and up are $6.00.  Children 4yrs and under are free.  Family maximum is $24.00. \nRESERVATIONS are required! 
URL:https://lafayettefirst.life/event/family-dinner-17/
LOCATION:LaFayette First Baptist\, 201 N Main Street\, Lafayette\, GA\, 30728\, United States
CATEGORIES:Wednesday Nights
ATTACH;FMTTYPE=image/jpeg:https://lafayettefirst.life/wp-content/uploads/2024/08/Family-Dinner-continual-scaled.jpg
ORGANIZER;CN="LaFayette First":MAILTO:info@lafayettefirst.life
END:VEVENT
END:VCALENDAR