BEGIN:VCALENDAR
VERSION:2.0
PRODID:-//LaFayette First - ECPv6.15.20//NONSGML v1.0//EN
CALSCALE:GREGORIAN
METHOD:PUBLISH
X-ORIGINAL-URL:https://lafayettefirst.life
X-WR-CALDESC:Events for LaFayette First
REFRESH-INTERVAL;VALUE=DURATION:PT1H
X-Robots-Tag:noindex
X-PUBLISHED-TTL:PT1H
BEGIN:VTIMEZONE
TZID:UTC
BEGIN:STANDARD
TZOFFSETFROM:+0000
TZOFFSETTO:+0000
TZNAME:UTC
DTSTART:20200101T000000
END:STANDARD
END:VTIMEZONE
BEGIN:VEVENT
DTSTART;TZID=UTC:20260322T170000
DTEND;TZID=UTC:20260322T180000
DTSTAMP:20260423T235250
CREATED:20260212T155143Z
LAST-MODIFIED:20260224T183035Z
UID:10000735-1774198800-1774202400@lafayettefirst.life
SUMMARY:Women's Ministry: Prayer Partners
DESCRIPTION:
URL:https://lafayettefirst.life/event/womens-ministry-prayer-partners/
LOCATION:LaFayette First Baptist\, 201 N Main Street\, Lafayette\, GA\, 30728\, United States
CATEGORIES:Sunday Nights
ATTACH;FMTTYPE=image/png:https://lafayettefirst.life/wp-content/uploads/2026/02/image1.png
ORGANIZER;CN="LaFayette First":MAILTO:info@lafayettefirst.life
END:VEVENT
BEGIN:VEVENT
DTSTART;TZID=UTC:20260322T043000
DTEND;TZID=UTC:20260322T180000
DTSTAMP:20260423T235250
CREATED:20260127T163858Z
LAST-MODIFIED:20260304T001835Z
UID:10000729-1774153800-1774202400@lafayettefirst.life
SUMMARY:Grill Walk
DESCRIPTION:
URL:https://lafayettefirst.life/event/grill-walk-6/
LOCATION:LaFayette First Baptist\, 201 N Main Street\, Lafayette\, GA\, 30728\, United States
CATEGORIES:Serve,Sunday Nights
ATTACH;FMTTYPE=image/jpeg:https://lafayettefirst.life/wp-content/uploads/2026/01/Grill-Walk-March-UPDATED-scaled.jpg
ORGANIZER;CN="LaFayette First":MAILTO:info@lafayettefirst.life
END:VEVENT
BEGIN:VEVENT
DTSTART;TZID=UTC:20260315T170000
DTEND;TZID=UTC:20260315T180000
DTSTAMP:20260423T235250
CREATED:20260224T165401Z
LAST-MODIFIED:20260224T182937Z
UID:10000740-1773594000-1773597600@lafayettefirst.life
SUMMARY:Next Level Cohort
DESCRIPTION:
URL:https://lafayettefirst.life/event/next-level-cohort/
LOCATION:LaFayette First Baptist\, 201 N Main Street\, Lafayette\, GA\, 30728\, United States
CATEGORIES:Sunday Nights
ATTACH;FMTTYPE=image/jpeg:https://lafayettefirst.life/wp-content/uploads/2026/02/Cohort-March-scaled.jpg
ORGANIZER;CN="LaFayette First":MAILTO:info@lafayettefirst.life
END:VEVENT
BEGIN:VEVENT
DTSTART;TZID=UTC:20230604T170000
DTEND;TZID=UTC:20230604T180000
DTSTAMP:20260423T235250
CREATED:20230427T202520Z
LAST-MODIFIED:20230530T174104Z
UID:10000205-1685898000-1685901600@lafayettefirst.life
SUMMARY:Deacon Ordination
DESCRIPTION:
URL:https://lafayettefirst.life/event/deacon-ordination-2/
LOCATION:LaFayette First Baptist\, 201 N Main Street\, Lafayette\, GA\, 30728\, United States
CATEGORIES:Sunday Nights
ATTACH;FMTTYPE=image/jpeg:https://lafayettefirst.life/wp-content/uploads/2023/04/deacon-ordination-2023.jpg
ORGANIZER;CN="LaFayette First":MAILTO:info@lafayettefirst.life
END:VEVENT
BEGIN:VEVENT
DTSTART;TZID=UTC:20230129T163000
DTEND;TZID=UTC:20230129T180000
DTSTAMP:20260423T235250
CREATED:20221227T205722Z
LAST-MODIFIED:20221227T205754Z
UID:10000185-1675009800-1675015200@lafayettefirst.life
SUMMARY:Sunday Supper Community Event
DESCRIPTION:
URL:https://lafayettefirst.life/event/sunday-supper-community-event/
LOCATION:LaFayette Housing Authority\, 300 Oak St\, LaFayette\, GA\, 30728\, United States
CATEGORIES:Sunday Nights
ATTACH;FMTTYPE=image/jpeg:https://lafayettefirst.life/wp-content/uploads/2022/12/Sunday-Supper-scaled.jpg
ORGANIZER;CN="LaFayette First":MAILTO:info@lafayettefirst.life
END:VEVENT
BEGIN:VEVENT
DTSTART;TZID=UTC:20230122T163000
DTEND;TZID=UTC:20230122T190000
DTSTAMP:20260423T235250
CREATED:20221227T205130Z
LAST-MODIFIED:20221227T205151Z
UID:10000182-1674405000-1674414000@lafayettefirst.life
SUMMARY:Guess Who's Coming to Dinner
DESCRIPTION:Sign up now to join us for a church family dinner!  We have a few host families that have opened their homes to our church family and will be providing dinner for them.  BUT…..they don’t know who will be coming!  Join in the fun and get to know other members of your church family better while enjoying a delicious dinner.
URL:https://lafayettefirst.life/event/guess-whos-coming-to-dinner/
LOCATION:LaFayette First Baptist\, 201 N Main Street\, Lafayette\, GA\, 30728\, United States
CATEGORIES:Sunday Nights
ATTACH;FMTTYPE=image/jpeg:https://lafayettefirst.life/wp-content/uploads/2022/12/Guess-Whos-Coming-to-Dinner-scaled.jpg
ORGANIZER;CN="LaFayette First":MAILTO:info@lafayettefirst.life
END:VEVENT
BEGIN:VEVENT
DTSTART;TZID=UTC:20230108T170000
DTEND;TZID=UTC:20230108T180000
DTSTAMP:20260423T235250
CREATED:20221227T204439Z
LAST-MODIFIED:20221227T204537Z
UID:10000180-1673197200-1673200800@lafayettefirst.life
SUMMARY:A Place to Call Home Family Night
DESCRIPTION:Food and fun activities with your church family.  Last year’s Family Night was SO much fun!  We hope you’ll plan to join us this year!
URL:https://lafayettefirst.life/event/a-place-to-call-home-family-night/
LOCATION:LaFayette First Baptist\, 201 N Main Street\, Lafayette\, GA\, 30728\, United States
CATEGORIES:Sunday Nights
ATTACH;FMTTYPE=image/jpeg:https://lafayettefirst.life/wp-content/uploads/2022/12/vision-night-2023-scaled.jpg
ORGANIZER;CN="LaFayette First":MAILTO:info@lafayettefirst.life
END:VEVENT
BEGIN:VEVENT
DTSTART;TZID=UTC:20221204T170000
DTEND;TZID=UTC:20221204T180000
DTSTAMP:20260423T235250
CREATED:20221104T135954Z
LAST-MODIFIED:20221108T153812Z
UID:10000126-1670173200-1670176800@lafayettefirst.life
SUMMARY:Christmas Night of Worship
DESCRIPTION:
URL:https://lafayettefirst.life/event/christmas-night-of-worship/
LOCATION:LaFayette First Baptist\, 201 N Main Street\, Lafayette\, GA\, 30728\, United States
CATEGORIES:Sunday Nights
ATTACH;FMTTYPE=image/jpeg:https://lafayettefirst.life/wp-content/uploads/2022/11/Christmas-Night-of-Worship-22-scaled.jpg
ORGANIZER;CN="LaFayette First":MAILTO:info@lafayettefirst.life
END:VEVENT
BEGIN:VEVENT
DTSTART;TZID=UTC:20221127T173000
DTEND;TZID=UTC:20221127T190000
DTSTAMP:20260423T235250
CREATED:20221104T135820Z
LAST-MODIFIED:20221108T153233Z
UID:10000128-1669570200-1669575600@lafayettefirst.life
SUMMARY:Community Advent Walk
DESCRIPTION:
URL:https://lafayettefirst.life/event/community-advent-walk/
LOCATION:LaFayette First Baptist\, 201 N Main Street\, Lafayette\, GA\, 30728\, United States
CATEGORIES:Sunday Nights
ATTACH;FMTTYPE=image/jpeg:https://lafayettefirst.life/wp-content/uploads/2022/11/Advent-Walk-2022-scaled.jpg
ORGANIZER;CN="LaFayette First":MAILTO:info@lafayettefirst.life
END:VEVENT
BEGIN:VEVENT
DTSTART;TZID=UTC:20221120T170000
DTEND;TZID=UTC:20221120T183000
DTSTAMP:20260423T235250
CREATED:20221104T135108Z
LAST-MODIFIED:20221108T152642Z
UID:10000071-1668963600-1668969000@lafayettefirst.life
SUMMARY:Vintage Worship & Desserts
DESCRIPTION:
URL:https://lafayettefirst.life/event/vintage-worship-desserts/
LOCATION:LaFayette First Baptist\, 201 N Main Street\, Lafayette\, GA\, 30728\, United States
CATEGORIES:Sunday Nights
ATTACH;FMTTYPE=image/jpeg:https://lafayettefirst.life/wp-content/uploads/2022/11/vintage-2022-scaled.jpg
ORGANIZER;CN="LaFayette First":MAILTO:info@lafayettefirst.life
END:VEVENT
BEGIN:VEVENT
DTSTART;TZID=UTC:20220515T170000
DTEND;TZID=UTC:20220515T180000
DTSTAMP:20260423T235250
CREATED:20220414T171912Z
LAST-MODIFIED:20220414T172043Z
UID:10000138-1652634000-1652637600@lafayettefirst.life
SUMMARY:Discover D-Groups
DESCRIPTION:
URL:https://lafayettefirst.life/event/discover-d-groups/
LOCATION:LaFayette First Baptist\, 201 N Main Street\, Lafayette\, GA\, 30728\, United States
CATEGORIES:Sunday Nights
ATTACH;FMTTYPE=image/jpeg:https://lafayettefirst.life/wp-content/uploads/2022/04/DGroup-Training.jpg
ORGANIZER;CN="LaFayette First":MAILTO:info@lafayettefirst.life
END:VEVENT
BEGIN:VEVENT
DTSTART;TZID=UTC:20220130T163000
DTEND;TZID=UTC:20220130T183000
DTSTAMP:20260423T235250
CREATED:20220125T202530Z
LAST-MODIFIED:20220125T202530Z
UID:10000106-1643560200-1643567400@lafayettefirst.life
SUMMARY:Sunday Supper
DESCRIPTION:We’re providing Soup and Sandwiches for folks from the Housing Authority.
URL:https://lafayettefirst.life/event/sunday-supper/
LOCATION:LaFayette Housing Authority\, 300 Oak St\, LaFayette\, GA\, 30728\, United States
CATEGORIES:Sunday Nights
ATTACH;FMTTYPE=image/jpeg:https://lafayettefirst.life/wp-content/uploads/2022/01/Sunday-Supper-ad-scaled.jpg
ORGANIZER;CN="LaFayette First":MAILTO:info@lafayettefirst.life
END:VEVENT
BEGIN:VEVENT
DTSTART;TZID=UTC:20210926T170000
DTEND;TZID=UTC:20210926T190000
DTSTAMP:20260423T235250
CREATED:20210823T193423Z
LAST-MODIFIED:20210922T155746Z
UID:10000063-1632675600-1632682800@lafayettefirst.life
SUMMARY:Church Family Picnic
DESCRIPTION:A fun church-wide family event! \nFood\, Games\, Hayrides\, and More…
URL:https://lafayettefirst.life/event/church-family-picnic/
LOCATION:Stansell Farm\, 684 Cooper Rd\, La Fayette\, GA\, 30728\, United States
CATEGORIES:Sunday Nights
ATTACH;FMTTYPE=image/jpeg:https://lafayettefirst.life/wp-content/uploads/2021/08/Picnic.jpg
ORGANIZER;CN="LaFayette First":MAILTO:info@lafayettefirst.life
END:VEVENT
END:VCALENDAR