BEGIN:VCALENDAR
VERSION:2.0
PRODID:-//LaFayette First - ECPv6.15.20//NONSGML v1.0//EN
CALSCALE:GREGORIAN
METHOD:PUBLISH
X-ORIGINAL-URL:https://lafayettefirst.life
X-WR-CALDESC:Events for LaFayette First
REFRESH-INTERVAL;VALUE=DURATION:PT1H
X-Robots-Tag:noindex
X-PUBLISHED-TTL:PT1H
BEGIN:VTIMEZONE
TZID:UTC
BEGIN:STANDARD
TZOFFSETFROM:+0000
TZOFFSETTO:+0000
TZNAME:UTC
DTSTART:20250101T000000
END:STANDARD
END:VTIMEZONE
BEGIN:VEVENT
DTSTART;TZID=UTC:20260426T173000
DTEND;TZID=UTC:20260426T190000
DTSTAMP:20260423T155854
CREATED:20260224T175155Z
LAST-MODIFIED:20260423T152533Z
UID:10000747-1777224600-1777230000@lafayettefirst.life
SUMMARY:Talent Show
DESCRIPTION:
URL:https://lafayettefirst.life/event/talent-show-4/
LOCATION:LaFayette First Baptist\, 201 N Main Street\, Lafayette\, GA\, 30728\, United States
CATEGORIES:Sunday Nights
ATTACH;FMTTYPE=image/jpeg:https://lafayettefirst.life/wp-content/uploads/2026/02/Talent-Show-2026-scaled.jpg
ORGANIZER;CN="LaFayette First":MAILTO:info@lafayettefirst.life
END:VEVENT
END:VCALENDAR