BEGIN:VCALENDAR
VERSION:2.0
PRODID:-//LaFayette First - ECPv6.15.20//NONSGML v1.0//EN
CALSCALE:GREGORIAN
METHOD:PUBLISH
X-ORIGINAL-URL:https://lafayettefirst.life
X-WR-CALDESC:Events for LaFayette First
REFRESH-INTERVAL;VALUE=DURATION:PT1H
X-Robots-Tag:noindex
X-PUBLISHED-TTL:PT1H
BEGIN:VTIMEZONE
TZID:UTC
BEGIN:STANDARD
TZOFFSETFROM:+0000
TZOFFSETTO:+0000
TZNAME:UTC
DTSTART:20250101T000000
END:STANDARD
END:VTIMEZONE
BEGIN:VEVENT
DTSTART;TZID=UTC:20260211T171500
DTEND;TZID=UTC:20260211T180000
DTSTAMP:20260424T163657
CREATED:20260129T192206Z
LAST-MODIFIED:20260129T194047Z
UID:10000730-1770830100-1770832800@lafayettefirst.life
SUMMARY:Family Dinner
DESCRIPTION:Menu: Meatloaf\, Pinto Beans\, Mashed Potatoes\, Slaw\, Cornbread\, Dessert\nChildren’s Menu: Chicken Tenders\, Fries\, Fruit\, Cookies.
URL:https://lafayettefirst.life/event/family-dinner-54/
LOCATION:LaFayette First Baptist\, 201 N Main Street\, Lafayette\, GA\, 30728\, United States
ATTACH;FMTTYPE=image/jpeg:https://lafayettefirst.life/wp-content/uploads/2026/01/Family-Dinner-Aug2025-UNDATED.jpg
ORGANIZER;CN="LaFayette First":MAILTO:info@lafayettefirst.life
END:VEVENT
END:VCALENDAR