BEGIN:VCALENDAR
VERSION:2.0
PRODID:-//LaFayette First - ECPv6.15.20//NONSGML v1.0//EN
CALSCALE:GREGORIAN
METHOD:PUBLISH
X-WR-CALNAME:LaFayette First
X-ORIGINAL-URL:https://lafayettefirst.life
X-WR-CALDESC:Events for LaFayette First
REFRESH-INTERVAL;VALUE=DURATION:PT1H
X-Robots-Tag:noindex
X-PUBLISHED-TTL:PT1H
BEGIN:VTIMEZONE
TZID:UTC
BEGIN:STANDARD
TZOFFSETFROM:+0000
TZOFFSETTO:+0000
TZNAME:UTC
DTSTART:20240101T000000
END:STANDARD
END:VTIMEZONE
BEGIN:VEVENT
DTSTART;TZID=UTC:20251217T171500
DTEND;TZID=UTC:20251217T180000
DTSTAMP:20260424T192333
CREATED:20251124T175331Z
LAST-MODIFIED:20251124T175331Z
UID:10000701-1765991700-1765994400@lafayettefirst.life
SUMMARY:Family Dinner
DESCRIPTION:Main Menu:  Soup and Sandwiches\nPrices: Adults\, Youth\, and Children ages 5 and up are $7.00.  Children 4yrs and under are free.  Family maximum is $28.00.\nRESERVATIONS are required!
URL:https://lafayettefirst.life/event/family-dinner-51/
LOCATION:LaFayette First Baptist\, 201 N Main Street\, Lafayette\, GA\, 30728\, United States
ATTACH;FMTTYPE=image/jpeg:https://lafayettefirst.life/wp-content/uploads/2025/08/Family-Dinner-Aug2025-UNDATED.jpg
ORGANIZER;CN="LaFayette First":MAILTO:info@lafayettefirst.life
END:VEVENT
BEGIN:VEVENT
DTSTART;TZID=UTC:20251217T180000
DTEND;TZID=UTC:20251217T190000
DTSTAMP:20260424T192333
CREATED:20251030T151611Z
LAST-MODIFIED:20251124T185011Z
UID:10000696-1765994400-1765998000@lafayettefirst.life
SUMMARY:The Mystery of the Missing Manger
DESCRIPTION:
URL:https://lafayettefirst.life/event/the-mystery-of-the-missing-manger/
LOCATION:LaFayette First Baptist\, 201 N Main Street\, Lafayette\, GA\, 30728\, United States
ATTACH;FMTTYPE=image/jpeg:https://lafayettefirst.life/wp-content/uploads/2025/11/Christmas-Childrens-Play-scaled.jpg
ORGANIZER;CN="LaFayette First":MAILTO:info@lafayettefirst.life
END:VEVENT
END:VCALENDAR