BEGIN:VCALENDAR
VERSION:2.0
PRODID:-//LaFayette First - ECPv6.15.20//NONSGML v1.0//EN
CALSCALE:GREGORIAN
METHOD:PUBLISH
X-ORIGINAL-URL:https://lafayettefirst.life
X-WR-CALDESC:Events for LaFayette First
REFRESH-INTERVAL;VALUE=DURATION:PT1H
X-Robots-Tag:noindex
X-PUBLISHED-TTL:PT1H
BEGIN:VTIMEZONE
TZID:UTC
BEGIN:STANDARD
TZOFFSETFROM:+0000
TZOFFSETTO:+0000
TZNAME:UTC
DTSTART:20240101T000000
END:STANDARD
END:VTIMEZONE
BEGIN:VEVENT
DTSTART;TZID=UTC:20251213T150000
DTEND;TZID=UTC:20251213T163000
DTSTAMP:20260424T192439
CREATED:20251124T184539Z
LAST-MODIFIED:20251124T184539Z
UID:10000703-1765638000-1765643400@lafayettefirst.life
SUMMARY:Women's Ministry Cookie Swap
DESCRIPTION:
URL:https://lafayettefirst.life/event/womens-ministry-cookie-swap/
LOCATION:GA
ATTACH;FMTTYPE=image/png:https://lafayettefirst.life/wp-content/uploads/2025/11/Cookie-Swap.png
END:VEVENT
BEGIN:VEVENT
DTSTART;TZID=UTC:20251213T170000
DTEND;TZID=UTC:20251213T190000
DTSTAMP:20260424T192439
CREATED:20251124T185815Z
LAST-MODIFIED:20251124T185815Z
UID:10000704-1765645200-1765652400@lafayettefirst.life
SUMMARY:The Spark Christmas Party
DESCRIPTION:THE SPARK is a gathering for dating\, engaged\, and married couples in their 20’s and 30’s. Contact Caleb or Randi Mariakis.
URL:https://lafayettefirst.life/event/the-spark-christmas-party/
LOCATION:LaFayette First Baptist\, 201 N Main Street\, Lafayette\, GA\, 30728\, United States
ATTACH;FMTTYPE=image/jpeg:https://lafayettefirst.life/wp-content/uploads/2025/11/Christmas-Spark-Party-resized-3-scaled.jpg
ORGANIZER;CN="LaFayette First":MAILTO:info@lafayettefirst.life
END:VEVENT
END:VCALENDAR