BEGIN:VCALENDAR
VERSION:2.0
PRODID:-//LaFayette First - ECPv6.15.20//NONSGML v1.0//EN
CALSCALE:GREGORIAN
METHOD:PUBLISH
X-WR-CALNAME:LaFayette First
X-ORIGINAL-URL:https://lafayettefirst.life
X-WR-CALDESC:Events for LaFayette First
REFRESH-INTERVAL;VALUE=DURATION:PT1H
X-Robots-Tag:noindex
X-PUBLISHED-TTL:PT1H
BEGIN:VTIMEZONE
TZID:UTC
BEGIN:STANDARD
TZOFFSETFROM:+0000
TZOFFSETTO:+0000
TZNAME:UTC
DTSTART:20240101T000000
END:STANDARD
END:VTIMEZONE
BEGIN:VEVENT
DTSTART;TZID=UTC:20250531T080000
DTEND;TZID=UTC:20250531T170000
DTSTAMP:20260425T023628
CREATED:20250429T140104Z
LAST-MODIFIED:20250507T143008Z
UID:10000612-1748678400-1748710800@lafayettefirst.life
SUMMARY:Honeybee Festival: Need Volunteers
DESCRIPTION:Register online or call the church office.
URL:https://lafayettefirst.life/event/honeybee-festival-need-volunteers/
LOCATION:LaFayette First Baptist\, 201 N Main Street\, Lafayette\, GA\, 30728\, United States
ATTACH;FMTTYPE=image/jpeg:https://lafayettefirst.life/wp-content/uploads/2025/04/honeybee-festival.jpg
ORGANIZER;CN="LaFayette First":MAILTO:info@lafayettefirst.life
END:VEVENT
END:VCALENDAR