BEGIN:VCALENDAR
VERSION:2.0
PRODID:-//LaFayette First - ECPv6.15.20//NONSGML v1.0//EN
CALSCALE:GREGORIAN
METHOD:PUBLISH
X-WR-CALNAME:LaFayette First
X-ORIGINAL-URL:https://lafayettefirst.life
X-WR-CALDESC:Events for LaFayette First
REFRESH-INTERVAL;VALUE=DURATION:PT1H
X-Robots-Tag:noindex
X-PUBLISHED-TTL:PT1H
BEGIN:VTIMEZONE
TZID:UTC
BEGIN:STANDARD
TZOFFSETFROM:+0000
TZOFFSETTO:+0000
TZNAME:UTC
DTSTART:20240101T000000
END:STANDARD
END:VTIMEZONE
BEGIN:VEVENT
DTSTART;TZID=UTC:20250521T171500
DTEND;TZID=UTC:20250521T180000
DTSTAMP:20260425T035620
CREATED:20250429T182442Z
LAST-MODIFIED:20250429T182552Z
UID:10000620-1747847700-1747850400@lafayettefirst.life
SUMMARY:Family Dinner
DESCRIPTION:Main Menu: Salad Bar\, Grilled Chicken\, Baked Potatoes\, Dessert.\nChildren’s Line: Pizza\nPRICES: Adults\, Youth\, and Children ages 5 and up are $7.00.  Children 4yrs and under are free.  Family maximum is $28.00.\nRESERVATIONS are required!
URL:https://lafayettefirst.life/event/family-dinner-37/
LOCATION:LaFayette First Baptist\, 201 N Main Street\, Lafayette\, GA\, 30728\, United States
ATTACH;FMTTYPE=image/jpeg:https://lafayettefirst.life/wp-content/uploads/2025/04/Family-Dinner-2-copy-scaled.jpg
ORGANIZER;CN="LaFayette First":MAILTO:info@lafayettefirst.life
END:VEVENT
END:VCALENDAR