BEGIN:VCALENDAR
VERSION:2.0
PRODID:-//LaFayette First - ECPv6.15.20//NONSGML v1.0//EN
CALSCALE:GREGORIAN
METHOD:PUBLISH
X-ORIGINAL-URL:https://lafayettefirst.life
X-WR-CALDESC:Events for LaFayette First
REFRESH-INTERVAL;VALUE=DURATION:PT1H
X-Robots-Tag:noindex
X-PUBLISHED-TTL:PT1H
BEGIN:VTIMEZONE
TZID:UTC
BEGIN:STANDARD
TZOFFSETFROM:+0000
TZOFFSETTO:+0000
TZNAME:UTC
DTSTART:20230101T000000
END:STANDARD
END:VTIMEZONE
BEGIN:VEVENT
DTSTART;VALUE=DATE:20240822
DTEND;VALUE=DATE:20241102
DTSTAMP:20260425T134853
CREATED:20240822T134232Z
LAST-MODIFIED:20240822T134313Z
UID:10000368-1724284800-1730505599@lafayettefirst.life
SUMMARY:Christmas Backpacks
DESCRIPTION:
URL:https://lafayettefirst.life/event/christmas-backpacks/
LOCATION:LaFayette First Baptist\, 201 N Main Street\, Lafayette\, GA\, 30728\, United States
ATTACH;FMTTYPE=image/jpeg:https://lafayettefirst.life/wp-content/uploads/2024/08/backpacks-for-appalachia-scaled.jpg
ORGANIZER;CN="LaFayette First":MAILTO:info@lafayettefirst.life
END:VEVENT
BEGIN:VEVENT
DTSTART;VALUE=DATE:20241001
DTEND;VALUE=DATE:20241002
DTSTAMP:20260425T134853
CREATED:20240820T175113Z
LAST-MODIFIED:20240820T175354Z
UID:10000364-1727740800-1727827199@lafayettefirst.life
SUMMARY:JOY Trip to Ellijay
DESCRIPTION:
URL:https://lafayettefirst.life/event/joy-trip-to-ellijay/
LOCATION:LaFayette First Baptist\, 201 N Main Street\, Lafayette\, GA\, 30728\, United States
ATTACH;FMTTYPE=image/jpeg:https://lafayettefirst.life/wp-content/uploads/2024/08/JOY-Ellijay-2024-scaled.jpg
ORGANIZER;CN="LaFayette First":MAILTO:info@lafayettefirst.life
END:VEVENT
BEGIN:VEVENT
DTSTART;VALUE=DATE:20241001
DTEND;VALUE=DATE:20241101
DTSTAMP:20260425T134853
CREATED:20240924T154443Z
LAST-MODIFIED:20240924T154443Z
UID:10000464-1727740800-1730419199@lafayettefirst.life
SUMMARY:Pastor Appreciation
DESCRIPTION:October is Pastor Appreciation Month.  Be sure to let our pastors know how much they are appreciated!
URL:https://lafayettefirst.life/event/pastor-appreciation/
LOCATION:LaFayette First Baptist\, 201 N Main Street\, Lafayette\, GA\, 30728\, United States
ATTACH;FMTTYPE=image/jpeg:https://lafayettefirst.life/wp-content/uploads/2024/09/pastor_appreciation.jpg
ORGANIZER;CN="LaFayette First":MAILTO:info@lafayettefirst.life
END:VEVENT
BEGIN:VEVENT
DTSTART;TZID=UTC:20241001T180000
DTEND;TZID=UTC:20241001T190000
DTSTAMP:20260425T134853
CREATED:20240723T153921Z
LAST-MODIFIED:20240908T025532Z
UID:10000391-1727805600-1727809200@lafayettefirst.life
SUMMARY:Ladies Bible Study: Alive
DESCRIPTION:
URL:https://lafayettefirst.life/event/ladies-bible-study-alive/2024-10-01/
LOCATION:LaFayette First Baptist\, 201 N Main Street\, Lafayette\, GA\, 30728\, United States
ATTACH;FMTTYPE=image/jpeg:https://lafayettefirst.life/wp-content/uploads/2024/07/Ladies-Bible-Study-Alive-scaled.jpg
ORGANIZER;CN="LaFayette First":MAILTO:info@lafayettefirst.life
END:VEVENT
END:VCALENDAR