BEGIN:VCALENDAR
VERSION:2.0
PRODID:-//LaFayette First - ECPv6.15.20//NONSGML v1.0//EN
CALSCALE:GREGORIAN
METHOD:PUBLISH
X-ORIGINAL-URL:https://lafayettefirst.life
X-WR-CALDESC:Events for LaFayette First
REFRESH-INTERVAL;VALUE=DURATION:PT1H
X-Robots-Tag:noindex
X-PUBLISHED-TTL:PT1H
BEGIN:VTIMEZONE
TZID:UTC
BEGIN:STANDARD
TZOFFSETFROM:+0000
TZOFFSETTO:+0000
TZNAME:UTC
DTSTART:20230101T000000
END:STANDARD
END:VTIMEZONE
BEGIN:VEVENT
DTSTART;VALUE=DATE:20240822
DTEND;VALUE=DATE:20241102
DTSTAMP:20260425T151733
CREATED:20240822T134232Z
LAST-MODIFIED:20240822T134313Z
UID:10000368-1724284800-1730505599@lafayettefirst.life
SUMMARY:Christmas Backpacks
DESCRIPTION:
URL:https://lafayettefirst.life/event/christmas-backpacks/
LOCATION:LaFayette First Baptist\, 201 N Main Street\, Lafayette\, GA\, 30728\, United States
ATTACH;FMTTYPE=image/jpeg:https://lafayettefirst.life/wp-content/uploads/2024/08/backpacks-for-appalachia-scaled.jpg
ORGANIZER;CN="LaFayette First":MAILTO:info@lafayettefirst.life
END:VEVENT
BEGIN:VEVENT
DTSTART;VALUE=DATE:20240825
DTEND;VALUE=DATE:20240916
DTSTAMP:20260425T151733
CREATED:20240820T173703Z
LAST-MODIFIED:20240820T174046Z
UID:10000362-1724544000-1726444799@lafayettefirst.life
SUMMARY:Secret Sister Exchange
DESCRIPTION:
URL:https://lafayettefirst.life/event/secret-sister-exchange/
LOCATION:LaFayette First Baptist\, 201 N Main Street\, Lafayette\, GA\, 30728\, United States
ATTACH;FMTTYPE=image/jpeg:https://lafayettefirst.life/wp-content/uploads/2024/08/Secret-Sister-2024-scaled.jpg
ORGANIZER;CN="LaFayette First":MAILTO:info@lafayettefirst.life
END:VEVENT
BEGIN:VEVENT
DTSTART;TZID=UTC:20240908T120000
DTEND;TZID=UTC:20240908T130000
DTSTAMP:20260425T151733
CREATED:20240820T164624Z
LAST-MODIFIED:20240820T164717Z
UID:10000360-1725796800-1725800400@lafayettefirst.life
SUMMARY:Retirement Appreciation
DESCRIPTION:
URL:https://lafayettefirst.life/event/retirement-appreciation/
LOCATION:LaFayette First Baptist\, 201 N Main Street\, Lafayette\, GA\, 30728\, United States
ORGANIZER;CN="LaFayette First":MAILTO:info@lafayettefirst.life
END:VEVENT
BEGIN:VEVENT
DTSTART;TZID=UTC:20240908T180000
DTEND;TZID=UTC:20240908T200000
DTSTAMP:20260425T151733
CREATED:20240731T153332Z
LAST-MODIFIED:20240731T153408Z
UID:10000358-1725818400-1725825600@lafayettefirst.life
SUMMARY:Community Faith Night
DESCRIPTION:More info and time coming soon!
URL:https://lafayettefirst.life/event/community-faith-night/
LOCATION:LaFayette First Baptist\, 201 N Main Street\, Lafayette\, GA\, 30728\, United States
ORGANIZER;CN="LaFayette First":MAILTO:info@lafayettefirst.life
END:VEVENT
END:VCALENDAR