BEGIN:VCALENDAR
VERSION:2.0
PRODID:-//LaFayette First - ECPv6.15.20//NONSGML v1.0//EN
CALSCALE:GREGORIAN
METHOD:PUBLISH
X-WR-CALNAME:LaFayette First
X-ORIGINAL-URL:https://lafayettefirst.life
X-WR-CALDESC:Events for LaFayette First
REFRESH-INTERVAL;VALUE=DURATION:PT1H
X-Robots-Tag:noindex
X-PUBLISHED-TTL:PT1H
BEGIN:VTIMEZONE
TZID:UTC
BEGIN:STANDARD
TZOFFSETFROM:+0000
TZOFFSETTO:+0000
TZNAME:UTC
DTSTART:20230101T000000
END:STANDARD
END:VTIMEZONE
BEGIN:VEVENT
DTSTART;VALUE=DATE:20240710
DTEND;VALUE=DATE:20240901
DTSTAMP:20260425T164729
CREATED:20240710T170237Z
LAST-MODIFIED:20240731T154934Z
UID:10000343-1720569600-1725148799@lafayettefirst.life
SUMMARY:Community Baby Shower
DESCRIPTION:
URL:https://lafayettefirst.life/event/community-baby-shower/
LOCATION:LaFayette First Baptist\, 201 N Main Street\, Lafayette\, GA\, 30728\, United States
ATTACH;FMTTYPE=image/jpeg:https://lafayettefirst.life/wp-content/uploads/2024/07/community-baby-shower-2024-scaled.jpg
ORGANIZER;CN="LaFayette First":MAILTO:info@lafayettefirst.life
END:VEVENT
BEGIN:VEVENT
DTSTART;TZID=UTC:20240821T173000
DTEND;TZID=UTC:20240821T193000
DTSTAMP:20260425T164729
CREATED:20240723T161622Z
LAST-MODIFIED:20240723T161622Z
UID:10000350-1724261400-1724268600@lafayettefirst.life
SUMMARY:Youth B2S Bash!
DESCRIPTION:
URL:https://lafayettefirst.life/event/youth-b2s-bash/
LOCATION:LaFayette First Baptist\, 201 N Main Street\, Lafayette\, GA\, 30728\, United States
ATTACH;FMTTYPE=image/jpeg:https://lafayettefirst.life/wp-content/uploads/2024/07/Youth-B2S-Bash-2024.jpg
ORGANIZER;CN="LaFayette First":MAILTO:info@lafayettefirst.life
END:VEVENT
BEGIN:VEVENT
DTSTART;TZID=UTC:20240821T180000
DTEND;TZID=UTC:20240821T190000
DTSTAMP:20260425T164729
CREATED:20240731T152353Z
LAST-MODIFIED:20240731T152353Z
UID:10000356-1724263200-1724266800@lafayettefirst.life
SUMMARY:Kids Missions
DESCRIPTION:
URL:https://lafayettefirst.life/event/kids-missions/
LOCATION:LaFayette First Baptist\, 201 N Main Street\, Lafayette\, GA\, 30728\, United States
ATTACH;FMTTYPE=image/jpeg:https://lafayettefirst.life/wp-content/uploads/2024/07/Kids-Wednesday-Classes-scaled.jpg
ORGANIZER;CN="LaFayette First":MAILTO:info@lafayettefirst.life
END:VEVENT
END:VCALENDAR