BEGIN:VCALENDAR
VERSION:2.0
PRODID:-//LaFayette First - ECPv6.15.20//NONSGML v1.0//EN
CALSCALE:GREGORIAN
METHOD:PUBLISH
X-ORIGINAL-URL:https://lafayettefirst.life
X-WR-CALDESC:Events for LaFayette First
REFRESH-INTERVAL;VALUE=DURATION:PT1H
X-Robots-Tag:noindex
X-PUBLISHED-TTL:PT1H
BEGIN:VTIMEZONE
TZID:UTC
BEGIN:STANDARD
TZOFFSETFROM:+0000
TZOFFSETTO:+0000
TZNAME:UTC
DTSTART:20230101T000000
END:STANDARD
END:VTIMEZONE
BEGIN:VEVENT
DTSTART;TZID=UTC:20240707T173000
DTEND;TZID=UTC:20240710T203000
DTSTAMP:20260425T181109
CREATED:20240430T171552Z
LAST-MODIFIED:20240603T133433Z
UID:10000319-1720373400-1720643400@lafayettefirst.life
SUMMARY:Airborne!
DESCRIPTION:A fun camp for kids who have COMPLETED K-5th grade!  Children choose their track (one for whole week) for camp:  Baseball/Softball\, Soccer\, Tennis\, Cooking\, Sewing\, Art\, Dance\, Taekwondo\, Outdoor adventure\, or Engineering.  Dinner served nightly.  Camp is Sunday\, July 7 to Wednesday\, July 10.  Register each child who will participate. \nIf you’d like to help with Camp\, register yourself as a Volunteer and choose which areas you might be interested in helping.  Our children’s director will contact you before camp to confirm where you’ll serve.
URL:https://lafayettefirst.life/event/airborne/
LOCATION:LaFayette First Baptist\, 201 N Main Street\, Lafayette\, GA\, 30728\, United States
ATTACH;FMTTYPE=image/jpeg:https://lafayettefirst.life/wp-content/uploads/2024/04/Camp-Airborne-2024-scaled.jpg
ORGANIZER;CN="LaFayette First":MAILTO:info@lafayettefirst.life
END:VEVENT
END:VCALENDAR