BEGIN:VCALENDAR
VERSION:2.0
PRODID:-//LaFayette First - ECPv6.15.20//NONSGML v1.0//EN
CALSCALE:GREGORIAN
METHOD:PUBLISH
X-ORIGINAL-URL:https://lafayettefirst.life
X-WR-CALDESC:Events for LaFayette First
REFRESH-INTERVAL;VALUE=DURATION:PT1H
X-Robots-Tag:noindex
X-PUBLISHED-TTL:PT1H
BEGIN:VTIMEZONE
TZID:UTC
BEGIN:STANDARD
TZOFFSETFROM:+0000
TZOFFSETTO:+0000
TZNAME:UTC
DTSTART:20230101T000000
END:STANDARD
END:VTIMEZONE
BEGIN:VEVENT
DTSTART;VALUE=DATE:20240505
DTEND;VALUE=DATE:20240506
DTSTAMP:20260426T001524
CREATED:20240430T165732Z
LAST-MODIFIED:20240430T165806Z
UID:10000316-1714867200-1714953599@lafayettefirst.life
SUMMARY:Mother's Day Flowers Deadline
DESCRIPTION:The flowers will be on display in our church sanctuary on Mother’s Day\, May 12th. \nYou may call the church office to order or online at the link below.
URL:https://lafayettefirst.life/event/mothers-day-flowers-deadline/
LOCATION:LaFayette First Baptist\, 201 N Main Street\, Lafayette\, GA\, 30728\, United States
ATTACH;FMTTYPE=image/jpeg:https://lafayettefirst.life/wp-content/uploads/2024/04/mothers-day-flowers-scaled.jpg
ORGANIZER;CN="LaFayette First":MAILTO:info@lafayettefirst.life
END:VEVENT
BEGIN:VEVENT
DTSTART;TZID=UTC:20240505T110000
DTEND;TZID=UTC:20240505T120000
DTSTAMP:20260426T001524
CREATED:20240429T171216Z
LAST-MODIFIED:20240429T171253Z
UID:10000311-1714906800-1714910400@lafayettefirst.life
SUMMARY:Senior Recognition
DESCRIPTION:Email Amber at amber@lafayettefirst.life
URL:https://lafayettefirst.life/event/senior-recognition/
LOCATION:LaFayette First Baptist\, 201 N Main Street\, Lafayette\, GA\, 30728\, United States
ATTACH;FMTTYPE=image/jpeg:https://lafayettefirst.life/wp-content/uploads/2024/04/senior-recognition-2024-scaled.jpg
ORGANIZER;CN="LaFayette First":MAILTO:info@lafayettefirst.life
END:VEVENT
BEGIN:VEVENT
DTSTART;TZID=UTC:20240505T170000
DTEND;TZID=UTC:20240505T173000
DTSTAMP:20260426T001524
CREATED:20240429T170004Z
LAST-MODIFIED:20240429T170036Z
UID:10000309-1714928400-1714930200@lafayettefirst.life
SUMMARY:Deacon Ordination
DESCRIPTION:
URL:https://lafayettefirst.life/event/deacon-ordination-3/
LOCATION:LaFayette First Baptist\, 201 N Main Street\, Lafayette\, GA\, 30728\, United States
ATTACH;FMTTYPE=image/jpeg:https://lafayettefirst.life/wp-content/uploads/2024/04/Ordination-2024-scaled.jpg
ORGANIZER;CN="LaFayette First":MAILTO:info@lafayettefirst.life
END:VEVENT
BEGIN:VEVENT
DTSTART;TZID=UTC:20240505T180000
DTEND;TZID=UTC:20240505T190000
DTSTAMP:20260426T001524
CREATED:20240429T170315Z
LAST-MODIFIED:20240429T170456Z
UID:10000310-1714932000-1714935600@lafayettefirst.life
SUMMARY:Dessert Social
DESCRIPTION:
URL:https://lafayettefirst.life/event/dessert-social/
LOCATION:LaFayette First Baptist\, 201 N Main Street\, Lafayette\, GA\, 30728\, United States
ATTACH;FMTTYPE=image/jpeg:https://lafayettefirst.life/wp-content/uploads/2024/04/Dessert-Social-scaled.jpg
ORGANIZER;CN="LaFayette First":MAILTO:info@lafayettefirst.life
END:VEVENT
END:VCALENDAR