BEGIN:VCALENDAR
VERSION:2.0
PRODID:-//LaFayette First - ECPv6.15.20//NONSGML v1.0//EN
CALSCALE:GREGORIAN
METHOD:PUBLISH
X-ORIGINAL-URL:https://lafayettefirst.life
X-WR-CALDESC:Events for LaFayette First
REFRESH-INTERVAL;VALUE=DURATION:PT1H
X-Robots-Tag:noindex
X-PUBLISHED-TTL:PT1H
BEGIN:VTIMEZONE
TZID:UTC
BEGIN:STANDARD
TZOFFSETFROM:+0000
TZOFFSETTO:+0000
TZNAME:UTC
DTSTART:20230101T000000
END:STANDARD
END:VTIMEZONE
BEGIN:VEVENT
DTSTART;TZID=UTC:20240501T171500
DTEND;TZID=UTC:20240501T191500
DTSTAMP:20260426T000742
CREATED:20240419T181629Z
LAST-MODIFIED:20240419T181719Z
UID:10000308-1714583700-1714590900@lafayettefirst.life
SUMMARY:Argentina Asado Fundraising Meal
DESCRIPTION:Argentina Asado Fundraising Meal\nWednesday\, May 1\n5:15pm\, Fellowship Hall\nMenu:  Steak\, Baked Potato\, Salad\, Allison’s Cookies and Ice Cream. All proceeds of this fundraiser will help cover the cost of those participating in the Argentina Mission Trip. Please pay for your plates online or ahead of time in the church office.  If you’d like to give an extra donation for mission trip\, a donation basket will be available at the door.  Deadline to register is Sunday\, April 28.
URL:https://lafayettefirst.life/event/argentina-asado-fundraising-meal/
LOCATION:LaFayette First Baptist\, 201 N Main Street\, Lafayette\, GA\, 30728\, United States
ATTACH;FMTTYPE=image/jpeg:https://lafayettefirst.life/wp-content/uploads/2024/04/Argentina-Asado-Fundraising-Meal-2-scaled.jpg
ORGANIZER;CN="LaFayette First":MAILTO:info@lafayettefirst.life
END:VEVENT
END:VCALENDAR