BEGIN:VCALENDAR
VERSION:2.0
PRODID:-//LaFayette First - ECPv6.15.20//NONSGML v1.0//EN
CALSCALE:GREGORIAN
METHOD:PUBLISH
X-ORIGINAL-URL:https://lafayettefirst.life
X-WR-CALDESC:Events for LaFayette First
REFRESH-INTERVAL;VALUE=DURATION:PT1H
X-Robots-Tag:noindex
X-PUBLISHED-TTL:PT1H
BEGIN:VTIMEZONE
TZID:UTC
BEGIN:STANDARD
TZOFFSETFROM:+0000
TZOFFSETTO:+0000
TZNAME:UTC
DTSTART:20230101T000000
END:STANDARD
END:VTIMEZONE
BEGIN:VEVENT
DTSTART;TZID=UTC:20240413T140000
DTEND;TZID=UTC:20240413T170000
DTSTAMP:20260426T013514
CREATED:20240301T150750Z
LAST-MODIFIED:20240301T150753Z
UID:10000285-1713016800-1713027600@lafayettefirst.life
SUMMARY:J.O.Y. Event: Tunnel Hill Shindig
DESCRIPTION:This event has been filled!  You may call the church office to be put on a waiting list if you like. \nAll senior adults are invited to join us for a high-energy Pigeon Forge style variety show at The Colonnade in Ringgold on Saturday\, April 13 at 2pm.  Tickets are $15. .  Dinner after the show at your own cost.
URL:https://lafayettefirst.life/event/j-o-y-event-tunnel-hill-shindig-2/
LOCATION:The Colonnade\, 264 Catoosa Circle\, Ringgold\, GA\, 30736\, United States
ATTACH;FMTTYPE=image/jpeg:https://lafayettefirst.life/wp-content/uploads/2024/02/Tunnel-Hill-Shindig-scaled.jpg
ORGANIZER;CN="LaFayette First":MAILTO:info@lafayettefirst.life
END:VEVENT
END:VCALENDAR