BEGIN:VCALENDAR
VERSION:2.0
PRODID:-//LaFayette First - ECPv6.15.20//NONSGML v1.0//EN
CALSCALE:GREGORIAN
METHOD:PUBLISH
X-WR-CALNAME:LaFayette First
X-ORIGINAL-URL:https://lafayettefirst.life
X-WR-CALDESC:Events for LaFayette First
REFRESH-INTERVAL;VALUE=DURATION:PT1H
X-Robots-Tag:noindex
X-PUBLISHED-TTL:PT1H
BEGIN:VTIMEZONE
TZID:UTC
BEGIN:STANDARD
TZOFFSETFROM:+0000
TZOFFSETTO:+0000
TZNAME:UTC
DTSTART:20230101T000000
END:STANDARD
END:VTIMEZONE
BEGIN:VEVENT
DTSTART;TZID=UTC:20240316T110000
DTEND;TZID=UTC:20240316T130000
DTSTAMP:20260426T030047
CREATED:20240219T172932Z
LAST-MODIFIED:20240219T172957Z
UID:10000290-1710586800-1710594000@lafayettefirst.life
SUMMARY:Women's Ministry Luncheon
DESCRIPTION:Women’s Ministry “Renew Me” Luncheon is for women of all ages.  Alisha Reagan will be our guest speaker and Heather Baker will bless us through song. \nCost is $15/person until March 10\, $20 after that so don’t delay in signing up!  Bring a friend with you!
URL:https://lafayettefirst.life/event/womens-ministry-luncheon-2/
LOCATION:LaFayette First Baptist\, 201 N Main Street\, Lafayette\, GA\, 30728\, United States
ATTACH;FMTTYPE=image/jpeg:https://lafayettefirst.life/wp-content/uploads/2024/02/Womens-Min-Luncheon-1-scaled.jpg
ORGANIZER;CN="LaFayette First":MAILTO:info@lafayettefirst.life
END:VEVENT
END:VCALENDAR