BEGIN:VCALENDAR
VERSION:2.0
PRODID:-//LaFayette First - ECPv6.15.20//NONSGML v1.0//EN
CALSCALE:GREGORIAN
METHOD:PUBLISH
X-ORIGINAL-URL:https://lafayettefirst.life
X-WR-CALDESC:Events for LaFayette First
REFRESH-INTERVAL;VALUE=DURATION:PT1H
X-Robots-Tag:noindex
X-PUBLISHED-TTL:PT1H
BEGIN:VTIMEZONE
TZID:UTC
BEGIN:STANDARD
TZOFFSETFROM:+0000
TZOFFSETTO:+0000
TZNAME:UTC
DTSTART:20230101T000000
END:STANDARD
END:VTIMEZONE
BEGIN:VEVENT
DTSTART;TZID=UTC:20240310T100000
DTEND;TZID=UTC:20240310T104500
DTSTAMP:20260426T030045
CREATED:20240220T145453Z
LAST-MODIFIED:20240220T145716Z
UID:10000294-1710064800-1710067500@lafayettefirst.life
SUMMARY:Belong Class
DESCRIPTION:Are you a new member of LaFayette First or you’ve been visiting for awhile and would like to learn more about becoming a member?  This class is for you! \nFor 3 weeks during the Connect Group hour at 10 AM\, you’ll learn about the life of the church and how you can find your place here.  Class will meet in the Choir Room\, near the men’s restroom on the sanctuary floor and across from the Church Office. \nPlease sign up if you plan to attend or let the church office know @ 706-638-3727. \nLooking forward to seeing you!
URL:https://lafayettefirst.life/event/belong-class-2/
LOCATION:LaFayette First Baptist\, 201 N Main Street\, Lafayette\, GA\, 30728\, United States
ATTACH;FMTTYPE=image/jpeg:https://lafayettefirst.life/wp-content/uploads/2024/02/Belong-March-24-updated-scaled.jpg
ORGANIZER;CN="LaFayette First":MAILTO:info@lafayettefirst.life
END:VEVENT
BEGIN:VEVENT
DTSTART;TZID=UTC:20240310T170000
DTEND;TZID=UTC:20240310T180000
DTSTAMP:20260426T030045
CREATED:20240216T151013Z
LAST-MODIFIED:20240216T151038Z
UID:10000289-1710090000-1710093600@lafayettefirst.life
SUMMARY:Ann-X Games
DESCRIPTION:AnnX Games will be a fun night of fellowship with our church family while watching and competing in different tournaments.  Tournaments are open to 6th graders to 100  year olds!  Choose from Ping Pong\, Pool\, Air Hockey\, and Foosball….compete in one\, or all four!  Register now and choose which tournaments you’d like to enter\, or sign up the night of. \nDon’t play?  No worries!  Come hang out with the fam and watch the fun!
URL:https://lafayettefirst.life/event/ann-x-games/
LOCATION:LaFayette First Baptist\, 201 N Main Street\, Lafayette\, GA\, 30728\, United States
ATTACH;FMTTYPE=image/jpeg:https://lafayettefirst.life/wp-content/uploads/2024/02/Annex-Games-scaled.jpg
ORGANIZER;CN="LaFayette First":MAILTO:info@lafayettefirst.life
END:VEVENT
END:VCALENDAR