BEGIN:VCALENDAR
VERSION:2.0
PRODID:-//LaFayette First - ECPv6.15.20//NONSGML v1.0//EN
CALSCALE:GREGORIAN
METHOD:PUBLISH
X-ORIGINAL-URL:https://lafayettefirst.life
X-WR-CALDESC:Events for LaFayette First
REFRESH-INTERVAL;VALUE=DURATION:PT1H
X-Robots-Tag:noindex
X-PUBLISHED-TTL:PT1H
BEGIN:VTIMEZONE
TZID:UTC
BEGIN:STANDARD
TZOFFSETFROM:+0000
TZOFFSETTO:+0000
TZNAME:UTC
DTSTART:20230101T000000
END:STANDARD
END:VTIMEZONE
BEGIN:VEVENT
DTSTART;TZID=UTC:20240301T170000
DTEND;TZID=UTC:20240301T190000
DTSTAMP:20260426T030045
CREATED:20240216T143816Z
LAST-MODIFIED:20240216T143848Z
UID:10000288-1709312400-1709319600@lafayettefirst.life
SUMMARY:Father Daughter Date Night
DESCRIPTION:Once Upon a Time…\nAll generations of fathers & daughters are invited to a fun date night with dinner (kid friendly) and fun activities dressed in your best royal attire.  Free event.  Sign up by Friday\, March 1.
URL:https://lafayettefirst.life/event/father-daughter-date-night/
LOCATION:LaFayette First Baptist\, 201 N Main Street\, Lafayette\, GA\, 30728\, United States
ATTACH;FMTTYPE=image/jpeg:https://lafayettefirst.life/wp-content/uploads/2024/02/Daddy-Daughter-Date-Night-2024-scaled.jpg
ORGANIZER;CN="LaFayette First":MAILTO:info@lafayettefirst.life
END:VEVENT
END:VCALENDAR